{"text_format":"3","workbook":"xlsx","n_sheets":1,"sheets":["Sheet1"],"not_rendered":{"external_links":1,"defined_names":1},"read":"whole","date_system":"1900"}

{"sheet":"Sheet1","index":0,"n_rows":1045,"n_cols":10,"rows_kept":1045}
["序号","项目/房号","项目","项目所在区","顶底","楼栋","单元","楼层","室号","面积"]
[1,"春晖园西苑/住宅-B6-3-301","春晖园西苑","爱民区",null,"B6",3,3,"01",82.33]
[2,"春晖园西苑/住宅-A1-1-1101","春晖园西苑","爱民区",null,{"$f":"VLOOKUP(B3,[1]销控总表!E$2:V$50200,12,0)","v":"A1"},{"$f":"VLOOKUP(B3,[1]销控总表!E$2:V$50200,13,0)","v":1},{"$f":"VLOOKUP(B3,[1]销控总表!E$2:V$50200,14,0)","v":11},{"$f":"VLOOKUP(B3,[1]销控总表!E$2:V$50200,15,0)","v":"01"},73.21]
[3,"春晖园西苑/住宅-A1-1-1103","春晖园西苑","爱民区",null,{"$f":"VLOOKUP(B4,[1]销控总表!E$2:V$50200,12,0)","v":"A1"},{"$f":"VLOOKUP(B4,[1]销控总表!E$2:V$50200,13,0)","v":1},{"$f":"VLOOKUP(B4,[1]销控总表!E$2:V$50200,14,0)","v":11},{"$f":"VLOOKUP(B4,[1]销控总表!E$2:V$50200,15,0)","v":"03"},{"v":72.6,"d":"72.60"}]
[4,"春晖园西苑/住宅-A9-3-602","春晖园西苑","爱民区",null,{"$f":"VLOOKUP(B5,[1]销控总表!E$2:V$50200,12,0)","v":"A9"},{"$f":"VLOOKUP(B5,[1]销控总表!E$2:V$50200,13,0)","v":3},{"$f":"VLOOKUP(B5,[1]销控总表!E$2:V$50200,14,0)","v":6},{"$f":"VLOOKUP(B5,[1]销控总表!E$2:V$50200,15,0)","v":"02"},81.09]
[5,"春晖园西苑/住宅-A15-4-604","春晖园西苑","爱民区",null,{"$f":"VLOOKUP(B6,[1]销控总表!E$2:V$50200,12,0)","v":"A15"},{"$f":"VLOOKUP(B6,[1]销控总表!E$2:V$50200,13,0)","v":4},{"$f":"VLOOKUP(B6,[1]销控总表!E$2:V$50200,14,0)","v":6},{"$f":"VLOOKUP(B6,[1]销控总表!E$2:V$50200,15,0)","v":"04"},62.97]
[6,"春晖园西苑/住宅-A16-1-601","春晖园西苑","爱民区",null,{"$f":"VLOOKUP(B7,[1]销控总表!E$2:V$50200,12,0)","v":"A16"},{"$f":"VLOOKUP(B7,[1]销控总表!E$2:V$50200,13,0)","v":1},{"$f":"VLOOKUP(B7,[1]销控总表!E$2:V$50200,14,0)","v":6},{"$f":"VLOOKUP(B7,[1]销控总表!E$2:V$50200,15,0)","v":"01"},{"v":73.3,"d":"73.30"}]
[7,"春晖园西苑/住宅-A16-2-601","春晖园西苑","爱民区",null,{"$f":"VLOOKUP(B8,[1]销控总表!E$2:V$50200,12,0)","v":"A16"},{"$f":"VLOOKUP(B8,[1]销控总表!E$2:V$50200,13,0)","v":2},{"$f":"VLOOKUP(B8,[1]销控总表!E$2:V$50200,14,0)","v":6},{"$f":"VLOOKUP(B8,[1]销控总表!E$2:V$50200,15,0)","v":"01"},{"v":73.3,"d":"73.30"}]
[8,"春晖园西苑/住宅-A16-3-602","春晖园西苑","爱民区",null,{"$f":"VLOOKUP(B9,[1]销控总表!E$2:V$50200,12,0)","v":"A16"},{"$f":"VLOOKUP(B9,[1]销控总表!E$2:V$50200,13,0)","v":3},{"$f":"VLOOKUP(B9,[1]销控总表!E$2:V$50200,14,0)","v":6},{"$f":"VLOOKUP(B9,[1]销控总表!E$2:V$50200,15,0)","v":"02"},{"v":73.3,"d":"73.30"}]
[9,"春晖园西苑/住宅-A16-4-601","春晖园西苑","爱民区",null,{"$f":"VLOOKUP(B10,[1]销控总表!E$2:V$50200,12,0)","v":"A16"},{"$f":"VLOOKUP(B10,[1]销控总表!E$2:V$50200,13,0)","v":4},{"$f":"VLOOKUP(B10,[1]销控总表!E$2:V$50200,14,0)","v":6},{"$f":"VLOOKUP(B10,[1]销控总表!E$2:V$50200,15,0)","v":"01"},{"v":71.5,"d":"71.50"}]
[10,"春晖园西苑/住宅-A16-4-602","春晖园西苑","爱民区",null,{"$f":"VLOOKUP(B11,[1]销控总表!E$2:V$50200,12,0)","v":"A16"},{"$f":"VLOOKUP(B11,[1]销控总表!E$2:V$50200,13,0)","v":4},{"$f":"VLOOKUP(B11,[1]销控总表!E$2:V$50200,14,0)","v":6},{"$f":"VLOOKUP(B11,[1]销控总表!E$2:V$50200,15,0)","v":"02"},{"v":73.3,"d":"73.30"}]
[11,"春晖园西苑/住宅-A17-1-601","春晖园西苑","爱民区",null,{"$f":"VLOOKUP(B12,[1]销控总表!E$2:V$50200,12,0)","v":"A17"},{"$f":"VLOOKUP(B12,[1]销控总表!E$2:V$50200,13,0)","v":1},{"$f":"VLOOKUP(B12,[1]销控总表!E$2:V$50200,14,0)","v":6},{"$f":"VLOOKUP(B12,[1]销控总表!E$2:V$50200,15,0)","v":"01"},66.78]
[12,"春晖园西苑/住宅-A17-1-602","春晖园西苑","爱民区",null,{"$f":"VLOOKUP(B13,[1]销控总表!E$2:V$50200,12,0)","v":"A17"},{"$f":"VLOOKUP(B13,[1]销控总表!E$2:V$50200,13,0)","v":1},{"$f":"VLOOKUP(B13,[1]销控总表!E$2:V$50200,14,0)","v":6},{"$f":"VLOOKUP(B13,[1]销控总表!E$2:V$50200,15,0)","v":"02"},{"v":69.2,"d":"69.20"}]
[13,"春晖园西苑/住宅-A17-3-601","春晖园西苑","爱民区",null,{"$f":"VLOOKUP(B14,[1]销控总表!E$2:V$50200,12,0)","v":"A17"},{"$f":"VLOOKUP(B14,[1]销控总表!E$2:V$50200,13,0)","v":3},{"$f":"VLOOKUP(B14,[1]销控总表!E$2:V$50200,14,0)","v":6},{"$f":"VLOOKUP(B14,[1]销控总表!E$2:V$50200,15,0)","v":"01"},{"v":69.2,"d":"69.20"}]
[14,"春晖园西苑/住宅-A17-4-601","春晖园西苑","爱民区",null,{"$f":"VLOOKUP(B15,[1]销控总表!E$2:V$50200,12,0)","v":"A17"},{"$f":"VLOOKUP(B15,[1]销控总表!E$2:V$50200,13,0)","v":4},{"$f":"VLOOKUP(B15,[1]销控总表!E$2:V$50200,14,0)","v":6},{"$f":"VLOOKUP(B15,[1]销控总表!E$2:V$50200,15,0)","v":"01"},{"v":69.2,"d":"69.20"}]
[15,"春晖园西苑/住宅-A18-1-403","春晖园西苑","爱民区",null,{"$f":"VLOOKUP(B16,[1]销控总表!E$2:V$50200,12,0)","v":"A18"},{"$f":"VLOOKUP(B16,[1]销控总表!E$2:V$50200,13,0)","v":1},{"$f":"VLOOKUP(B16,[1]销控总表!E$2:V$50200,14,0)","v":4},{"$f":"VLOOKUP(B16,[1]销控总表!E$2:V$50200,15,0)","v":"03"},78.63]
[16,"春晖园西苑/住宅-A18-1-303","春晖园西苑","爱民区",null,{"$f":"VLOOKUP(B17,[1]销控总表!E$2:V$50200,12,0)","v":"A18"},{"$f":"VLOOKUP(B17,[1]销控总表!E$2:V$50200,13,0)","v":1},{"$f":"VLOOKUP(B17,[1]销控总表!E$2:V$50200,14,0)","v":3},{"$f":"VLOOKUP(B17,[1]销控总表!E$2:V$50200,15,0)","v":"03"},78.63]
[17,"春晖园西苑/住宅-A18-1-203","春晖园西苑","爱民区",{"$f":"VLOOKUP(B18,[1]销控总表!E$2:V$50200,10,0)","v":"商底层"},{"$f":"VLOOKUP(B18,[1]销控总表!E$2:V$50200,12,0)","v":"A18"},{"$f":"VLOOKUP(B18,[1]销控总表!E$2:V$50200,13,0)","v":1},{"$f":"VLOOKUP(B18,[1]销控总表!E$2:V$50200,14,0)","v":2},{"$f":"VLOOKUP(B18,[1]销控总表!E$2:V$50200,15,0)","v":"03"},78.63]
[18,"春晖园西苑/住宅-A18-2-1301","春晖园西苑","爱民区",null,{"$f":"VLOOKUP(B19,[1]销控总表!E$2:V$50200,12,0)","v":"A18"},{"$f":"VLOOKUP(B19,[1]销控总表!E$2:V$50200,13,0)","v":2},{"$f":"VLOOKUP(B19,[1]销控总表!E$2:V$50200,14,0)","v":13},{"$f":"VLOOKUP(B19,[1]销控总表!E$2:V$50200,15,0)","v":"01"},74.59]
[19,"春晖园西苑/住宅-A18-3-1601","春晖园西苑","爱民区",null,{"$f":"VLOOKUP(B20,[1]销控总表!E$2:V$50200,12,0)","v":"A18"},{"$f":"VLOOKUP(B20,[1]销控总表!E$2:V$50200,13,0)","v":3},{"$f":"VLOOKUP(B20,[1]销控总表!E$2:V$50200,14,0)","v":16},{"$f":"VLOOKUP(B20,[1]销控总表!E$2:V$50200,15,0)","v":"01"},74.53]
[20,"春晖园西苑/住宅-A18-3-1603","春晖园西苑","爱民区",null,{"$f":"VLOOKUP(B21,[1]销控总表!E$2:V$50200,12,0)","v":"A18"},{"$f":"VLOOKUP(B21,[1]销控总表!E$2:V$50200,13,0)","v":3},{"$f":"VLOOKUP(B21,[1]销控总表!E$2:V$50200,14,0)","v":16},{"$f":"VLOOKUP(B21,[1]销控总表!E$2:V$50200,15,0)","v":"03"},74.59]
[21,"春晖园西苑/住宅-A18-3-1401","春晖园西苑","爱民区",null,{"$f":"VLOOKUP(B22,[1]销控总表!E$2:V$50200,12,0)","v":"A18"},{"$f":"VLOOKUP(B22,[1]销控总表!E$2:V$50200,13,0)","v":3},{"$f":"VLOOKUP(B22,[1]销控总表!E$2:V$50200,14,0)","v":14},{"$f":"VLOOKUP(B22,[1]销控总表!E$2:V$50200,15,0)","v":"01"},74.53]
[22,"春晖园西苑/住宅-A18-3-1403","春晖园西苑","爱民区",null,{"$f":"VLOOKUP(B23,[1]销控总表!E$2:V$50200,12,0)","v":"A18"},{"$f":"VLOOKUP(B23,[1]销控总表!E$2:V$50200,13,0)","v":3},{"$f":"VLOOKUP(B23,[1]销控总表!E$2:V$50200,14,0)","v":14},{"$f":"VLOOKUP(B23,[1]销控总表!E$2:V$50200,15,0)","v":"03"},74.59]
[23,"春晖园西苑/住宅-A18-3-1301","春晖园西苑","爱民区",null,{"$f":"VLOOKUP(B24,[1]销控总表!E$2:V$50200,12,0)","v":"A18"},{"$f":"VLOOKUP(B24,[1]销控总表!E$2:V$50200,13,0)","v":3},{"$f":"VLOOKUP(B24,[1]销控总表!E$2:V$50200,14,0)","v":13},{"$f":"VLOOKUP(B24,[1]销控总表!E$2:V$50200,15,0)","v":"01"},74.53]
[24,"春晖园西苑/住宅-A18-3-1203","春晖园西苑","爱民区",null,{"$f":"VLOOKUP(B25,[1]销控总表!E$2:V$50200,12,0)","v":"A18"},{"$f":"VLOOKUP(B25,[1]销控总表!E$2:V$50200,13,0)","v":3},{"$f":"VLOOKUP(B25,[1]销控总表!E$2:V$50200,14,0)","v":12},{"$f":"VLOOKUP(B25,[1]销控总表!E$2:V$50200,15,0)","v":"03"},74.59]
[25,"春晖园西苑/住宅-A20-1-1401","春晖园西苑","爱民区",null,{"$f":"VLOOKUP(B26,[1]销控总表!E$2:V$50200,12,0)","v":"A20"},{"$f":"VLOOKUP(B26,[1]销控总表!E$2:V$50200,13,0)","v":1},{"$f":"VLOOKUP(B26,[1]销控总表!E$2:V$50200,14,0)","v":14},{"$f":"VLOOKUP(B26,[1]销控总表!E$2:V$50200,15,0)","v":"01"},78.63]
[26,"春晖园西苑/住宅-A20-1-1403","春晖园西苑","爱民区",null,{"$f":"VLOOKUP(B27,[1]销控总表!E$2:V$50200,12,0)","v":"A20"},{"$f":"VLOOKUP(B27,[1]销控总表!E$2:V$50200,13,0)","v":1},{"$f":"VLOOKUP(B27,[1]销控总表!E$2:V$50200,14,0)","v":14},{"$f":"VLOOKUP(B27,[1]销控总表!E$2:V$50200,15,0)","v":"03"},73.26]
[27,"春晖园西苑/住宅-A20-1-1303","春晖园西苑","爱民区",null,{"$f":"VLOOKUP(B28,[1]销控总表!E$2:V$50200,12,0)","v":"A20"},{"$f":"VLOOKUP(B28,[1]销控总表!E$2:V$50200,13,0)","v":1},{"$f":"VLOOKUP(B28,[1]销控总表!E$2:V$50200,14,0)","v":13},{"$f":"VLOOKUP(B28,[1]销控总表!E$2:V$50200,15,0)","v":"03"},73.26]
[28,"春晖园西苑/住宅-A20-1-1203","春晖园西苑","爱民区",null,{"$f":"VLOOKUP(B29,[1]销控总表!E$2:V$50200,12,0)","v":"A20"},{"$f":"VLOOKUP(B29,[1]销控总表!E$2:V$50200,13,0)","v":1},{"$f":"VLOOKUP(B29,[1]销控总表!E$2:V$50200,14,0)","v":12},{"$f":"VLOOKUP(B29,[1]销控总表!E$2:V$50200,15,0)","v":"03"},73.26]
[29,"凤凰城C区/住宅-18-2-801","凤凰城C区","爱民区",null,{"$f":"VLOOKUP(B30,[1]销控总表!E$2:V$50200,12,0)","v":18},{"$f":"VLOOKUP(B30,[1]销控总表!E$2:V$50200,13,0)","v":2},{"$f":"VLOOKUP(B30,[1]销控总表!E$2:V$50200,14,0)","v":8},{"$f":"VLOOKUP(B30,[1]销控总表!E$2:V$50200,15,0)","v":"01"},{"v":82.8,"d":"82.80"}]
[30,"凤凰城C区/住宅-18-2-701","凤凰城C区","爱民区",null,{"$f":"VLOOKUP(B31,[1]销控总表!E$2:V$50200,12,0)","v":18},{"$f":"VLOOKUP(B31,[1]销控总表!E$2:V$50200,13,0)","v":2},{"$f":"VLOOKUP(B31,[1]销控总表!E$2:V$50200,14,0)","v":7},{"$f":"VLOOKUP(B31,[1]销控总表!E$2:V$50200,15,0)","v":"01"},{"v":82.8,"d":"82.80"}]
[31,"凤凰城C区/住宅-18-2-601","凤凰城C区","爱民区",null,{"$f":"VLOOKUP(B32,[1]销控总表!E$2:V$50200,12,0)","v":18},{"$f":"VLOOKUP(B32,[1]销控总表!E$2:V$50200,13,0)","v":2},{"$f":"VLOOKUP(B32,[1]销控总表!E$2:V$50200,14,0)","v":6},{"$f":"VLOOKUP(B32,[1]销控总表!E$2:V$50200,15,0)","v":"01"},{"v":82.8,"d":"82.80"}]
[32,"凤凰城C区/住宅-18-2-401","凤凰城C区","爱民区",null,{"$f":"VLOOKUP(B33,[1]销控总表!E$2:V$50200,12,0)","v":18},{"$f":"VLOOKUP(B33,[1]销控总表!E$2:V$50200,13,0)","v":2},{"$f":"VLOOKUP(B33,[1]销控总表!E$2:V$50200,14,0)","v":4},{"$f":"VLOOKUP(B33,[1]销控总表!E$2:V$50200,15,0)","v":"01"},{"v":82.8,"d":"82.80"}]
[33,"凤凰城C区/住宅-18-2-403","凤凰城C区","爱民区",null,{"$f":"VLOOKUP(B34,[1]销控总表!E$2:V$50200,12,0)","v":18},{"$f":"VLOOKUP(B34,[1]销控总表!E$2:V$50200,13,0)","v":2},{"$f":"VLOOKUP(B34,[1]销控总表!E$2:V$50200,14,0)","v":4},{"$f":"VLOOKUP(B34,[1]销控总表!E$2:V$50200,15,0)","v":"03"},89.17]
[34,"凤凰城C区/住宅-18-2-301","凤凰城C区","爱民区",null,{"$f":"VLOOKUP(B35,[1]销控总表!E$2:V$50200,12,0)","v":18},{"$f":"VLOOKUP(B35,[1]销控总表!E$2:V$50200,13,0)","v":2},{"$f":"VLOOKUP(B35,[1]销控总表!E$2:V$50200,14,0)","v":3},{"$f":"VLOOKUP(B35,[1]销控总表!E$2:V$50200,15,0)","v":"01"},{"v":82.8,"d":"82.80"}]
[35,"凤凰城C区/住宅-18-2-201","凤凰城C区","爱民区",null,{"$f":"VLOOKUP(B36,[1]销控总表!E$2:V$50200,12,0)","v":18},{"$f":"VLOOKUP(B36,[1]销控总表!E$2:V$50200,13,0)","v":2},{"$f":"VLOOKUP(B36,[1]销控总表!E$2:V$50200,14,0)","v":2},{"$f":"VLOOKUP(B36,[1]销控总表!E$2:V$50200,15,0)","v":"01"},{"v":82.8,"d":"82.80"}]
[36,"凤凰城C区/住宅-18-2-202","凤凰城C区","爱民区",null,{"$f":"VLOOKUP(B37,[1]销控总表!E$2:V$50200,12,0)","v":18},{"$f":"VLOOKUP(B37,[1]销控总表!E$2:V$50200,13,0)","v":2},{"$f":"VLOOKUP(B37,[1]销控总表!E$2:V$50200,14,0)","v":2},{"$f":"VLOOKUP(B37,[1]销控总表!E$2:V$50200,15,0)","v":"02"},74.55]
[37,"凤凰城C区/住宅-18-2-101","凤凰城C区","爱民区",{"$f":"VLOOKUP(B38,[1]销控总表!E$2:V$50200,10,0)","v":"底层"},{"$f":"VLOOKUP(B38,[1]销控总表!E$2:V$50200,12,0)","v":18},{"$f":"VLOOKUP(B38,[1]销控总表!E$2:V$50200,13,0)","v":2},{"$f":"VLOOKUP(B38,[1]销控总表!E$2:V$50200,14,0)","v":1},{"$f":"VLOOKUP(B38,[1]销控总表!E$2:V$50200,15,0)","v":"01"},{"v":82.8,"d":"82.80"}]
[38,"凤凰城C区/住宅-18-2-102","凤凰城C区","爱民区",{"$f":"VLOOKUP(B39,[1]销控总表!E$2:V$50200,10,0)","v":"底层"},{"$f":"VLOOKUP(B39,[1]销控总表!E$2:V$50200,12,0)","v":18},{"$f":"VLOOKUP(B39,[1]销控总表!E$2:V$50200,13,0)","v":2},{"$f":"VLOOKUP(B39,[1]销控总表!E$2:V$50200,14,0)","v":1},{"$f":"VLOOKUP(B39,[1]销控总表!E$2:V$50200,15,0)","v":"02"},74.55]
[39,"凤凰城C区/住宅-18-3-1001","凤凰城C区","爱民区",null,{"$f":"VLOOKUP(B40,[1]销控总表!E$2:V$50200,12,0)","v":18},{"$f":"VLOOKUP(B40,[1]销控总表!E$2:V$50200,13,0)","v":3},{"$f":"VLOOKUP(B40,[1]销控总表!E$2:V$50200,14,0)","v":10},{"$f":"VLOOKUP(B40,[1]销控总表!E$2:V$50200,15,0)","v":"01"},81.65]
[40,"凤凰城C区/住宅-18-3-901","凤凰城C区","爱民区",null,{"$f":"VLOOKUP(B41,[1]销控总表!E$2:V$50200,12,0)","v":18},{"$f":"VLOOKUP(B41,[1]销控总表!E$2:V$50200,13,0)","v":3},{"$f":"VLOOKUP(B41,[1]销控总表!E$2:V$50200,14,0)","v":9},{"$f":"VLOOKUP(B41,[1]销控总表!E$2:V$50200,15,0)","v":"01"},81.65]
[41,"凤凰城C区/住宅-18-3-801","凤凰城C区","爱民区",null,{"$f":"VLOOKUP(B42,[1]销控总表!E$2:V$50200,12,0)","v":18},{"$f":"VLOOKUP(B42,[1]销控总表!E$2:V$50200,13,0)","v":3},{"$f":"VLOOKUP(B42,[1]销控总表!E$2:V$50200,14,0)","v":8},{"$f":"VLOOKUP(B42,[1]销控总表!E$2:V$50200,15,0)","v":"01"},81.65]
[42,"凤凰城C区/住宅-18-3-701","凤凰城C区","爱民区",null,{"$f":"VLOOKUP(B43,[1]销控总表!E$2:V$50200,12,0)","v":18},{"$f":"VLOOKUP(B43,[1]销控总表!E$2:V$50200,13,0)","v":3},{"$f":"VLOOKUP(B43,[1]销控总表!E$2:V$50200,14,0)","v":7},{"$f":"VLOOKUP(B43,[1]销控总表!E$2:V$50200,15,0)","v":"01"},81.65]
[43,"凤凰城C区/住宅-18-3-601","凤凰城C区","爱民区",null,{"$f":"VLOOKUP(B44,[1]销控总表!E$2:V$50200,12,0)","v":18},{"$f":"VLOOKUP(B44,[1]销控总表!E$2:V$50200,13,0)","v":3},{"$f":"VLOOKUP(B44,[1]销控总表!E$2:V$50200,14,0)","v":6},{"$f":"VLOOKUP(B44,[1]销控总表!E$2:V$50200,15,0)","v":"01"},81.65]
[44,"凤凰城C区/住宅-18-3-502","凤凰城C区","爱民区",null,{"$f":"VLOOKUP(B45,[1]销控总表!E$2:V$50200,12,0)","v":18},{"$f":"VLOOKUP(B45,[1]销控总表!E$2:V$50200,13,0)","v":3},{"$f":"VLOOKUP(B45,[1]销控总表!E$2:V$50200,14,0)","v":5},{"$f":"VLOOKUP(B45,[1]销控总表!E$2:V$50200,15,0)","v":"02"},73.87]
[45,"凤凰城C区/住宅-18-3-401","凤凰城C区","爱民区",null,{"$f":"VLOOKUP(B46,[1]销控总表!E$2:V$50200,12,0)","v":18},{"$f":"VLOOKUP(B46,[1]销控总表!E$2:V$50200,13,0)","v":3},{"$f":"VLOOKUP(B46,[1]销控总表!E$2:V$50200,14,0)","v":4},{"$f":"VLOOKUP(B46,[1]销控总表!E$2:V$50200,15,0)","v":"01"},81.65]
[46,"凤凰城C区/住宅-18-3-402","凤凰城C区","爱民区",null,{"$f":"VLOOKUP(B47,[1]销控总表!E$2:V$50200,12,0)","v":18},{"$f":"VLOOKUP(B47,[1]销控总表!E$2:V$50200,13,0)","v":3},{"$f":"VLOOKUP(B47,[1]销控总表!E$2:V$50200,14,0)","v":4},{"$f":"VLOOKUP(B47,[1]销控总表!E$2:V$50200,15,0)","v":"02"},73.87]
[47,"凤凰城C区/住宅-18-3-301","凤凰城C区","爱民区",null,{"$f":"VLOOKUP(B48,[1]销控总表!E$2:V$50200,12,0)","v":18},{"$f":"VLOOKUP(B48,[1]销控总表!E$2:V$50200,13,0)","v":3},{"$f":"VLOOKUP(B48,[1]销控总表!E$2:V$50200,14,0)","v":3},{"$f":"VLOOKUP(B48,[1]销控总表!E$2:V$50200,15,0)","v":"01"},81.65]
[48,"凤凰城C区/住宅-18-3-201","凤凰城C区","爱民区",null,{"$f":"VLOOKUP(B49,[1]销控总表!E$2:V$50200,12,0)","v":18},{"$f":"VLOOKUP(B49,[1]销控总表!E$2:V$50200,13,0)","v":3},{"$f":"VLOOKUP(B49,[1]销控总表!E$2:V$50200,14,0)","v":2},{"$f":"VLOOKUP(B49,[1]销控总表!E$2:V$50200,15,0)","v":"01"},81.65]
[49,"凤凰城C区/住宅-18-3-202","凤凰城C区","爱民区",null,{"$f":"VLOOKUP(B50,[1]销控总表!E$2:V$50200,12,0)","v":18},{"$f":"VLOOKUP(B50,[1]销控总表!E$2:V$50200,13,0)","v":3},{"$f":"VLOOKUP(B50,[1]销控总表!E$2:V$50200,14,0)","v":2},{"$f":"VLOOKUP(B50,[1]销控总表!E$2:V$50200,15,0)","v":"02"},73.87]
[50,"凤凰城C区/住宅-18-3-101","凤凰城C区","爱民区",{"$f":"VLOOKUP(B51,[1]销控总表!E$2:V$50200,10,0)","v":"底层"},{"$f":"VLOOKUP(B51,[1]销控总表!E$2:V$50200,12,0)","v":18},{"$f":"VLOOKUP(B51,[1]销控总表!E$2:V$50200,13,0)","v":3},{"$f":"VLOOKUP(B51,[1]销控总表!E$2:V$50200,14,0)","v":1},{"$f":"VLOOKUP(B51,[1]销控总表!E$2:V$50200,15,0)","v":"01"},81.65]
[51,"凤凰城C区/住宅-18-3-102","凤凰城C区","爱民区",{"$f":"VLOOKUP(B52,[1]销控总表!E$2:V$50200,10,0)","v":"底层"},{"$f":"VLOOKUP(B52,[1]销控总表!E$2:V$50200,12,0)","v":18},{"$f":"VLOOKUP(B52,[1]销控总表!E$2:V$50200,13,0)","v":3},{"$f":"VLOOKUP(B52,[1]销控总表!E$2:V$50200,14,0)","v":1},{"$f":"VLOOKUP(B52,[1]销控总表!E$2:V$50200,15,0)","v":"02"},73.87]
[52,"凤凰城C区/住宅-19-1-303","凤凰城C区","爱民区",null,{"$f":"VLOOKUP(B53,[1]销控总表!E$2:V$50200,12,0)","v":19},{"$f":"VLOOKUP(B53,[1]销控总表!E$2:V$50200,13,0)","v":1},{"$f":"VLOOKUP(B53,[1]销控总表!E$2:V$50200,14,0)","v":3},{"$f":"VLOOKUP(B53,[1]销控总表!E$2:V$50200,15,0)","v":"03"},78.06]
[53,"凤凰城C区/住宅-19-1-203","凤凰城C区","爱民区",null,{"$f":"VLOOKUP(B54,[1]销控总表!E$2:V$50200,12,0)","v":19},{"$f":"VLOOKUP(B54,[1]销控总表!E$2:V$50200,13,0)","v":1},{"$f":"VLOOKUP(B54,[1]销控总表!E$2:V$50200,14,0)","v":2},{"$f":"VLOOKUP(B54,[1]销控总表!E$2:V$50200,15,0)","v":"03"},78.06]
[54,"凤凰城C区/住宅-19-1-101","凤凰城C区","爱民区",{"$f":"VLOOKUP(B55,[1]销控总表!E$2:V$50200,10,0)","v":"底层"},{"$f":"VLOOKUP(B55,[1]销控总表!E$2:V$50200,12,0)","v":19},{"$f":"VLOOKUP(B55,[1]销控总表!E$2:V$50200,13,0)","v":1},{"$f":"VLOOKUP(B55,[1]销控总表!E$2:V$50200,14,0)","v":1},{"$f":"VLOOKUP(B55,[1]销控总表!E$2:V$50200,15,0)","v":"01"},77.56]
[55,"凤凰城C区/住宅-19-2-701","凤凰城C区","爱民区",null,{"$f":"VLOOKUP(B56,[1]销控总表!E$2:V$50200,12,0)","v":19},{"$f":"VLOOKUP(B56,[1]销控总表!E$2:V$50200,13,0)","v":2},{"$f":"VLOOKUP(B56,[1]销控总表!E$2:V$50200,14,0)","v":7},{"$f":"VLOOKUP(B56,[1]销控总表!E$2:V$50200,15,0)","v":"01"},78.06]
[56,"凤凰城C区/住宅-19-2-401","凤凰城C区","爱民区",null,{"$f":"VLOOKUP(B57,[1]销控总表!E$2:V$50200,12,0)","v":19},{"$f":"VLOOKUP(B57,[1]销控总表!E$2:V$50200,13,0)","v":2},{"$f":"VLOOKUP(B57,[1]销控总表!E$2:V$50200,14,0)","v":4},{"$f":"VLOOKUP(B57,[1]销控总表!E$2:V$50200,15,0)","v":"01"},78.06]
[57,"凤凰城C区/住宅-19-2-301","凤凰城C区","爱民区",null,{"$f":"VLOOKUP(B58,[1]销控总表!E$2:V$50200,12,0)","v":19},{"$f":"VLOOKUP(B58,[1]销控总表!E$2:V$50200,13,0)","v":2},{"$f":"VLOOKUP(B58,[1]销控总表!E$2:V$50200,14,0)","v":3},{"$f":"VLOOKUP(B58,[1]销控总表!E$2:V$50200,15,0)","v":"01"},78.06]
[58,"凤凰城C区/住宅-19-2-201","凤凰城C区","爱民区",null,{"$f":"VLOOKUP(B59,[1]销控总表!E$2:V$50200,12,0)","v":19},{"$f":"VLOOKUP(B59,[1]销控总表!E$2:V$50200,13,0)","v":2},{"$f":"VLOOKUP(B59,[1]销控总表!E$2:V$50200,14,0)","v":2},{"$f":"VLOOKUP(B59,[1]销控总表!E$2:V$50200,15,0)","v":"01"},78.06]
[59,"凤凰城C区/住宅-19-2-103","凤凰城C区","爱民区",{"$f":"VLOOKUP(B60,[1]销控总表!E$2:V$50200,10,0)","v":"底层"},{"$f":"VLOOKUP(B60,[1]销控总表!E$2:V$50200,12,0)","v":19},{"$f":"VLOOKUP(B60,[1]销控总表!E$2:V$50200,13,0)","v":2},{"$f":"VLOOKUP(B60,[1]销控总表!E$2:V$50200,14,0)","v":1},{"$f":"VLOOKUP(B60,[1]销控总表!E$2:V$50200,15,0)","v":"03"},77.56]
[60,"凤凰城C区/住宅-20-1-1002","凤凰城C区","爱民区",null,{"$f":"VLOOKUP(B61,[1]销控总表!E$2:V$50200,12,0)","v":20},{"$f":"VLOOKUP(B61,[1]销控总表!E$2:V$50200,13,0)","v":1},{"$f":"VLOOKUP(B61,[1]销控总表!E$2:V$50200,14,0)","v":10},{"$f":"VLOOKUP(B61,[1]销控总表!E$2:V$50200,15,0)","v":"02"},73.86]
[61,"凤凰城C区/住宅-20-1-1003","凤凰城C区","爱民区",null,{"$f":"VLOOKUP(B62,[1]销控总表!E$2:V$50200,12,0)","v":20},{"$f":"VLOOKUP(B62,[1]销控总表!E$2:V$50200,13,0)","v":1},{"$f":"VLOOKUP(B62,[1]销控总表!E$2:V$50200,14,0)","v":10},{"$f":"VLOOKUP(B62,[1]销控总表!E$2:V$50200,15,0)","v":"03"},81.65]
[62,"凤凰城C区/住宅-20-1-902","凤凰城C区","爱民区",null,{"$f":"VLOOKUP(B63,[1]销控总表!E$2:V$50200,12,0)","v":20},{"$f":"VLOOKUP(B63,[1]销控总表!E$2:V$50200,13,0)","v":1},{"$f":"VLOOKUP(B63,[1]销控总表!E$2:V$50200,14,0)","v":9},{"$f":"VLOOKUP(B63,[1]销控总表!E$2:V$50200,15,0)","v":"02"},73.86]
[63,"凤凰城C区/住宅-20-1-903","凤凰城C区","爱民区",null,{"$f":"VLOOKUP(B64,[1]销控总表!E$2:V$50200,12,0)","v":20},{"$f":"VLOOKUP(B64,[1]销控总表!E$2:V$50200,13,0)","v":1},{"$f":"VLOOKUP(B64,[1]销控总表!E$2:V$50200,14,0)","v":9},{"$f":"VLOOKUP(B64,[1]销控总表!E$2:V$50200,15,0)","v":"03"},81.65]
[64,"凤凰城C区/住宅-20-1-802","凤凰城C区","爱民区",null,{"$f":"VLOOKUP(B65,[1]销控总表!E$2:V$50200,12,0)","v":20},{"$f":"VLOOKUP(B65,[1]销控总表!E$2:V$50200,13,0)","v":1},{"$f":"VLOOKUP(B65,[1]销控总表!E$2:V$50200,14,0)","v":8},{"$f":"VLOOKUP(B65,[1]销控总表!E$2:V$50200,15,0)","v":"02"},73.86]
[65,"凤凰城C区/住宅-20-1-803","凤凰城C区","爱民区",null,{"$f":"VLOOKUP(B66,[1]销控总表!E$2:V$50200,12,0)","v":20},{"$f":"VLOOKUP(B66,[1]销控总表!E$2:V$50200,13,0)","v":1},{"$f":"VLOOKUP(B66,[1]销控总表!E$2:V$50200,14,0)","v":8},{"$f":"VLOOKUP(B66,[1]销控总表!E$2:V$50200,15,0)","v":"03"},81.65]
[66,"凤凰城C区/住宅-20-1-703","凤凰城C区","爱民区",null,{"$f":"VLOOKUP(B67,[1]销控总表!E$2:V$50200,12,0)","v":20},{"$f":"VLOOKUP(B67,[1]销控总表!E$2:V$50200,13,0)","v":1},{"$f":"VLOOKUP(B67,[1]销控总表!E$2:V$50200,14,0)","v":7},{"$f":"VLOOKUP(B67,[1]销控总表!E$2:V$50200,15,0)","v":"03"},81.65]
[67,"凤凰城C区/住宅-20-1-602","凤凰城C区","爱民区",null,{"$f":"VLOOKUP(B68,[1]销控总表!E$2:V$50200,12,0)","v":20},{"$f":"VLOOKUP(B68,[1]销控总表!E$2:V$50200,13,0)","v":1},{"$f":"VLOOKUP(B68,[1]销控总表!E$2:V$50200,14,0)","v":6},{"$f":"VLOOKUP(B68,[1]销控总表!E$2:V$50200,15,0)","v":"02"},73.86]
[68,"凤凰城C区/住宅-20-1-603","凤凰城C区","爱民区",null,{"$f":"VLOOKUP(B69,[1]销控总表!E$2:V$50200,12,0)","v":20},{"$f":"VLOOKUP(B69,[1]销控总表!E$2:V$50200,13,0)","v":1},{"$f":"VLOOKUP(B69,[1]销控总表!E$2:V$50200,14,0)","v":6},{"$f":"VLOOKUP(B69,[1]销控总表!E$2:V$50200,15,0)","v":"03"},81.65]
[69,"凤凰城C区/住宅-20-1-503","凤凰城C区","爱民区",null,{"$f":"VLOOKUP(B70,[1]销控总表!E$2:V$50200,12,0)","v":20},{"$f":"VLOOKUP(B70,[1]销控总表!E$2:V$50200,13,0)","v":1},{"$f":"VLOOKUP(B70,[1]销控总表!E$2:V$50200,14,0)","v":5},{"$f":"VLOOKUP(B70,[1]销控总表!E$2:V$50200,15,0)","v":"03"},81.65]
[70,"凤凰城C区/住宅-20-1-403","凤凰城C区","爱民区",null,{"$f":"VLOOKUP(B71,[1]销控总表!E$2:V$50200,12,0)","v":20},{"$f":"VLOOKUP(B71,[1]销控总表!E$2:V$50200,13,0)","v":1},{"$f":"VLOOKUP(B71,[1]销控总表!E$2:V$50200,14,0)","v":4},{"$f":"VLOOKUP(B71,[1]销控总表!E$2:V$50200,15,0)","v":"03"},81.65]
[71,"凤凰城C区/住宅-20-1-303","凤凰城C区","爱民区",null,{"$f":"VLOOKUP(B72,[1]销控总表!E$2:V$50200,12,0)","v":20},{"$f":"VLOOKUP(B72,[1]销控总表!E$2:V$50200,13,0)","v":1},{"$f":"VLOOKUP(B72,[1]销控总表!E$2:V$50200,14,0)","v":3},{"$f":"VLOOKUP(B72,[1]销控总表!E$2:V$50200,15,0)","v":"03"},81.65]
[72,"凤凰城C区/住宅-20-1-201","凤凰城C区","爱民区",null,{"$f":"VLOOKUP(B73,[1]销控总表!E$2:V$50200,12,0)","v":20},{"$f":"VLOOKUP(B73,[1]销控总表!E$2:V$50200,13,0)","v":1},{"$f":"VLOOKUP(B73,[1]销控总表!E$2:V$50200,14,0)","v":2},{"$f":"VLOOKUP(B73,[1]销控总表!E$2:V$50200,15,0)","v":"01"},89.17]
[73,"凤凰城C区/住宅-20-1-203","凤凰城C区","爱民区",null,{"$f":"VLOOKUP(B74,[1]销控总表!E$2:V$50200,12,0)","v":20},{"$f":"VLOOKUP(B74,[1]销控总表!E$2:V$50200,13,0)","v":1},{"$f":"VLOOKUP(B74,[1]销控总表!E$2:V$50200,14,0)","v":2},{"$f":"VLOOKUP(B74,[1]销控总表!E$2:V$50200,15,0)","v":"03"},81.65]
[74,"凤凰城C区/住宅-20-1-101","凤凰城C区","爱民区",{"$f":"VLOOKUP(B75,[1]销控总表!E$2:V$50200,10,0)","v":"底层"},{"$f":"VLOOKUP(B75,[1]销控总表!E$2:V$50200,12,0)","v":20},{"$f":"VLOOKUP(B75,[1]销控总表!E$2:V$50200,13,0)","v":1},{"$f":"VLOOKUP(B75,[1]销控总表!E$2:V$50200,14,0)","v":1},{"$f":"VLOOKUP(B75,[1]销控总表!E$2:V$50200,15,0)","v":"01"},63.53]
[75,"凤凰城C区/住宅-20-1-102","凤凰城C区","爱民区",{"$f":"VLOOKUP(B76,[1]销控总表!E$2:V$50200,10,0)","v":"底层"},{"$f":"VLOOKUP(B76,[1]销控总表!E$2:V$50200,12,0)","v":20},{"$f":"VLOOKUP(B76,[1]销控总表!E$2:V$50200,13,0)","v":1},{"$f":"VLOOKUP(B76,[1]销控总表!E$2:V$50200,14,0)","v":1},{"$f":"VLOOKUP(B76,[1]销控总表!E$2:V$50200,15,0)","v":"02"},73.86]
[76,"凤凰城C区/住宅-20-1-103","凤凰城C区","爱民区",{"$f":"VLOOKUP(B77,[1]销控总表!E$2:V$50200,10,0)","v":"底层"},{"$f":"VLOOKUP(B77,[1]销控总表!E$2:V$50200,12,0)","v":20},{"$f":"VLOOKUP(B77,[1]销控总表!E$2:V$50200,13,0)","v":1},{"$f":"VLOOKUP(B77,[1]销控总表!E$2:V$50200,14,0)","v":1},{"$f":"VLOOKUP(B77,[1]销控总表!E$2:V$50200,15,0)","v":"03"},81.65]
[77,"凤凰城C区/住宅-20-2-1001","凤凰城C区","爱民区",null,{"$f":"VLOOKUP(B78,[1]销控总表!E$2:V$50200,12,0)","v":20},{"$f":"VLOOKUP(B78,[1]销控总表!E$2:V$50200,13,0)","v":2},{"$f":"VLOOKUP(B78,[1]销控总表!E$2:V$50200,14,0)","v":10},{"$f":"VLOOKUP(B78,[1]销控总表!E$2:V$50200,15,0)","v":"01"},{"v":82.8,"d":"82.80"}]
[78,"凤凰城C区/住宅-20-2-1003","凤凰城C区","爱民区",null,{"$f":"VLOOKUP(B79,[1]销控总表!E$2:V$50200,12,0)","v":20},{"$f":"VLOOKUP(B79,[1]销控总表!E$2:V$50200,13,0)","v":2},{"$f":"VLOOKUP(B79,[1]销控总表!E$2:V$50200,14,0)","v":10},{"$f":"VLOOKUP(B79,[1]销控总表!E$2:V$50200,15,0)","v":"03"},89.17]
[79,"凤凰城C区/住宅-20-2-901","凤凰城C区","爱民区",null,{"$f":"VLOOKUP(B80,[1]销控总表!E$2:V$50200,12,0)","v":20},{"$f":"VLOOKUP(B80,[1]销控总表!E$2:V$50200,13,0)","v":2},{"$f":"VLOOKUP(B80,[1]销控总表!E$2:V$50200,14,0)","v":9},{"$f":"VLOOKUP(B80,[1]销控总表!E$2:V$50200,15,0)","v":"01"},{"v":82.8,"d":"82.80"}]
[80,"凤凰城C区/住宅-20-2-902","凤凰城C区","爱民区",null,{"$f":"VLOOKUP(B81,[1]销控总表!E$2:V$50200,12,0)","v":20},{"$f":"VLOOKUP(B81,[1]销控总表!E$2:V$50200,13,0)","v":2},{"$f":"VLOOKUP(B81,[1]销控总表!E$2:V$50200,14,0)","v":9},{"$f":"VLOOKUP(B81,[1]销控总表!E$2:V$50200,15,0)","v":"02"},74.54]
[81,"凤凰城C区/住宅-20-2-903","凤凰城C区","爱民区",null,{"$f":"VLOOKUP(B82,[1]销控总表!E$2:V$50200,12,0)","v":20},{"$f":"VLOOKUP(B82,[1]销控总表!E$2:V$50200,13,0)","v":2},{"$f":"VLOOKUP(B82,[1]销控总表!E$2:V$50200,14,0)","v":9},{"$f":"VLOOKUP(B82,[1]销控总表!E$2:V$50200,15,0)","v":"03"},89.17]
[82,"凤凰城C区/住宅-20-2-801","凤凰城C区","爱民区",null,{"$f":"VLOOKUP(B83,[1]销控总表!E$2:V$50200,12,0)","v":20},{"$f":"VLOOKUP(B83,[1]销控总表!E$2:V$50200,13,0)","v":2},{"$f":"VLOOKUP(B83,[1]销控总表!E$2:V$50200,14,0)","v":8},{"$f":"VLOOKUP(B83,[1]销控总表!E$2:V$50200,15,0)","v":"01"},{"v":82.8,"d":"82.80"}]
[83,"凤凰城C区/住宅-20-2-802","凤凰城C区","爱民区",null,{"$f":"VLOOKUP(B84,[1]销控总表!E$2:V$50200,12,0)","v":20},{"$f":"VLOOKUP(B84,[1]销控总表!E$2:V$50200,13,0)","v":2},{"$f":"VLOOKUP(B84,[1]销控总表!E$2:V$50200,14,0)","v":8},{"$f":"VLOOKUP(B84,[1]销控总表!E$2:V$50200,15,0)","v":"02"},74.54]
[84,"凤凰城C区/住宅-20-2-803","凤凰城C区","爱民区",null,{"$f":"VLOOKUP(B85,[1]销控总表!E$2:V$50200,12,0)","v":20},{"$f":"VLOOKUP(B85,[1]销控总表!E$2:V$50200,13,0)","v":2},{"$f":"VLOOKUP(B85,[1]销控总表!E$2:V$50200,14,0)","v":8},{"$f":"VLOOKUP(B85,[1]销控总表!E$2:V$50200,15,0)","v":"03"},89.17]
[85,"凤凰城C区/住宅-20-2-701","凤凰城C区","爱民区",null,{"$f":"VLOOKUP(B86,[1]销控总表!E$2:V$50200,12,0)","v":20},{"$f":"VLOOKUP(B86,[1]销控总表!E$2:V$50200,13,0)","v":2},{"$f":"VLOOKUP(B86,[1]销控总表!E$2:V$50200,14,0)","v":7},{"$f":"VLOOKUP(B86,[1]销控总表!E$2:V$50200,15,0)","v":"01"},{"v":82.8,"d":"82.80"}]
[86,"凤凰城C区/住宅-20-2-702","凤凰城C区","爱民区",null,{"$f":"VLOOKUP(B87,[1]销控总表!E$2:V$50200,12,0)","v":20},{"$f":"VLOOKUP(B87,[1]销控总表!E$2:V$50200,13,0)","v":2},{"$f":"VLOOKUP(B87,[1]销控总表!E$2:V$50200,14,0)","v":7},{"$f":"VLOOKUP(B87,[1]销控总表!E$2:V$50200,15,0)","v":"02"},74.54]
[87,"凤凰城C区/住宅-20-2-703","凤凰城C区","爱民区",null,{"$f":"VLOOKUP(B88,[1]销控总表!E$2:V$50200,12,0)","v":20},{"$f":"VLOOKUP(B88,[1]销控总表!E$2:V$50200,13,0)","v":2},{"$f":"VLOOKUP(B88,[1]销控总表!E$2:V$50200,14,0)","v":7},{"$f":"VLOOKUP(B88,[1]销控总表!E$2:V$50200,15,0)","v":"03"},89.17]
[88,"凤凰城C区/住宅-20-2-601","凤凰城C区","爱民区",null,{"$f":"VLOOKUP(B89,[1]销控总表!E$2:V$50200,12,0)","v":20},{"$f":"VLOOKUP(B89,[1]销控总表!E$2:V$50200,13,0)","v":2},{"$f":"VLOOKUP(B89,[1]销控总表!E$2:V$50200,14,0)","v":6},{"$f":"VLOOKUP(B89,[1]销控总表!E$2:V$50200,15,0)","v":"01"},{"v":82.8,"d":"82.80"}]
[89,"凤凰城C区/住宅-20-2-602","凤凰城C区","爱民区",null,{"$f":"VLOOKUP(B90,[1]销控总表!E$2:V$50200,12,0)","v":20},{"$f":"VLOOKUP(B90,[1]销控总表!E$2:V$50200,13,0)","v":2},{"$f":"VLOOKUP(B90,[1]销控总表!E$2:V$50200,14,0)","v":6},{"$f":"VLOOKUP(B90,[1]销控总表!E$2:V$50200,15,0)","v":"02"},74.54]
[90,"凤凰城C区/住宅-20-2-603","凤凰城C区","爱民区",null,{"$f":"VLOOKUP(B91,[1]销控总表!E$2:V$50200,12,0)","v":20},{"$f":"VLOOKUP(B91,[1]销控总表!E$2:V$50200,13,0)","v":2},{"$f":"VLOOKUP(B91,[1]销控总表!E$2:V$50200,14,0)","v":6},{"$f":"VLOOKUP(B91,[1]销控总表!E$2:V$50200,15,0)","v":"03"},89.17]
[91,"凤凰城C区/住宅-20-2-501","凤凰城C区","爱民区",null,{"$f":"VLOOKUP(B92,[1]销控总表!E$2:V$50200,12,0)","v":20},{"$f":"VLOOKUP(B92,[1]销控总表!E$2:V$50200,13,0)","v":2},{"$f":"VLOOKUP(B92,[1]销控总表!E$2:V$50200,14,0)","v":5},{"$f":"VLOOKUP(B92,[1]销控总表!E$2:V$50200,15,0)","v":"01"},{"v":82.8,"d":"82.80"}]
[92,"凤凰城C区/住宅-20-2-502","凤凰城C区","爱民区",null,{"$f":"VLOOKUP(B93,[1]销控总表!E$2:V$50200,12,0)","v":20},{"$f":"VLOOKUP(B93,[1]销控总表!E$2:V$50200,13,0)","v":2},{"$f":"VLOOKUP(B93,[1]销控总表!E$2:V$50200,14,0)","v":5},{"$f":"VLOOKUP(B93,[1]销控总表!E$2:V$50200,15,0)","v":"02"},74.54]
[93,"凤凰城C区/住宅-20-2-503","凤凰城C区","爱民区",null,{"$f":"VLOOKUP(B94,[1]销控总表!E$2:V$50200,12,0)","v":20},{"$f":"VLOOKUP(B94,[1]销控总表!E$2:V$50200,13,0)","v":2},{"$f":"VLOOKUP(B94,[1]销控总表!E$2:V$50200,14,0)","v":5},{"$f":"VLOOKUP(B94,[1]销控总表!E$2:V$50200,15,0)","v":"03"},89.17]
[94,"凤凰城C区/住宅-20-2-401","凤凰城C区","爱民区",null,{"$f":"VLOOKUP(B95,[1]销控总表!E$2:V$50200,12,0)","v":20},{"$f":"VLOOKUP(B95,[1]销控总表!E$2:V$50200,13,0)","v":2},{"$f":"VLOOKUP(B95,[1]销控总表!E$2:V$50200,14,0)","v":4},{"$f":"VLOOKUP(B95,[1]销控总表!E$2:V$50200,15,0)","v":"01"},{"v":82.8,"d":"82.80"}]
[95,"凤凰城C区/住宅-20-2-402","凤凰城C区","爱民区",null,{"$f":"VLOOKUP(B96,[1]销控总表!E$2:V$50200,12,0)","v":20},{"$f":"VLOOKUP(B96,[1]销控总表!E$2:V$50200,13,0)","v":2},{"$f":"VLOOKUP(B96,[1]销控总表!E$2:V$50200,14,0)","v":4},{"$f":"VLOOKUP(B96,[1]销控总表!E$2:V$50200,15,0)","v":"02"},74.54]
[96,"凤凰城C区/住宅-20-2-403","凤凰城C区","爱民区",null,{"$f":"VLOOKUP(B97,[1]销控总表!E$2:V$50200,12,0)","v":20},{"$f":"VLOOKUP(B97,[1]销控总表!E$2:V$50200,13,0)","v":2},{"$f":"VLOOKUP(B97,[1]销控总表!E$2:V$50200,14,0)","v":4},{"$f":"VLOOKUP(B97,[1]销控总表!E$2:V$50200,15,0)","v":"03"},89.17]
[97,"凤凰城C区/住宅-20-2-301","凤凰城C区","爱民区",null,{"$f":"VLOOKUP(B98,[1]销控总表!E$2:V$50200,12,0)","v":20},{"$f":"VLOOKUP(B98,[1]销控总表!E$2:V$50200,13,0)","v":2},{"$f":"VLOOKUP(B98,[1]销控总表!E$2:V$50200,14,0)","v":3},{"$f":"VLOOKUP(B98,[1]销控总表!E$2:V$50200,15,0)","v":"01"},{"v":82.8,"d":"82.80"}]
[98,"凤凰城C区/住宅-20-2-302","凤凰城C区","爱民区",null,{"$f":"VLOOKUP(B99,[1]销控总表!E$2:V$50200,12,0)","v":20},{"$f":"VLOOKUP(B99,[1]销控总表!E$2:V$50200,13,0)","v":2},{"$f":"VLOOKUP(B99,[1]销控总表!E$2:V$50200,14,0)","v":3},{"$f":"VLOOKUP(B99,[1]销控总表!E$2:V$50200,15,0)","v":"02"},74.54]
[99,"凤凰城C区/住宅-20-2-303","凤凰城C区","爱民区",null,{"$f":"VLOOKUP(B100,[1]销控总表!E$2:V$50200,12,0)","v":20},{"$f":"VLOOKUP(B100,[1]销控总表!E$2:V$50200,13,0)","v":2},{"$f":"VLOOKUP(B100,[1]销控总表!E$2:V$50200,14,0)","v":3},{"$f":"VLOOKUP(B100,[1]销控总表!E$2:V$50200,15,0)","v":"03"},89.17]
[100,"凤凰城C区/住宅-20-2-201","凤凰城C区","爱民区",null,{"$f":"VLOOKUP(B101,[1]销控总表!E$2:V$50200,12,0)","v":20},{"$f":"VLOOKUP(B101,[1]销控总表!E$2:V$50200,13,0)","v":2},{"$f":"VLOOKUP(B101,[1]销控总表!E$2:V$50200,14,0)","v":2},{"$f":"VLOOKUP(B101,[1]销控总表!E$2:V$50200,15,0)","v":"01"},{"v":82.8,"d":"82.80"}]
[101,"凤凰城C区/住宅-20-2-202","凤凰城C区","爱民区",null,{"$f":"VLOOKUP(B102,[1]销控总表!E$2:V$50200,12,0)","v":20},{"$f":"VLOOKUP(B102,[1]销控总表!E$2:V$50200,13,0)","v":2},{"$f":"VLOOKUP(B102,[1]销控总表!E$2:V$50200,14,0)","v":2},{"$f":"VLOOKUP(B102,[1]销控总表!E$2:V$50200,15,0)","v":"02"},74.54]
[102,"凤凰城C区/住宅-20-2-203","凤凰城C区","爱民区",null,{"$f":"VLOOKUP(B103,[1]销控总表!E$2:V$50200,12,0)","v":20},{"$f":"VLOOKUP(B103,[1]销控总表!E$2:V$50200,13,0)","v":2},{"$f":"VLOOKUP(B103,[1]销控总表!E$2:V$50200,14,0)","v":2},{"$f":"VLOOKUP(B103,[1]销控总表!E$2:V$50200,15,0)","v":"03"},89.17]
[103,"凤凰城C区/住宅-20-2-101","凤凰城C区","爱民区",{"$f":"VLOOKUP(B104,[1]销控总表!E$2:V$50200,10,0)","v":"底层"},{"$f":"VLOOKUP(B104,[1]销控总表!E$2:V$50200,12,0)","v":20},{"$f":"VLOOKUP(B104,[1]销控总表!E$2:V$50200,13,0)","v":2},{"$f":"VLOOKUP(B104,[1]销控总表!E$2:V$50200,14,0)","v":1},{"$f":"VLOOKUP(B104,[1]销控总表!E$2:V$50200,15,0)","v":"01"},{"v":82.8,"d":"82.80"}]
[104,"凤凰城C区/住宅-20-2-102","凤凰城C区","爱民区",{"$f":"VLOOKUP(B105,[1]销控总表!E$2:V$50200,10,0)","v":"底层"},{"$f":"VLOOKUP(B105,[1]销控总表!E$2:V$50200,12,0)","v":20},{"$f":"VLOOKUP(B105,[1]销控总表!E$2:V$50200,13,0)","v":2},{"$f":"VLOOKUP(B105,[1]销控总表!E$2:V$50200,14,0)","v":1},{"$f":"VLOOKUP(B105,[1]销控总表!E$2:V$50200,15,0)","v":"02"},74.54]
[105,"凤凰城C区/住宅-20-3-1001","凤凰城C区","爱民区",null,{"$f":"VLOOKUP(B106,[1]销控总表!E$2:V$50200,12,0)","v":20},{"$f":"VLOOKUP(B106,[1]销控总表!E$2:V$50200,13,0)","v":3},{"$f":"VLOOKUP(B106,[1]销控总表!E$2:V$50200,14,0)","v":10},{"$f":"VLOOKUP(B106,[1]销控总表!E$2:V$50200,15,0)","v":"01"},81.65]
[106,"凤凰城C区/住宅-20-3-1002","凤凰城C区","爱民区",null,{"$f":"VLOOKUP(B107,[1]销控总表!E$2:V$50200,12,0)","v":20},{"$f":"VLOOKUP(B107,[1]销控总表!E$2:V$50200,13,0)","v":3},{"$f":"VLOOKUP(B107,[1]销控总表!E$2:V$50200,14,0)","v":10},{"$f":"VLOOKUP(B107,[1]销控总表!E$2:V$50200,15,0)","v":"02"},73.86]
[107,"凤凰城C区/住宅-20-3-901","凤凰城C区","爱民区",null,{"$f":"VLOOKUP(B108,[1]销控总表!E$2:V$50200,12,0)","v":20},{"$f":"VLOOKUP(B108,[1]销控总表!E$2:V$50200,13,0)","v":3},{"$f":"VLOOKUP(B108,[1]销控总表!E$2:V$50200,14,0)","v":9},{"$f":"VLOOKUP(B108,[1]销控总表!E$2:V$50200,15,0)","v":"01"},81.65]
[108,"凤凰城C区/住宅-20-3-902","凤凰城C区","爱民区",null,{"$f":"VLOOKUP(B109,[1]销控总表!E$2:V$50200,12,0)","v":20},{"$f":"VLOOKUP(B109,[1]销控总表!E$2:V$50200,13,0)","v":3},{"$f":"VLOOKUP(B109,[1]销控总表!E$2:V$50200,14,0)","v":9},{"$f":"VLOOKUP(B109,[1]销控总表!E$2:V$50200,15,0)","v":"02"},73.86]
[109,"凤凰城C区/住宅-20-3-801","凤凰城C区","爱民区",null,{"$f":"VLOOKUP(B110,[1]销控总表!E$2:V$50200,12,0)","v":20},{"$f":"VLOOKUP(B110,[1]销控总表!E$2:V$50200,13,0)","v":3},{"$f":"VLOOKUP(B110,[1]销控总表!E$2:V$50200,14,0)","v":8},{"$f":"VLOOKUP(B110,[1]销控总表!E$2:V$50200,15,0)","v":"01"},81.65]
[110,"凤凰城C区/住宅-20-3-802","凤凰城C区","爱民区",null,{"$f":"VLOOKUP(B111,[1]销控总表!E$2:V$50200,12,0)","v":20},{"$f":"VLOOKUP(B111,[1]销控总表!E$2:V$50200,13,0)","v":3},{"$f":"VLOOKUP(B111,[1]销控总表!E$2:V$50200,14,0)","v":8},{"$f":"VLOOKUP(B111,[1]销控总表!E$2:V$50200,15,0)","v":"02"},73.86]
[111,"凤凰城C区/住宅-20-3-701","凤凰城C区","爱民区",null,{"$f":"VLOOKUP(B112,[1]销控总表!E$2:V$50200,12,0)","v":20},{"$f":"VLOOKUP(B112,[1]销控总表!E$2:V$50200,13,0)","v":3},{"$f":"VLOOKUP(B112,[1]销控总表!E$2:V$50200,14,0)","v":7},{"$f":"VLOOKUP(B112,[1]销控总表!E$2:V$50200,15,0)","v":"01"},81.65]
[112,"凤凰城C区/住宅-20-3-702","凤凰城C区","爱民区",null,{"$f":"VLOOKUP(B113,[1]销控总表!E$2:V$50200,12,0)","v":20},{"$f":"VLOOKUP(B113,[1]销控总表!E$2:V$50200,13,0)","v":3},{"$f":"VLOOKUP(B113,[1]销控总表!E$2:V$50200,14,0)","v":7},{"$f":"VLOOKUP(B113,[1]销控总表!E$2:V$50200,15,0)","v":"02"},73.86]
[113,"凤凰城C区/住宅-20-3-601","凤凰城C区","爱民区",null,{"$f":"VLOOKUP(B114,[1]销控总表!E$2:V$50200,12,0)","v":20},{"$f":"VLOOKUP(B114,[1]销控总表!E$2:V$50200,13,0)","v":3},{"$f":"VLOOKUP(B114,[1]销控总表!E$2:V$50200,14,0)","v":6},{"$f":"VLOOKUP(B114,[1]销控总表!E$2:V$50200,15,0)","v":"01"},81.65]
[114,"凤凰城C区/住宅-20-3-602","凤凰城C区","爱民区",null,{"$f":"VLOOKUP(B115,[1]销控总表!E$2:V$50200,12,0)","v":20},{"$f":"VLOOKUP(B115,[1]销控总表!E$2:V$50200,13,0)","v":3},{"$f":"VLOOKUP(B115,[1]销控总表!E$2:V$50200,14,0)","v":6},{"$f":"VLOOKUP(B115,[1]销控总表!E$2:V$50200,15,0)","v":"02"},73.86]
[115,"凤凰城C区/住宅-20-3-501","凤凰城C区","爱民区",null,{"$f":"VLOOKUP(B116,[1]销控总表!E$2:V$50200,12,0)","v":20},{"$f":"VLOOKUP(B116,[1]销控总表!E$2:V$50200,13,0)","v":3},{"$f":"VLOOKUP(B116,[1]销控总表!E$2:V$50200,14,0)","v":5},{"$f":"VLOOKUP(B116,[1]销控总表!E$2:V$50200,15,0)","v":"01"},81.65]
[116,"凤凰城C区/住宅-20-3-502","凤凰城C区","爱民区",null,{"$f":"VLOOKUP(B117,[1]销控总表!E$2:V$50200,12,0)","v":20},{"$f":"VLOOKUP(B117,[1]销控总表!E$2:V$50200,13,0)","v":3},{"$f":"VLOOKUP(B117,[1]销控总表!E$2:V$50200,14,0)","v":5},{"$f":"VLOOKUP(B117,[1]销控总表!E$2:V$50200,15,0)","v":"02"},73.86]
[117,"凤凰城C区/住宅-20-3-401","凤凰城C区","爱民区",null,{"$f":"VLOOKUP(B118,[1]销控总表!E$2:V$50200,12,0)","v":20},{"$f":"VLOOKUP(B118,[1]销控总表!E$2:V$50200,13,0)","v":3},{"$f":"VLOOKUP(B118,[1]销控总表!E$2:V$50200,14,0)","v":4},{"$f":"VLOOKUP(B118,[1]销控总表!E$2:V$50200,15,0)","v":"01"},81.65]
[118,"凤凰城C区/住宅-20-3-402","凤凰城C区","爱民区",null,{"$f":"VLOOKUP(B119,[1]销控总表!E$2:V$50200,12,0)","v":20},{"$f":"VLOOKUP(B119,[1]销控总表!E$2:V$50200,13,0)","v":3},{"$f":"VLOOKUP(B119,[1]销控总表!E$2:V$50200,14,0)","v":4},{"$f":"VLOOKUP(B119,[1]销控总表!E$2:V$50200,15,0)","v":"02"},73.86]
[119,"凤凰城C区/住宅-20-3-301","凤凰城C区","爱民区",null,{"$f":"VLOOKUP(B120,[1]销控总表!E$2:V$50200,12,0)","v":20},{"$f":"VLOOKUP(B120,[1]销控总表!E$2:V$50200,13,0)","v":3},{"$f":"VLOOKUP(B120,[1]销控总表!E$2:V$50200,14,0)","v":3},{"$f":"VLOOKUP(B120,[1]销控总表!E$2:V$50200,15,0)","v":"01"},81.65]
[120,"凤凰城C区/住宅-20-3-302","凤凰城C区","爱民区",null,{"$f":"VLOOKUP(B121,[1]销控总表!E$2:V$50200,12,0)","v":20},{"$f":"VLOOKUP(B121,[1]销控总表!E$2:V$50200,13,0)","v":3},{"$f":"VLOOKUP(B121,[1]销控总表!E$2:V$50200,14,0)","v":3},{"$f":"VLOOKUP(B121,[1]销控总表!E$2:V$50200,15,0)","v":"02"},73.86]
[121,"凤凰城C区/住宅-20-3-201","凤凰城C区","爱民区",null,{"$f":"VLOOKUP(B122,[1]销控总表!E$2:V$50200,12,0)","v":20},{"$f":"VLOOKUP(B122,[1]销控总表!E$2:V$50200,13,0)","v":3},{"$f":"VLOOKUP(B122,[1]销控总表!E$2:V$50200,14,0)","v":2},{"$f":"VLOOKUP(B122,[1]销控总表!E$2:V$50200,15,0)","v":"01"},81.65]
[122,"凤凰城C区/住宅-20-3-202","凤凰城C区","爱民区",null,{"$f":"VLOOKUP(B123,[1]销控总表!E$2:V$50200,12,0)","v":20},{"$f":"VLOOKUP(B123,[1]销控总表!E$2:V$50200,13,0)","v":3},{"$f":"VLOOKUP(B123,[1]销控总表!E$2:V$50200,14,0)","v":2},{"$f":"VLOOKUP(B123,[1]销控总表!E$2:V$50200,15,0)","v":"02"},73.86]
[123,"凤凰城C区/住宅-20-3-101","凤凰城C区","爱民区",{"$f":"VLOOKUP(B124,[1]销控总表!E$2:V$50200,10,0)","v":"底层"},{"$f":"VLOOKUP(B124,[1]销控总表!E$2:V$50200,12,0)","v":20},{"$f":"VLOOKUP(B124,[1]销控总表!E$2:V$50200,13,0)","v":3},{"$f":"VLOOKUP(B124,[1]销控总表!E$2:V$50200,14,0)","v":1},{"$f":"VLOOKUP(B124,[1]销控总表!E$2:V$50200,15,0)","v":"01"},81.65]
[124,"凤凰城C区/住宅-20-3-102","凤凰城C区","爱民区",{"$f":"VLOOKUP(B125,[1]销控总表!E$2:V$50200,10,0)","v":"底层"},{"$f":"VLOOKUP(B125,[1]销控总表!E$2:V$50200,12,0)","v":20},{"$f":"VLOOKUP(B125,[1]销控总表!E$2:V$50200,13,0)","v":3},{"$f":"VLOOKUP(B125,[1]销控总表!E$2:V$50200,14,0)","v":1},{"$f":"VLOOKUP(B125,[1]销控总表!E$2:V$50200,15,0)","v":"02"},73.86]
[125,"凤凰城C区/住宅-25-1-1601","凤凰城C区","爱民区",null,{"$f":"VLOOKUP(B126,[1]销控总表!E$2:V$50200,12,0)","v":25},{"$f":"VLOOKUP(B126,[1]销控总表!E$2:V$50200,13,0)","v":1},{"$f":"VLOOKUP(B126,[1]销控总表!E$2:V$50200,14,0)","v":16},{"$f":"VLOOKUP(B126,[1]销控总表!E$2:V$50200,15,0)","v":"01"},55.65]
[126,"凤凰城C区/住宅-25-2-1305","凤凰城C区","爱民区",null,{"$f":"VLOOKUP(B127,[1]销控总表!E$2:V$50200,12,0)","v":25},{"$f":"VLOOKUP(B127,[1]销控总表!E$2:V$50200,13,0)","v":2},{"$f":"VLOOKUP(B127,[1]销控总表!E$2:V$50200,14,0)","v":13},{"$f":"VLOOKUP(B127,[1]销控总表!E$2:V$50200,15,0)","v":"05"},55.65]
[127,"凤凰城C区/住宅-25-2-105","凤凰城C区","爱民区",{"$f":"VLOOKUP(B128,[1]销控总表!E$2:V$50200,10,0)","v":"底层"},{"$f":"VLOOKUP(B128,[1]销控总表!E$2:V$50200,12,0)","v":25},{"$f":"VLOOKUP(B128,[1]销控总表!E$2:V$50200,13,0)","v":2},{"$f":"VLOOKUP(B128,[1]销控总表!E$2:V$50200,14,0)","v":1},{"$f":"VLOOKUP(B128,[1]销控总表!E$2:V$50200,15,0)","v":"05"},55.65]
[128,"凤凰城C区/住宅-26-1-1105","凤凰城C区","爱民区",null,{"$f":"VLOOKUP(B129,[1]销控总表!E$2:V$50200,12,0)","v":26},{"$f":"VLOOKUP(B129,[1]销控总表!E$2:V$50200,13,0)","v":1},{"$f":"VLOOKUP(B129,[1]销控总表!E$2:V$50200,14,0)","v":11},{"$f":"VLOOKUP(B129,[1]销控总表!E$2:V$50200,15,0)","v":"05"},56.56]
[129,"凤凰城C区/住宅-26-1-505","凤凰城C区","爱民区",null,{"$f":"VLOOKUP(B130,[1]销控总表!E$2:V$50200,12,0)","v":26},{"$f":"VLOOKUP(B130,[1]销控总表!E$2:V$50200,13,0)","v":1},{"$f":"VLOOKUP(B130,[1]销控总表!E$2:V$50200,14,0)","v":5},{"$f":"VLOOKUP(B130,[1]销控总表!E$2:V$50200,15,0)","v":"05"},56.56]
[130,"凤凰城C区/住宅-26-2-1605","凤凰城C区","爱民区",null,{"$f":"VLOOKUP(B131,[1]销控总表!E$2:V$50200,12,0)","v":26},{"$f":"VLOOKUP(B131,[1]销控总表!E$2:V$50200,13,0)","v":2},{"$f":"VLOOKUP(B131,[1]销控总表!E$2:V$50200,14,0)","v":16},{"$f":"VLOOKUP(B131,[1]销控总表!E$2:V$50200,15,0)","v":"05"},55.65]
[131,"凤凰城C区/住宅-26-2-1405","凤凰城C区","爱民区",null,{"$f":"VLOOKUP(B132,[1]销控总表!E$2:V$50200,12,0)","v":26},{"$f":"VLOOKUP(B132,[1]销控总表!E$2:V$50200,13,0)","v":2},{"$f":"VLOOKUP(B132,[1]销控总表!E$2:V$50200,14,0)","v":14},{"$f":"VLOOKUP(B132,[1]销控总表!E$2:V$50200,15,0)","v":"05"},55.65]
[132,"凤凰城C区/住宅-26-2-1205","凤凰城C区","爱民区",null,{"$f":"VLOOKUP(B133,[1]销控总表!E$2:V$50200,12,0)","v":26},{"$f":"VLOOKUP(B133,[1]销控总表!E$2:V$50200,13,0)","v":2},{"$f":"VLOOKUP(B133,[1]销控总表!E$2:V$50200,14,0)","v":12},{"$f":"VLOOKUP(B133,[1]销控总表!E$2:V$50200,15,0)","v":"05"},55.65]
[133,"凤凰城C区/住宅-26-2-1105","凤凰城C区","爱民区",null,{"$f":"VLOOKUP(B134,[1]销控总表!E$2:V$50200,12,0)","v":26},{"$f":"VLOOKUP(B134,[1]销控总表!E$2:V$50200,13,0)","v":2},{"$f":"VLOOKUP(B134,[1]销控总表!E$2:V$50200,14,0)","v":11},{"$f":"VLOOKUP(B134,[1]销控总表!E$2:V$50200,15,0)","v":"05"},55.65]
[134,"凤凰城C区/住宅-27-1-1601","凤凰城C区","爱民区",null,{"$f":"VLOOKUP(B135,[1]销控总表!E$2:V$50200,12,0)","v":27},{"$f":"VLOOKUP(B135,[1]销控总表!E$2:V$50200,13,0)","v":1},{"$f":"VLOOKUP(B135,[1]销控总表!E$2:V$50200,14,0)","v":16},{"$f":"VLOOKUP(B135,[1]销控总表!E$2:V$50200,15,0)","v":"01"},55.65]
[135,"凤凰城C区/住宅-27-1-1501","凤凰城C区","爱民区",null,{"$f":"VLOOKUP(B136,[1]销控总表!E$2:V$50200,12,0)","v":27},{"$f":"VLOOKUP(B136,[1]销控总表!E$2:V$50200,13,0)","v":1},{"$f":"VLOOKUP(B136,[1]销控总表!E$2:V$50200,14,0)","v":15},{"$f":"VLOOKUP(B136,[1]销控总表!E$2:V$50200,15,0)","v":"01"},55.65]
[136,"凤凰城C区/住宅-27-1-505","凤凰城C区","爱民区",null,{"$f":"VLOOKUP(B137,[1]销控总表!E$2:V$50200,12,0)","v":27},{"$f":"VLOOKUP(B137,[1]销控总表!E$2:V$50200,13,0)","v":1},{"$f":"VLOOKUP(B137,[1]销控总表!E$2:V$50200,14,0)","v":5},{"$f":"VLOOKUP(B137,[1]销控总表!E$2:V$50200,15,0)","v":"05"},56.56]
[137,"凤凰城C区/住宅-27-1-301","凤凰城C区","爱民区",null,{"$f":"VLOOKUP(B138,[1]销控总表!E$2:V$50200,12,0)","v":27},{"$f":"VLOOKUP(B138,[1]销控总表!E$2:V$50200,13,0)","v":1},{"$f":"VLOOKUP(B138,[1]销控总表!E$2:V$50200,14,0)","v":3},{"$f":"VLOOKUP(B138,[1]销控总表!E$2:V$50200,15,0)","v":"01"},55.65]
[138,"凤凰城C区/住宅-27-1-205","凤凰城C区","爱民区",null,{"$f":"VLOOKUP(B139,[1]销控总表!E$2:V$50200,12,0)","v":27},{"$f":"VLOOKUP(B139,[1]销控总表!E$2:V$50200,13,0)","v":1},{"$f":"VLOOKUP(B139,[1]销控总表!E$2:V$50200,14,0)","v":2},{"$f":"VLOOKUP(B139,[1]销控总表!E$2:V$50200,15,0)","v":"05"},56.56]
[139,"凤凰城C区/住宅-27-2-101","凤凰城C区","爱民区",{"$f":"VLOOKUP(B140,[1]销控总表!E$2:V$50200,10,0)","v":"底层"},{"$f":"VLOOKUP(B140,[1]销控总表!E$2:V$50200,12,0)","v":27},{"$f":"VLOOKUP(B140,[1]销控总表!E$2:V$50200,13,0)","v":2},{"$f":"VLOOKUP(B140,[1]销控总表!E$2:V$50200,14,0)","v":1},{"$f":"VLOOKUP(B140,[1]销控总表!E$2:V$50200,15,0)","v":"01"},56.56]
[140,"凤凰城C区/住宅-28-1-1001","凤凰城C区","爱民区",null,{"$f":"VLOOKUP(B141,[1]销控总表!E$2:V$50200,12,0)","v":28},{"$f":"VLOOKUP(B141,[1]销控总表!E$2:V$50200,13,0)","v":1},{"$f":"VLOOKUP(B141,[1]销控总表!E$2:V$50200,14,0)","v":10},{"$f":"VLOOKUP(B141,[1]销控总表!E$2:V$50200,15,0)","v":"01"},53.47]
[141,"凤凰城C区/住宅-29-2-501","凤凰城C区","爱民区",null,{"$f":"VLOOKUP(B142,[1]销控总表!E$2:V$50200,12,0)","v":29},{"$f":"VLOOKUP(B142,[1]销控总表!E$2:V$50200,13,0)","v":2},{"$f":"VLOOKUP(B142,[1]销控总表!E$2:V$50200,14,0)","v":5},{"$f":"VLOOKUP(B142,[1]销控总表!E$2:V$50200,15,0)","v":"01"},72.61]
[142,"凤凰城C区/住宅-21-2-103","凤凰城C区","爱民区",{"$f":"VLOOKUP(B143,[1]销控总表!E$2:V$50200,10,0)","v":"底层"},{"$f":"VLOOKUP(B143,[1]销控总表!E$2:V$50200,12,0)","v":21},{"$f":"VLOOKUP(B143,[1]销控总表!E$2:V$50200,13,0)","v":2},{"$f":"VLOOKUP(B143,[1]销控总表!E$2:V$50200,14,0)","v":1},{"$f":"VLOOKUP(B143,[1]销控总表!E$2:V$50200,15,0)","v":"03"},57.04]
[143,"凤凰城B区/住宅-B5-2-202","凤凰城B区","爱民区",{"$f":"VLOOKUP(B144,[1]销控总表!E$2:V$50200,10,0)","v":"商底层"},{"$f":"VLOOKUP(B144,[1]销控总表!E$2:V$50200,12,0)","v":"B5"},{"$f":"VLOOKUP(B144,[1]销控总表!E$2:V$50200,13,0)","v":2},{"$f":"VLOOKUP(B144,[1]销控总表!E$2:V$50200,14,0)","v":2},{"$f":"VLOOKUP(B144,[1]销控总表!E$2:V$50200,15,0)","v":"02"},75.05]
[144,"凤凰城B区/住宅-B10-2-201","凤凰城B区","爱民区",{"$f":"VLOOKUP(B145,[1]销控总表!E$2:V$50200,10,0)","v":"商底层"},{"$f":"VLOOKUP(B145,[1]销控总表!E$2:V$50200,12,0)","v":"B10"},{"$f":"VLOOKUP(B145,[1]销控总表!E$2:V$50200,13,0)","v":2},{"$f":"VLOOKUP(B145,[1]销控总表!E$2:V$50200,14,0)","v":2},{"$f":"VLOOKUP(B145,[1]销控总表!E$2:V$50200,15,0)","v":"01"},82.23]
[145,"凤凰城B区/住宅-B11-2-201","凤凰城B区","爱民区",null,{"$f":"VLOOKUP(B146,[1]销控总表!E$2:V$50200,12,0)","v":"B11"},{"$f":"VLOOKUP(B146,[1]销控总表!E$2:V$50200,13,0)","v":2},{"$f":"VLOOKUP(B146,[1]销控总表!E$2:V$50200,14,0)","v":2},{"$f":"VLOOKUP(B146,[1]销控总表!E$2:V$50200,15,0)","v":"01"},{"v":77.3,"d":"77.30"}]
[146,"凤凰城B区/住宅-B12-1-201","凤凰城B区","爱民区",null,{"$f":"VLOOKUP(B147,[1]销控总表!E$2:V$50200,12,0)","v":"B12"},{"$f":"VLOOKUP(B147,[1]销控总表!E$2:V$50200,13,0)","v":1},{"$f":"VLOOKUP(B147,[1]销控总表!E$2:V$50200,14,0)","v":2},{"$f":"VLOOKUP(B147,[1]销控总表!E$2:V$50200,15,0)","v":"01"},73.37]
[147,"凤凰城B区/住宅-B12-1-203","凤凰城B区","爱民区",null,{"$f":"VLOOKUP(B148,[1]销控总表!E$2:V$50200,12,0)","v":"B12"},{"$f":"VLOOKUP(B148,[1]销控总表!E$2:V$50200,13,0)","v":1},{"$f":"VLOOKUP(B148,[1]销控总表!E$2:V$50200,14,0)","v":2},{"$f":"VLOOKUP(B148,[1]销控总表!E$2:V$50200,15,0)","v":"03"},77.58]
[148,"凤凰城B区/住宅-B22-4-502","凤凰城B区","爱民区",null,{"$f":"VLOOKUP(B149,[1]销控总表!E$2:V$50200,12,0)","v":"B22"},{"$f":"VLOOKUP(B149,[1]销控总表!E$2:V$50200,13,0)","v":4},{"$f":"VLOOKUP(B149,[1]销控总表!E$2:V$50200,14,0)","v":5},{"$f":"VLOOKUP(B149,[1]销控总表!E$2:V$50200,15,0)","v":"02"},51.21]
[149,"凤凰城B区/住宅-B24-1-301","凤凰城B区","爱民区",null,{"$f":"VLOOKUP(B150,[1]销控总表!E$2:V$50200,12,0)","v":"B24"},{"$f":"VLOOKUP(B150,[1]销控总表!E$2:V$50200,13,0)","v":1},{"$f":"VLOOKUP(B150,[1]销控总表!E$2:V$50200,14,0)","v":3},{"$f":"VLOOKUP(B150,[1]销控总表!E$2:V$50200,15,0)","v":"01"},78.34]
[150,"凤凰城B区/住宅-B24-1-401","凤凰城B区","爱民区",null,{"$f":"VLOOKUP(B151,[1]销控总表!E$2:V$50200,12,0)","v":"B24"},{"$f":"VLOOKUP(B151,[1]销控总表!E$2:V$50200,13,0)","v":1},{"$f":"VLOOKUP(B151,[1]销控总表!E$2:V$50200,14,0)","v":4},{"$f":"VLOOKUP(B151,[1]销控总表!E$2:V$50200,15,0)","v":"01"},78.34]
[151,"凤凰城B区/住宅-B24-1-501","凤凰城B区","爱民区",null,{"$f":"VLOOKUP(B152,[1]销控总表!E$2:V$50200,12,0)","v":"B24"},{"$f":"VLOOKUP(B152,[1]销控总表!E$2:V$50200,13,0)","v":1},{"$f":"VLOOKUP(B152,[1]销控总表!E$2:V$50200,14,0)","v":5},{"$f":"VLOOKUP(B152,[1]销控总表!E$2:V$50200,15,0)","v":"01"},78.34]
[152,"凤凰城B区/住宅-B24-1-801","凤凰城B区","爱民区",null,{"$f":"VLOOKUP(B153,[1]销控总表!E$2:V$50200,12,0)","v":"B24"},{"$f":"VLOOKUP(B153,[1]销控总表!E$2:V$50200,13,0)","v":1},{"$f":"VLOOKUP(B153,[1]销控总表!E$2:V$50200,14,0)","v":8},{"$f":"VLOOKUP(B153,[1]销控总表!E$2:V$50200,15,0)","v":"01"},78.34]
[153,"凤凰城B区/住宅-B24-2-601","凤凰城B区","爱民区",null,{"$f":"VLOOKUP(B154,[1]销控总表!E$2:V$50200,12,0)","v":"B24"},{"$f":"VLOOKUP(B154,[1]销控总表!E$2:V$50200,13,0)","v":2},{"$f":"VLOOKUP(B154,[1]销控总表!E$2:V$50200,14,0)","v":6},{"$f":"VLOOKUP(B154,[1]销控总表!E$2:V$50200,15,0)","v":"01"},78.34]
[154,"凤凰城B区/住宅-B24-2-801","凤凰城B区","爱民区",null,{"$f":"VLOOKUP(B155,[1]销控总表!E$2:V$50200,12,0)","v":"B24"},{"$f":"VLOOKUP(B155,[1]销控总表!E$2:V$50200,13,0)","v":2},{"$f":"VLOOKUP(B155,[1]销控总表!E$2:V$50200,14,0)","v":8},{"$f":"VLOOKUP(B155,[1]销控总表!E$2:V$50200,15,0)","v":"01"},78.34]
[155,"凤凰城B区/住宅-B24-3-203","凤凰城B区","爱民区",{"$f":"VLOOKUP(B156,[1]销控总表!E$2:V$50200,10,0)","v":"商底层"},{"$f":"VLOOKUP(B156,[1]销控总表!E$2:V$50200,12,0)","v":"B24"},{"$f":"VLOOKUP(B156,[1]销控总表!E$2:V$50200,13,0)","v":3},{"$f":"VLOOKUP(B156,[1]销控总表!E$2:V$50200,14,0)","v":2},{"$f":"VLOOKUP(B156,[1]销控总表!E$2:V$50200,15,0)","v":"03"},78.34]
[156,"凤凰城B区/住宅-B24-3-303","凤凰城B区","爱民区",null,{"$f":"VLOOKUP(B157,[1]销控总表!E$2:V$50200,12,0)","v":"B24"},{"$f":"VLOOKUP(B157,[1]销控总表!E$2:V$50200,13,0)","v":3},{"$f":"VLOOKUP(B157,[1]销控总表!E$2:V$50200,14,0)","v":3},{"$f":"VLOOKUP(B157,[1]销控总表!E$2:V$50200,15,0)","v":"03"},78.34]
[157,"凤凰城B区/住宅-B24-3-403","凤凰城B区","爱民区",null,{"$f":"VLOOKUP(B158,[1]销控总表!E$2:V$50200,12,0)","v":"B24"},{"$f":"VLOOKUP(B158,[1]销控总表!E$2:V$50200,13,0)","v":3},{"$f":"VLOOKUP(B158,[1]销控总表!E$2:V$50200,14,0)","v":4},{"$f":"VLOOKUP(B158,[1]销控总表!E$2:V$50200,15,0)","v":"03"},78.34]
[158,"凤凰城B区/住宅-B25-1-201","凤凰城B区","爱民区",{"$f":"VLOOKUP(B159,[1]销控总表!E$2:V$50200,10,0)","v":"商底层"},{"$f":"VLOOKUP(B159,[1]销控总表!E$2:V$50200,12,0)","v":"B25"},{"$f":"VLOOKUP(B159,[1]销控总表!E$2:V$50200,13,0)","v":1},{"$f":"VLOOKUP(B159,[1]销控总表!E$2:V$50200,14,0)","v":2},{"$f":"VLOOKUP(B159,[1]销控总表!E$2:V$50200,15,0)","v":"01"},78.93]
[159,"凤凰城B区/住宅-B25-1-203","凤凰城B区","爱民区",{"$f":"VLOOKUP(B160,[1]销控总表!E$2:V$50200,10,0)","v":"商底层"},{"$f":"VLOOKUP(B160,[1]销控总表!E$2:V$50200,12,0)","v":"B25"},{"$f":"VLOOKUP(B160,[1]销控总表!E$2:V$50200,13,0)","v":1},{"$f":"VLOOKUP(B160,[1]销控总表!E$2:V$50200,14,0)","v":2},{"$f":"VLOOKUP(B160,[1]销控总表!E$2:V$50200,15,0)","v":"03"},74.65]
[160,"凤凰城B区/住宅-B25-1-303","凤凰城B区","爱民区",null,{"$f":"VLOOKUP(B161,[1]销控总表!E$2:V$50200,12,0)","v":"B25"},{"$f":"VLOOKUP(B161,[1]销控总表!E$2:V$50200,13,0)","v":1},{"$f":"VLOOKUP(B161,[1]销控总表!E$2:V$50200,14,0)","v":3},{"$f":"VLOOKUP(B161,[1]销控总表!E$2:V$50200,15,0)","v":"03"},74.65]
[161,"凤凰城B区/住宅-B25-2-201","凤凰城B区","爱民区",{"$f":"VLOOKUP(B162,[1]销控总表!E$2:V$50200,10,0)","v":"商底层"},{"$f":"VLOOKUP(B162,[1]销控总表!E$2:V$50200,12,0)","v":"B25"},{"$f":"VLOOKUP(B162,[1]销控总表!E$2:V$50200,13,0)","v":2},{"$f":"VLOOKUP(B162,[1]销控总表!E$2:V$50200,14,0)","v":2},{"$f":"VLOOKUP(B162,[1]销控总表!E$2:V$50200,15,0)","v":"01"},78.93]
[162,"凤凰城B区/住宅-B25-3-202","凤凰城B区","爱民区",{"$f":"VLOOKUP(B163,[1]销控总表!E$2:V$50200,10,0)","v":"商底层"},{"$f":"VLOOKUP(B163,[1]销控总表!E$2:V$50200,12,0)","v":"B25"},{"$f":"VLOOKUP(B163,[1]销控总表!E$2:V$50200,13,0)","v":3},{"$f":"VLOOKUP(B163,[1]销控总表!E$2:V$50200,14,0)","v":2},{"$f":"VLOOKUP(B163,[1]销控总表!E$2:V$50200,15,0)","v":"02"},69.58]
[163,"凤凰城B区/住宅-B26-1-201","凤凰城B区","爱民区",{"$f":"VLOOKUP(B164,[1]销控总表!E$2:V$50200,10,0)","v":"商底层"},{"$f":"VLOOKUP(B164,[1]销控总表!E$2:V$50200,12,0)","v":"B26"},{"$f":"VLOOKUP(B164,[1]销控总表!E$2:V$50200,13,0)","v":1},{"$f":"VLOOKUP(B164,[1]销控总表!E$2:V$50200,14,0)","v":2},{"$f":"VLOOKUP(B164,[1]销控总表!E$2:V$50200,15,0)","v":"01"},78.93]
[164,"凤凰城B区/住宅-B26-2-201","凤凰城B区","爱民区",{"$f":"VLOOKUP(B165,[1]销控总表!E$2:V$50200,10,0)","v":"商底层"},{"$f":"VLOOKUP(B165,[1]销控总表!E$2:V$50200,12,0)","v":"B26"},{"$f":"VLOOKUP(B165,[1]销控总表!E$2:V$50200,13,0)","v":2},{"$f":"VLOOKUP(B165,[1]销控总表!E$2:V$50200,14,0)","v":2},{"$f":"VLOOKUP(B165,[1]销控总表!E$2:V$50200,15,0)","v":"01"},78.93]
[165,"凤凰城B区/住宅-B26-2-301","凤凰城B区","爱民区",null,{"$f":"VLOOKUP(B166,[1]销控总表!E$2:V$50200,12,0)","v":"B26"},{"$f":"VLOOKUP(B166,[1]销控总表!E$2:V$50200,13,0)","v":2},{"$f":"VLOOKUP(B166,[1]销控总表!E$2:V$50200,14,0)","v":3},{"$f":"VLOOKUP(B166,[1]销控总表!E$2:V$50200,15,0)","v":"01"},78.93]
[166,"凤凰城B区/住宅-B26-2-401","凤凰城B区","爱民区",null,{"$f":"VLOOKUP(B167,[1]销控总表!E$2:V$50200,12,0)","v":"B26"},{"$f":"VLOOKUP(B167,[1]销控总表!E$2:V$50200,13,0)","v":2},{"$f":"VLOOKUP(B167,[1]销控总表!E$2:V$50200,14,0)","v":4},{"$f":"VLOOKUP(B167,[1]销控总表!E$2:V$50200,15,0)","v":"01"},78.93]
[167,"凤凰城B区/住宅-B27-1-203","凤凰城B区","爱民区",{"$f":"VLOOKUP(B168,[1]销控总表!E$2:V$50200,10,0)","v":"商底层"},{"$f":"VLOOKUP(B168,[1]销控总表!E$2:V$50200,12,0)","v":"B27"},{"$f":"VLOOKUP(B168,[1]销控总表!E$2:V$50200,13,0)","v":1},{"$f":"VLOOKUP(B168,[1]销控总表!E$2:V$50200,14,0)","v":2},{"$f":"VLOOKUP(B168,[1]销控总表!E$2:V$50200,15,0)","v":"03"},74.18]
[168,"凤凰城B区/住宅-B27-2-201","凤凰城B区","爱民区",{"$f":"VLOOKUP(B169,[1]销控总表!E$2:V$50200,10,0)","v":"商底层"},{"$f":"VLOOKUP(B169,[1]销控总表!E$2:V$50200,12,0)","v":"B27"},{"$f":"VLOOKUP(B169,[1]销控总表!E$2:V$50200,13,0)","v":2},{"$f":"VLOOKUP(B169,[1]销控总表!E$2:V$50200,14,0)","v":2},{"$f":"VLOOKUP(B169,[1]销控总表!E$2:V$50200,15,0)","v":"01"},78.43]
[169,"凤凰城B区/住宅-B27-3-201","凤凰城B区","爱民区",{"$f":"VLOOKUP(B170,[1]销控总表!E$2:V$50200,10,0)","v":"商底层"},{"$f":"VLOOKUP(B170,[1]销控总表!E$2:V$50200,12,0)","v":"B27"},{"$f":"VLOOKUP(B170,[1]销控总表!E$2:V$50200,13,0)","v":3},{"$f":"VLOOKUP(B170,[1]销控总表!E$2:V$50200,14,0)","v":2},{"$f":"VLOOKUP(B170,[1]销控总表!E$2:V$50200,15,0)","v":"01"},77.83]
[170,"凤凰城B区/住宅-B27-3-203","凤凰城B区","爱民区",{"$f":"VLOOKUP(B171,[1]销控总表!E$2:V$50200,10,0)","v":"商底层"},{"$f":"VLOOKUP(B171,[1]销控总表!E$2:V$50200,12,0)","v":"B27"},{"$f":"VLOOKUP(B171,[1]销控总表!E$2:V$50200,13,0)","v":3},{"$f":"VLOOKUP(B171,[1]销控总表!E$2:V$50200,14,0)","v":2},{"$f":"VLOOKUP(B171,[1]销控总表!E$2:V$50200,15,0)","v":"03"},78.43]
[171,"凤凰城B区/住宅-B27-3-303","凤凰城B区","爱民区",null,{"$f":"VLOOKUP(B172,[1]销控总表!E$2:V$50200,12,0)","v":"B27"},{"$f":"VLOOKUP(B172,[1]销控总表!E$2:V$50200,13,0)","v":3},{"$f":"VLOOKUP(B172,[1]销控总表!E$2:V$50200,14,0)","v":3},{"$f":"VLOOKUP(B172,[1]销控总表!E$2:V$50200,15,0)","v":"03"},78.43]
[172,"凤凰城A组团三期/住宅-4-1-1702","凤凰城A组团三期","西安区",{"$f":"VLOOKUP(B173,[1]销控总表!E$2:V$50200,10,0)","v":"顶层"},{"$f":"VLOOKUP(B173,[1]销控总表!E$2:V$50200,12,0)","v":4},{"$f":"VLOOKUP(B173,[1]销控总表!E$2:V$50200,13,0)","v":1},{"$f":"VLOOKUP(B173,[1]销控总表!E$2:V$50200,14,0)","v":17},{"$f":"VLOOKUP(B173,[1]销控总表!E$2:V$50200,15,0)","v":"02"},65.04]
[173,"凤凰城A组团三期/住宅-4-1-1703","凤凰城A组团三期","西安区",{"$f":"VLOOKUP(B174,[1]销控总表!E$2:V$50200,10,0)","v":"顶层"},{"$f":"VLOOKUP(B174,[1]销控总表!E$2:V$50200,12,0)","v":4},{"$f":"VLOOKUP(B174,[1]销控总表!E$2:V$50200,13,0)","v":1},{"$f":"VLOOKUP(B174,[1]销控总表!E$2:V$50200,14,0)","v":17},{"$f":"VLOOKUP(B174,[1]销控总表!E$2:V$50200,15,0)","v":"03"},68.22]
[174,"凤凰城A组团三期/住宅-4-2-1703","凤凰城A组团三期","西安区",{"$f":"VLOOKUP(B175,[1]销控总表!E$2:V$50200,10,0)","v":"顶层"},{"$f":"VLOOKUP(B175,[1]销控总表!E$2:V$50200,12,0)","v":4},{"$f":"VLOOKUP(B175,[1]销控总表!E$2:V$50200,13,0)","v":2},{"$f":"VLOOKUP(B175,[1]销控总表!E$2:V$50200,14,0)","v":17},{"$f":"VLOOKUP(B175,[1]销控总表!E$2:V$50200,15,0)","v":"03"},65.04]
[175,"凤凰城A组团三期/住宅-5-1-1102","凤凰城A组团三期","西安区",{"$f":"VLOOKUP(B176,[1]销控总表!E$2:V$50200,10,0)","v":"顶层"},{"$f":"VLOOKUP(B176,[1]销控总表!E$2:V$50200,12,0)","v":5},{"$f":"VLOOKUP(B176,[1]销控总表!E$2:V$50200,13,0)","v":1},{"$f":"VLOOKUP(B176,[1]销控总表!E$2:V$50200,14,0)","v":11},{"$f":"VLOOKUP(B176,[1]销控总表!E$2:V$50200,15,0)","v":"02"},60.29]
[176,"凤凰城A组团三期/住宅-5-1-1103","凤凰城A组团三期","西安区",{"$f":"VLOOKUP(B177,[1]销控总表!E$2:V$50200,10,0)","v":"顶层"},{"$f":"VLOOKUP(B177,[1]销控总表!E$2:V$50200,12,0)","v":5},{"$f":"VLOOKUP(B177,[1]销控总表!E$2:V$50200,13,0)","v":1},{"$f":"VLOOKUP(B177,[1]销控总表!E$2:V$50200,14,0)","v":11},{"$f":"VLOOKUP(B177,[1]销控总表!E$2:V$50200,15,0)","v":"03"},65.77]
[177,"凤凰城A组团三期/住宅-5-2-1102","凤凰城A组团三期","西安区",{"$f":"VLOOKUP(B178,[1]销控总表!E$2:V$50200,10,0)","v":"顶层"},{"$f":"VLOOKUP(B178,[1]销控总表!E$2:V$50200,12,0)","v":5},{"$f":"VLOOKUP(B178,[1]销控总表!E$2:V$50200,13,0)","v":2},{"$f":"VLOOKUP(B178,[1]销控总表!E$2:V$50200,14,0)","v":11},{"$f":"VLOOKUP(B178,[1]销控总表!E$2:V$50200,15,0)","v":"02"},65.77]
[178,"凤凰城A组团三期/住宅-5-2-1103","凤凰城A组团三期","西安区",{"$f":"VLOOKUP(B179,[1]销控总表!E$2:V$50200,10,0)","v":"顶层"},{"$f":"VLOOKUP(B179,[1]销控总表!E$2:V$50200,12,0)","v":5},{"$f":"VLOOKUP(B179,[1]销控总表!E$2:V$50200,13,0)","v":2},{"$f":"VLOOKUP(B179,[1]销控总表!E$2:V$50200,14,0)","v":11},{"$f":"VLOOKUP(B179,[1]销控总表!E$2:V$50200,15,0)","v":"03"},60.29]
[179,"凤凰城A组团三期/住宅-8-1-1702","凤凰城A组团三期","西安区",{"$f":"VLOOKUP(B180,[1]销控总表!E$2:V$50200,10,0)","v":"顶层"},{"$f":"VLOOKUP(B180,[1]销控总表!E$2:V$50200,12,0)","v":8},{"$f":"VLOOKUP(B180,[1]销控总表!E$2:V$50200,13,0)","v":1},{"$f":"VLOOKUP(B180,[1]销控总表!E$2:V$50200,14,0)","v":17},{"$f":"VLOOKUP(B180,[1]销控总表!E$2:V$50200,15,0)","v":"02"},64.86]
[180,"凤凰城A组团三期/住宅-8-1-1703","凤凰城A组团三期","西安区",{"$f":"VLOOKUP(B181,[1]销控总表!E$2:V$50200,10,0)","v":"顶层"},{"$f":"VLOOKUP(B181,[1]销控总表!E$2:V$50200,12,0)","v":8},{"$f":"VLOOKUP(B181,[1]销控总表!E$2:V$50200,13,0)","v":1},{"$f":"VLOOKUP(B181,[1]销控总表!E$2:V$50200,14,0)","v":17},{"$f":"VLOOKUP(B181,[1]销控总表!E$2:V$50200,15,0)","v":"03"},65.73]
[181,"凤凰城A组团三期/住宅-8-2-1702","凤凰城A组团三期","西安区",{"$f":"VLOOKUP(B182,[1]销控总表!E$2:V$50200,10,0)","v":"顶层"},{"$f":"VLOOKUP(B182,[1]销控总表!E$2:V$50200,12,0)","v":8},{"$f":"VLOOKUP(B182,[1]销控总表!E$2:V$50200,13,0)","v":2},{"$f":"VLOOKUP(B182,[1]销控总表!E$2:V$50200,14,0)","v":17},{"$f":"VLOOKUP(B182,[1]销控总表!E$2:V$50200,15,0)","v":"02"},65.73]
[182,"凤凰城A组团三期/住宅-8-2-1703","凤凰城A组团三期","西安区",{"$f":"VLOOKUP(B183,[1]销控总表!E$2:V$50200,10,0)","v":"顶层"},{"$f":"VLOOKUP(B183,[1]销控总表!E$2:V$50200,12,0)","v":8},{"$f":"VLOOKUP(B183,[1]销控总表!E$2:V$50200,13,0)","v":2},{"$f":"VLOOKUP(B183,[1]销控总表!E$2:V$50200,14,0)","v":17},{"$f":"VLOOKUP(B183,[1]销控总表!E$2:V$50200,15,0)","v":"03"},64.86]
[183,"凤凰城A组团三期/住宅-9-1-1501","凤凰城A组团三期","西安区",{"$f":"VLOOKUP(B184,[1]销控总表!E$2:V$50200,10,0)","v":"顶层"},{"$f":"VLOOKUP(B184,[1]销控总表!E$2:V$50200,12,0)","v":9},{"$f":"VLOOKUP(B184,[1]销控总表!E$2:V$50200,13,0)","v":1},{"$f":"VLOOKUP(B184,[1]销控总表!E$2:V$50200,14,0)","v":15},{"$f":"VLOOKUP(B184,[1]销控总表!E$2:V$50200,15,0)","v":"01"},54.61]
[184,"凤凰城A组团三期/住宅-9-1-1502","凤凰城A组团三期","西安区",{"$f":"VLOOKUP(B185,[1]销控总表!E$2:V$50200,10,0)","v":"顶层"},{"$f":"VLOOKUP(B185,[1]销控总表!E$2:V$50200,12,0)","v":9},{"$f":"VLOOKUP(B185,[1]销控总表!E$2:V$50200,13,0)","v":1},{"$f":"VLOOKUP(B185,[1]销控总表!E$2:V$50200,14,0)","v":15},{"$f":"VLOOKUP(B185,[1]销控总表!E$2:V$50200,15,0)","v":"02"},56.18]
[185,"凤凰城A组团三期/住宅-9-1-1503","凤凰城A组团三期","西安区",{"$f":"VLOOKUP(B186,[1]销控总表!E$2:V$50200,10,0)","v":"顶层"},{"$f":"VLOOKUP(B186,[1]销控总表!E$2:V$50200,12,0)","v":9},{"$f":"VLOOKUP(B186,[1]销控总表!E$2:V$50200,13,0)","v":1},{"$f":"VLOOKUP(B186,[1]销控总表!E$2:V$50200,14,0)","v":15},{"$f":"VLOOKUP(B186,[1]销控总表!E$2:V$50200,15,0)","v":"03"},{"v":58.7,"d":"58.70"}]
[186,"凤凰城A组团三期/住宅-9-1-1504","凤凰城A组团三期","西安区",{"$f":"VLOOKUP(B187,[1]销控总表!E$2:V$50200,10,0)","v":"顶层"},{"$f":"VLOOKUP(B187,[1]销控总表!E$2:V$50200,12,0)","v":9},{"$f":"VLOOKUP(B187,[1]销控总表!E$2:V$50200,13,0)","v":1},{"$f":"VLOOKUP(B187,[1]销控总表!E$2:V$50200,14,0)","v":15},{"$f":"VLOOKUP(B187,[1]销控总表!E$2:V$50200,15,0)","v":"04"},55.99]
[187,"凤凰城A组团三期/住宅-9-1-1505","凤凰城A组团三期","西安区",{"$f":"VLOOKUP(B188,[1]销控总表!E$2:V$50200,10,0)","v":"顶层"},{"$f":"VLOOKUP(B188,[1]销控总表!E$2:V$50200,12,0)","v":9},{"$f":"VLOOKUP(B188,[1]销控总表!E$2:V$50200,13,0)","v":1},{"$f":"VLOOKUP(B188,[1]销控总表!E$2:V$50200,14,0)","v":15},{"$f":"VLOOKUP(B188,[1]销控总表!E$2:V$50200,15,0)","v":"05"},76.59]
[188,"凤凰城A组团三期/住宅-9-1-901","凤凰城A组团三期","西安区",null,{"$f":"VLOOKUP(B189,[1]销控总表!E$2:V$50200,12,0)","v":9},{"$f":"VLOOKUP(B189,[1]销控总表!E$2:V$50200,13,0)","v":1},{"$f":"VLOOKUP(B189,[1]销控总表!E$2:V$50200,14,0)","v":9},{"$f":"VLOOKUP(B189,[1]销控总表!E$2:V$50200,15,0)","v":"01"},54.61]
[189,"凤凰城A组团三期/住宅-9-2-1501","凤凰城A组团三期","西安区",{"$f":"VLOOKUP(B190,[1]销控总表!E$2:V$50200,10,0)","v":"顶层"},{"$f":"VLOOKUP(B190,[1]销控总表!E$2:V$50200,12,0)","v":9},{"$f":"VLOOKUP(B190,[1]销控总表!E$2:V$50200,13,0)","v":2},{"$f":"VLOOKUP(B190,[1]销控总表!E$2:V$50200,14,0)","v":15},{"$f":"VLOOKUP(B190,[1]销控总表!E$2:V$50200,15,0)","v":"01"},76.59]
[190,"凤凰城A组团三期/住宅-9-2-1502","凤凰城A组团三期","西安区",{"$f":"VLOOKUP(B191,[1]销控总表!E$2:V$50200,10,0)","v":"顶层"},{"$f":"VLOOKUP(B191,[1]销控总表!E$2:V$50200,12,0)","v":9},{"$f":"VLOOKUP(B191,[1]销控总表!E$2:V$50200,13,0)","v":2},{"$f":"VLOOKUP(B191,[1]销控总表!E$2:V$50200,14,0)","v":15},{"$f":"VLOOKUP(B191,[1]销控总表!E$2:V$50200,15,0)","v":"02"},55.99]
[191,"凤凰城A组团三期/住宅-9-2-1504","凤凰城A组团三期","西安区",{"$f":"VLOOKUP(B192,[1]销控总表!E$2:V$50200,10,0)","v":"顶层"},{"$f":"VLOOKUP(B192,[1]销控总表!E$2:V$50200,12,0)","v":9},{"$f":"VLOOKUP(B192,[1]销控总表!E$2:V$50200,13,0)","v":2},{"$f":"VLOOKUP(B192,[1]销控总表!E$2:V$50200,14,0)","v":15},{"$f":"VLOOKUP(B192,[1]销控总表!E$2:V$50200,15,0)","v":"04"},56.18]
[192,"凤凰城A组团三期/住宅-9-2-1505","凤凰城A组团三期","西安区",{"$f":"VLOOKUP(B193,[1]销控总表!E$2:V$50200,10,0)","v":"顶层"},{"$f":"VLOOKUP(B193,[1]销控总表!E$2:V$50200,12,0)","v":9},{"$f":"VLOOKUP(B193,[1]销控总表!E$2:V$50200,13,0)","v":2},{"$f":"VLOOKUP(B193,[1]销控总表!E$2:V$50200,14,0)","v":15},{"$f":"VLOOKUP(B193,[1]销控总表!E$2:V$50200,15,0)","v":"05"},54.61]
[193,"凤凰城A组团三期/住宅-9-2-1105","凤凰城A组团三期","西安区",null,{"$f":"VLOOKUP(B194,[1]销控总表!E$2:V$50200,12,0)","v":9},{"$f":"VLOOKUP(B194,[1]销控总表!E$2:V$50200,13,0)","v":2},{"$f":"VLOOKUP(B194,[1]销控总表!E$2:V$50200,14,0)","v":11},{"$f":"VLOOKUP(B194,[1]销控总表!E$2:V$50200,15,0)","v":"05"},54.61]
[194,"凤凰城A组团三期/住宅-9-2-405","凤凰城A组团三期","西安区",null,{"$f":"VLOOKUP(B195,[1]销控总表!E$2:V$50200,12,0)","v":9},{"$f":"VLOOKUP(B195,[1]销控总表!E$2:V$50200,13,0)","v":2},{"$f":"VLOOKUP(B195,[1]销控总表!E$2:V$50200,14,0)","v":4},{"$f":"VLOOKUP(B195,[1]销控总表!E$2:V$50200,15,0)","v":"05"},54.61]
[195,"凤凰城A组团三期/住宅-9-2-305","凤凰城A组团三期","西安区",null,{"$f":"VLOOKUP(B196,[1]销控总表!E$2:V$50200,12,0)","v":9},{"$f":"VLOOKUP(B196,[1]销控总表!E$2:V$50200,13,0)","v":2},{"$f":"VLOOKUP(B196,[1]销控总表!E$2:V$50200,14,0)","v":3},{"$f":"VLOOKUP(B196,[1]销控总表!E$2:V$50200,15,0)","v":"05"},54.61]
[196,"凤凰城A组团三期/住宅-10-1-1502","凤凰城A组团三期","西安区",{"$f":"VLOOKUP(B197,[1]销控总表!E$2:V$50200,10,0)","v":"顶层"},{"$f":"VLOOKUP(B197,[1]销控总表!E$2:V$50200,12,0)","v":10},{"$f":"VLOOKUP(B197,[1]销控总表!E$2:V$50200,13,0)","v":1},{"$f":"VLOOKUP(B197,[1]销控总表!E$2:V$50200,14,0)","v":15},{"$f":"VLOOKUP(B197,[1]销控总表!E$2:V$50200,15,0)","v":"02"},68.22]
[197,"凤凰城A组团三期/住宅-10-1-1503","凤凰城A组团三期","西安区",{"$f":"VLOOKUP(B198,[1]销控总表!E$2:V$50200,10,0)","v":"顶层"},{"$f":"VLOOKUP(B198,[1]销控总表!E$2:V$50200,12,0)","v":10},{"$f":"VLOOKUP(B198,[1]销控总表!E$2:V$50200,13,0)","v":1},{"$f":"VLOOKUP(B198,[1]销控总表!E$2:V$50200,14,0)","v":15},{"$f":"VLOOKUP(B198,[1]销控总表!E$2:V$50200,15,0)","v":"03"},65.04]
[198,"凤凰城A组团三期/住宅-10-2-1502","凤凰城A组团三期","西安区",{"$f":"VLOOKUP(B199,[1]销控总表!E$2:V$50200,10,0)","v":"顶层"},{"$f":"VLOOKUP(B199,[1]销控总表!E$2:V$50200,12,0)","v":10},{"$f":"VLOOKUP(B199,[1]销控总表!E$2:V$50200,13,0)","v":2},{"$f":"VLOOKUP(B199,[1]销控总表!E$2:V$50200,14,0)","v":15},{"$f":"VLOOKUP(B199,[1]销控总表!E$2:V$50200,15,0)","v":"02"},65.04]
[199,"凤凰城A组团三期/住宅-12-1-1102","凤凰城A组团三期","西安区",{"$f":"VLOOKUP(B200,[1]销控总表!E$2:V$50200,10,0)","v":"顶层"},{"$f":"VLOOKUP(B200,[1]销控总表!E$2:V$50200,12,0)","v":12},{"$f":"VLOOKUP(B200,[1]销控总表!E$2:V$50200,13,0)","v":1},{"$f":"VLOOKUP(B200,[1]销控总表!E$2:V$50200,14,0)","v":11},{"$f":"VLOOKUP(B200,[1]销控总表!E$2:V$50200,15,0)","v":"02"},65.94]
[200,"凤凰城A组团三期/住宅-12-1-1103","凤凰城A组团三期","西安区",{"$f":"VLOOKUP(B201,[1]销控总表!E$2:V$50200,10,0)","v":"顶层"},{"$f":"VLOOKUP(B201,[1]销控总表!E$2:V$50200,12,0)","v":12},{"$f":"VLOOKUP(B201,[1]销控总表!E$2:V$50200,13,0)","v":1},{"$f":"VLOOKUP(B201,[1]销控总表!E$2:V$50200,14,0)","v":11},{"$f":"VLOOKUP(B201,[1]销控总表!E$2:V$50200,15,0)","v":"03"},65.94]
[201,"凤凰城A组团三期/住宅-12-2-1102","凤凰城A组团三期","西安区",{"$f":"VLOOKUP(B202,[1]销控总表!E$2:V$50200,10,0)","v":"顶层"},{"$f":"VLOOKUP(B202,[1]销控总表!E$2:V$50200,12,0)","v":12},{"$f":"VLOOKUP(B202,[1]销控总表!E$2:V$50200,13,0)","v":2},{"$f":"VLOOKUP(B202,[1]销控总表!E$2:V$50200,14,0)","v":11},{"$f":"VLOOKUP(B202,[1]销控总表!E$2:V$50200,15,0)","v":"02"},60.45]
[202,"凤凰城A组团三期/住宅-16-1-1701","凤凰城A组团三期","西安区",{"$f":"VLOOKUP(B203,[1]销控总表!E$2:V$50200,10,0)","v":"顶层"},{"$f":"VLOOKUP(B203,[1]销控总表!E$2:V$50200,12,0)","v":16},{"$f":"VLOOKUP(B203,[1]销控总表!E$2:V$50200,13,0)","v":1},{"$f":"VLOOKUP(B203,[1]销控总表!E$2:V$50200,14,0)","v":17},{"$f":"VLOOKUP(B203,[1]销控总表!E$2:V$50200,15,0)","v":"01"},78.19]
[203,"凤凰城A组团三期/住宅-16-1-1702","凤凰城A组团三期","西安区",{"$f":"VLOOKUP(B204,[1]销控总表!E$2:V$50200,10,0)","v":"顶层"},{"$f":"VLOOKUP(B204,[1]销控总表!E$2:V$50200,12,0)","v":16},{"$f":"VLOOKUP(B204,[1]销控总表!E$2:V$50200,13,0)","v":1},{"$f":"VLOOKUP(B204,[1]销控总表!E$2:V$50200,14,0)","v":17},{"$f":"VLOOKUP(B204,[1]销控总表!E$2:V$50200,15,0)","v":"02"},58.86]
[204,"凤凰城A组团三期/住宅-16-1-1703","凤凰城A组团三期","西安区",{"$f":"VLOOKUP(B205,[1]销控总表!E$2:V$50200,10,0)","v":"顶层"},{"$f":"VLOOKUP(B205,[1]销控总表!E$2:V$50200,12,0)","v":16},{"$f":"VLOOKUP(B205,[1]销控总表!E$2:V$50200,13,0)","v":1},{"$f":"VLOOKUP(B205,[1]销控总表!E$2:V$50200,14,0)","v":17},{"$f":"VLOOKUP(B205,[1]销控总表!E$2:V$50200,15,0)","v":"03"},61.51]
[205,"凤凰城A组团三期/住宅-16-2-1701","凤凰城A组团三期","西安区",{"$f":"VLOOKUP(B206,[1]销控总表!E$2:V$50200,10,0)","v":"顶层"},{"$f":"VLOOKUP(B206,[1]销控总表!E$2:V$50200,12,0)","v":16},{"$f":"VLOOKUP(B206,[1]销控总表!E$2:V$50200,13,0)","v":2},{"$f":"VLOOKUP(B206,[1]销控总表!E$2:V$50200,14,0)","v":17},{"$f":"VLOOKUP(B206,[1]销控总表!E$2:V$50200,15,0)","v":"01"},73.23]
[206,"凤凰城A组团三期/住宅-16-2-1702","凤凰城A组团三期","西安区",{"$f":"VLOOKUP(B207,[1]销控总表!E$2:V$50200,10,0)","v":"顶层"},{"$f":"VLOOKUP(B207,[1]销控总表!E$2:V$50200,12,0)","v":16},{"$f":"VLOOKUP(B207,[1]销控总表!E$2:V$50200,13,0)","v":2},{"$f":"VLOOKUP(B207,[1]销控总表!E$2:V$50200,14,0)","v":17},{"$f":"VLOOKUP(B207,[1]销控总表!E$2:V$50200,15,0)","v":"02"},61.51]
[207,"凤凰城A组团三期/住宅-16-2-1703","凤凰城A组团三期","西安区",{"$f":"VLOOKUP(B208,[1]销控总表!E$2:V$50200,10,0)","v":"顶层"},{"$f":"VLOOKUP(B208,[1]销控总表!E$2:V$50200,12,0)","v":16},{"$f":"VLOOKUP(B208,[1]销控总表!E$2:V$50200,13,0)","v":2},{"$f":"VLOOKUP(B208,[1]销控总表!E$2:V$50200,14,0)","v":17},{"$f":"VLOOKUP(B208,[1]销控总表!E$2:V$50200,15,0)","v":"03"},58.86]
[208,"凤凰城A组团三期/住宅-16-2-1704","凤凰城A组团三期","西安区",{"$f":"VLOOKUP(B209,[1]销控总表!E$2:V$50200,10,0)","v":"顶层"},{"$f":"VLOOKUP(B209,[1]销控总表!E$2:V$50200,12,0)","v":16},{"$f":"VLOOKUP(B209,[1]销控总表!E$2:V$50200,13,0)","v":2},{"$f":"VLOOKUP(B209,[1]销控总表!E$2:V$50200,14,0)","v":17},{"$f":"VLOOKUP(B209,[1]销控总表!E$2:V$50200,15,0)","v":"04"},78.19]
[209,"凤凰城A组团三期/住宅-17-1-1702","凤凰城A组团三期","西安区",{"$f":"VLOOKUP(B210,[1]销控总表!E$2:V$50200,10,0)","v":"顶层"},{"$f":"VLOOKUP(B210,[1]销控总表!E$2:V$50200,12,0)","v":17},{"$f":"VLOOKUP(B210,[1]销控总表!E$2:V$50200,13,0)","v":1},{"$f":"VLOOKUP(B210,[1]销控总表!E$2:V$50200,14,0)","v":17},{"$f":"VLOOKUP(B210,[1]销控总表!E$2:V$50200,15,0)","v":"02"},58.86]
[210,"凤凰城A组团三期/住宅-17-1-1704","凤凰城A组团三期","西安区",{"$f":"VLOOKUP(B211,[1]销控总表!E$2:V$50200,10,0)","v":"顶层"},{"$f":"VLOOKUP(B211,[1]销控总表!E$2:V$50200,12,0)","v":17},{"$f":"VLOOKUP(B211,[1]销控总表!E$2:V$50200,13,0)","v":1},{"$f":"VLOOKUP(B211,[1]销控总表!E$2:V$50200,14,0)","v":17},{"$f":"VLOOKUP(B211,[1]销控总表!E$2:V$50200,15,0)","v":"04"},73.23]
[211,"凤凰城A组团三期/住宅-17-2-1701","凤凰城A组团三期","西安区",{"$f":"VLOOKUP(B212,[1]销控总表!E$2:V$50200,10,0)","v":"顶层"},{"$f":"VLOOKUP(B212,[1]销控总表!E$2:V$50200,12,0)","v":17},{"$f":"VLOOKUP(B212,[1]销控总表!E$2:V$50200,13,0)","v":2},{"$f":"VLOOKUP(B212,[1]销控总表!E$2:V$50200,14,0)","v":17},{"$f":"VLOOKUP(B212,[1]销控总表!E$2:V$50200,15,0)","v":"01"},73.23]
[212,"凤凰城A组团三期/住宅-17-2-1703","凤凰城A组团三期","西安区",{"$f":"VLOOKUP(B213,[1]销控总表!E$2:V$50200,10,0)","v":"顶层"},{"$f":"VLOOKUP(B213,[1]销控总表!E$2:V$50200,12,0)","v":17},{"$f":"VLOOKUP(B213,[1]销控总表!E$2:V$50200,13,0)","v":2},{"$f":"VLOOKUP(B213,[1]销控总表!E$2:V$50200,14,0)","v":17},{"$f":"VLOOKUP(B213,[1]销控总表!E$2:V$50200,15,0)","v":"03"},58.86]
[213,"凤凰城A组团三期/住宅-17-2-1704","凤凰城A组团三期","西安区",{"$f":"VLOOKUP(B214,[1]销控总表!E$2:V$50200,10,0)","v":"顶层"},{"$f":"VLOOKUP(B214,[1]销控总表!E$2:V$50200,12,0)","v":17},{"$f":"VLOOKUP(B214,[1]销控总表!E$2:V$50200,13,0)","v":2},{"$f":"VLOOKUP(B214,[1]销控总表!E$2:V$50200,14,0)","v":17},{"$f":"VLOOKUP(B214,[1]销控总表!E$2:V$50200,15,0)","v":"04"},78.19]
[214,"凤凰城A组团三期/住宅-19-1-1502","凤凰城A组团三期","西安区",{"$f":"VLOOKUP(B215,[1]销控总表!E$2:V$50200,10,0)","v":"顶层"},{"$f":"VLOOKUP(B215,[1]销控总表!E$2:V$50200,12,0)","v":19},{"$f":"VLOOKUP(B215,[1]销控总表!E$2:V$50200,13,0)","v":1},{"$f":"VLOOKUP(B215,[1]销控总表!E$2:V$50200,14,0)","v":15},{"$f":"VLOOKUP(B215,[1]销控总表!E$2:V$50200,15,0)","v":"02"},56.08]
[215,"凤凰城A组团三期/住宅-19-1-1503","凤凰城A组团三期","西安区",{"$f":"VLOOKUP(B216,[1]销控总表!E$2:V$50200,10,0)","v":"顶层"},{"$f":"VLOOKUP(B216,[1]销控总表!E$2:V$50200,12,0)","v":19},{"$f":"VLOOKUP(B216,[1]销控总表!E$2:V$50200,13,0)","v":1},{"$f":"VLOOKUP(B216,[1]销控总表!E$2:V$50200,14,0)","v":15},{"$f":"VLOOKUP(B216,[1]销控总表!E$2:V$50200,15,0)","v":"03"},58.59]
[216,"凤凰城A组团三期/住宅-19-1-1504","凤凰城A组团三期","西安区",{"$f":"VLOOKUP(B217,[1]销控总表!E$2:V$50200,10,0)","v":"顶层"},{"$f":"VLOOKUP(B217,[1]销控总表!E$2:V$50200,12,0)","v":19},{"$f":"VLOOKUP(B217,[1]销控总表!E$2:V$50200,13,0)","v":1},{"$f":"VLOOKUP(B217,[1]销控总表!E$2:V$50200,14,0)","v":15},{"$f":"VLOOKUP(B217,[1]销控总表!E$2:V$50200,15,0)","v":"04"},55.89]
[217,"凤凰城A组团三期/住宅-19-1-501","凤凰城A组团三期","西安区",null,{"$f":"VLOOKUP(B218,[1]销控总表!E$2:V$50200,12,0)","v":19},{"$f":"VLOOKUP(B218,[1]销控总表!E$2:V$50200,13,0)","v":1},{"$f":"VLOOKUP(B218,[1]销控总表!E$2:V$50200,14,0)","v":5},{"$f":"VLOOKUP(B218,[1]销控总表!E$2:V$50200,15,0)","v":"01"},54.52]
[218,"凤凰城A组团三期/住宅-19-2-1501","凤凰城A组团三期","西安区",{"$f":"VLOOKUP(B219,[1]销控总表!E$2:V$50200,10,0)","v":"顶层"},{"$f":"VLOOKUP(B219,[1]销控总表!E$2:V$50200,12,0)","v":19},{"$f":"VLOOKUP(B219,[1]销控总表!E$2:V$50200,13,0)","v":2},{"$f":"VLOOKUP(B219,[1]销控总表!E$2:V$50200,14,0)","v":15},{"$f":"VLOOKUP(B219,[1]销控总表!E$2:V$50200,15,0)","v":"01"},76.46]
[219,"凤凰城A组团三期/住宅-19-2-1502","凤凰城A组团三期","西安区",{"$f":"VLOOKUP(B220,[1]销控总表!E$2:V$50200,10,0)","v":"顶层"},{"$f":"VLOOKUP(B220,[1]销控总表!E$2:V$50200,12,0)","v":19},{"$f":"VLOOKUP(B220,[1]销控总表!E$2:V$50200,13,0)","v":2},{"$f":"VLOOKUP(B220,[1]销控总表!E$2:V$50200,14,0)","v":15},{"$f":"VLOOKUP(B220,[1]销控总表!E$2:V$50200,15,0)","v":"02"},55.89]
[220,"凤凰城A组团三期/住宅-19-2-1503","凤凰城A组团三期","西安区",{"$f":"VLOOKUP(B221,[1]销控总表!E$2:V$50200,10,0)","v":"顶层"},{"$f":"VLOOKUP(B221,[1]销控总表!E$2:V$50200,12,0)","v":19},{"$f":"VLOOKUP(B221,[1]销控总表!E$2:V$50200,13,0)","v":2},{"$f":"VLOOKUP(B221,[1]销控总表!E$2:V$50200,14,0)","v":15},{"$f":"VLOOKUP(B221,[1]销控总表!E$2:V$50200,15,0)","v":"03"},58.59]
[221,"凤凰城A组团三期/住宅-19-2-1505","凤凰城A组团三期","西安区",{"$f":"VLOOKUP(B222,[1]销控总表!E$2:V$50200,10,0)","v":"顶层"},{"$f":"VLOOKUP(B222,[1]销控总表!E$2:V$50200,12,0)","v":19},{"$f":"VLOOKUP(B222,[1]销控总表!E$2:V$50200,13,0)","v":2},{"$f":"VLOOKUP(B222,[1]销控总表!E$2:V$50200,14,0)","v":15},{"$f":"VLOOKUP(B222,[1]销控总表!E$2:V$50200,15,0)","v":"05"},54.52]
[222,"凤凰城A组团三期/住宅-20-1-1702","凤凰城A组团三期","西安区",{"$f":"VLOOKUP(B223,[1]销控总表!E$2:V$50200,10,0)","v":"顶层"},{"$f":"VLOOKUP(B223,[1]销控总表!E$2:V$50200,12,0)","v":20},{"$f":"VLOOKUP(B223,[1]销控总表!E$2:V$50200,13,0)","v":1},{"$f":"VLOOKUP(B223,[1]销控总表!E$2:V$50200,14,0)","v":17},{"$f":"VLOOKUP(B223,[1]销控总表!E$2:V$50200,15,0)","v":"02"},{"v":75.1,"d":"75.10"}]
[223,"凤凰城A组团三期/住宅-20-2-1702","凤凰城A组团三期","西安区",{"$f":"VLOOKUP(B224,[1]销控总表!E$2:V$50200,10,0)","v":"顶层"},{"$f":"VLOOKUP(B224,[1]销控总表!E$2:V$50200,12,0)","v":20},{"$f":"VLOOKUP(B224,[1]销控总表!E$2:V$50200,13,0)","v":2},{"$f":"VLOOKUP(B224,[1]销控总表!E$2:V$50200,14,0)","v":17},{"$f":"VLOOKUP(B224,[1]销控总表!E$2:V$50200,15,0)","v":"02"},{"v":75.1,"d":"75.10"}]
[224,"凤凰城A组团三期/住宅-21-1-1502","凤凰城A组团三期","西安区",{"$f":"VLOOKUP(B225,[1]销控总表!E$2:V$50200,10,0)","v":"顶层"},{"$f":"VLOOKUP(B225,[1]销控总表!E$2:V$50200,12,0)","v":21},{"$f":"VLOOKUP(B225,[1]销控总表!E$2:V$50200,13,0)","v":1},{"$f":"VLOOKUP(B225,[1]销控总表!E$2:V$50200,14,0)","v":15},{"$f":"VLOOKUP(B225,[1]销控总表!E$2:V$50200,15,0)","v":"02"},{"v":56.3,"d":"56.30"}]
[225,"凤凰城A组团三期/住宅-21-1-1504","凤凰城A组团三期","西安区",{"$f":"VLOOKUP(B226,[1]销控总表!E$2:V$50200,10,0)","v":"顶层"},{"$f":"VLOOKUP(B226,[1]销控总表!E$2:V$50200,12,0)","v":21},{"$f":"VLOOKUP(B226,[1]销控总表!E$2:V$50200,13,0)","v":1},{"$f":"VLOOKUP(B226,[1]销控总表!E$2:V$50200,14,0)","v":15},{"$f":"VLOOKUP(B226,[1]销控总表!E$2:V$50200,15,0)","v":"04"},56.12]
[226,"凤凰城A组团三期/住宅-21-1-1401","凤凰城A组团三期","西安区",null,{"$f":"VLOOKUP(B227,[1]销控总表!E$2:V$50200,12,0)","v":21},{"$f":"VLOOKUP(B227,[1]销控总表!E$2:V$50200,13,0)","v":1},{"$f":"VLOOKUP(B227,[1]销控总表!E$2:V$50200,14,0)","v":14},{"$f":"VLOOKUP(B227,[1]销控总表!E$2:V$50200,15,0)","v":"01"},54.73]
[227,"凤凰城A组团三期/住宅-23-1-1702","凤凰城A组团三期","西安区",{"$f":"VLOOKUP(B228,[1]销控总表!E$2:V$50200,10,0)","v":"顶层"},{"$f":"VLOOKUP(B228,[1]销控总表!E$2:V$50200,12,0)","v":23},{"$f":"VLOOKUP(B228,[1]销控总表!E$2:V$50200,13,0)","v":1},{"$f":"VLOOKUP(B228,[1]销控总表!E$2:V$50200,14,0)","v":17},{"$f":"VLOOKUP(B228,[1]销控总表!E$2:V$50200,15,0)","v":"02"},61.37]
[228,"凤凰城A组团三期/住宅-23-1-1703","凤凰城A组团三期","西安区",{"$f":"VLOOKUP(B229,[1]销控总表!E$2:V$50200,10,0)","v":"顶层"},{"$f":"VLOOKUP(B229,[1]销控总表!E$2:V$50200,12,0)","v":23},{"$f":"VLOOKUP(B229,[1]销控总表!E$2:V$50200,13,0)","v":1},{"$f":"VLOOKUP(B229,[1]销控总表!E$2:V$50200,14,0)","v":17},{"$f":"VLOOKUP(B229,[1]销控总表!E$2:V$50200,15,0)","v":"03"},58.72]
[229,"凤凰城A组团三期/住宅-23-2-1702","凤凰城A组团三期","西安区",{"$f":"VLOOKUP(B230,[1]销控总表!E$2:V$50200,10,0)","v":"顶层"},{"$f":"VLOOKUP(B230,[1]销控总表!E$2:V$50200,12,0)","v":23},{"$f":"VLOOKUP(B230,[1]销控总表!E$2:V$50200,13,0)","v":2},{"$f":"VLOOKUP(B230,[1]销控总表!E$2:V$50200,14,0)","v":17},{"$f":"VLOOKUP(B230,[1]销控总表!E$2:V$50200,15,0)","v":"02"},58.72]
[230,"凤凰城A组团三期/住宅-24-1-1703","凤凰城A组团三期","西安区",{"$f":"VLOOKUP(B231,[1]销控总表!E$2:V$50200,10,0)","v":"顶层"},{"$f":"VLOOKUP(B231,[1]销控总表!E$2:V$50200,12,0)","v":24},{"$f":"VLOOKUP(B231,[1]销控总表!E$2:V$50200,13,0)","v":1},{"$f":"VLOOKUP(B231,[1]销控总表!E$2:V$50200,14,0)","v":17},{"$f":"VLOOKUP(B231,[1]销控总表!E$2:V$50200,15,0)","v":"03"},58.72]
[231,"凤凰城A组团三期/住宅-24-2-1702","凤凰城A组团三期","西安区",{"$f":"VLOOKUP(B232,[1]销控总表!E$2:V$50200,10,0)","v":"顶层"},{"$f":"VLOOKUP(B232,[1]销控总表!E$2:V$50200,12,0)","v":24},{"$f":"VLOOKUP(B232,[1]销控总表!E$2:V$50200,13,0)","v":2},{"$f":"VLOOKUP(B232,[1]销控总表!E$2:V$50200,14,0)","v":17},{"$f":"VLOOKUP(B232,[1]销控总表!E$2:V$50200,15,0)","v":"02"},58.72]
[232,"凤凰城A组团三期/住宅-25-1-1102","凤凰城A组团三期","西安区",{"$f":"VLOOKUP(B233,[1]销控总表!E$2:V$50200,10,0)","v":"顶层"},{"$f":"VLOOKUP(B233,[1]销控总表!E$2:V$50200,12,0)","v":25},{"$f":"VLOOKUP(B233,[1]销控总表!E$2:V$50200,13,0)","v":1},{"$f":"VLOOKUP(B233,[1]销控总表!E$2:V$50200,14,0)","v":11},{"$f":"VLOOKUP(B233,[1]销控总表!E$2:V$50200,15,0)","v":"02"},56.01]
[233,"凤凰城A组团三期/住宅-25-1-1103","凤凰城A组团三期","西安区",{"$f":"VLOOKUP(B234,[1]销控总表!E$2:V$50200,10,0)","v":"顶层"},{"$f":"VLOOKUP(B234,[1]销控总表!E$2:V$50200,12,0)","v":25},{"$f":"VLOOKUP(B234,[1]销控总表!E$2:V$50200,13,0)","v":1},{"$f":"VLOOKUP(B234,[1]销控总表!E$2:V$50200,14,0)","v":11},{"$f":"VLOOKUP(B234,[1]销控总表!E$2:V$50200,15,0)","v":"03"},56.01]
[234,"凤凰城A组团三期/住宅-25-1-1104","凤凰城A组团三期","西安区",{"$f":"VLOOKUP(B235,[1]销控总表!E$2:V$50200,10,0)","v":"顶层"},{"$f":"VLOOKUP(B235,[1]销控总表!E$2:V$50200,12,0)","v":25},{"$f":"VLOOKUP(B235,[1]销控总表!E$2:V$50200,13,0)","v":1},{"$f":"VLOOKUP(B235,[1]销控总表!E$2:V$50200,14,0)","v":11},{"$f":"VLOOKUP(B235,[1]销控总表!E$2:V$50200,15,0)","v":"04"},72.16]
[235,"凤凰城A组团三期/住宅-25-2-1101","凤凰城A组团三期","西安区",{"$f":"VLOOKUP(B236,[1]销控总表!E$2:V$50200,10,0)","v":"顶层"},{"$f":"VLOOKUP(B236,[1]销控总表!E$2:V$50200,12,0)","v":25},{"$f":"VLOOKUP(B236,[1]销控总表!E$2:V$50200,13,0)","v":2},{"$f":"VLOOKUP(B236,[1]销控总表!E$2:V$50200,14,0)","v":11},{"$f":"VLOOKUP(B236,[1]销控总表!E$2:V$50200,15,0)","v":"01"},72.16]
[236,"凤凰城A组团三期/住宅-35-1-1701","凤凰城A组团三期","西安区",{"$f":"VLOOKUP(B237,[1]销控总表!E$2:V$50200,10,0)","v":"顶层"},{"$f":"VLOOKUP(B237,[1]销控总表!E$2:V$50200,12,0)","v":35},{"$f":"VLOOKUP(B237,[1]销控总表!E$2:V$50200,13,0)","v":1},{"$f":"VLOOKUP(B237,[1]销控总表!E$2:V$50200,14,0)","v":17},{"$f":"VLOOKUP(B237,[1]销控总表!E$2:V$50200,15,0)","v":"01"},54.54]
[237,"凤凰城A组团三期/住宅-35-1-1702","凤凰城A组团三期","西安区",{"$f":"VLOOKUP(B238,[1]销控总表!E$2:V$50200,10,0)","v":"顶层"},{"$f":"VLOOKUP(B238,[1]销控总表!E$2:V$50200,12,0)","v":35},{"$f":"VLOOKUP(B238,[1]销控总表!E$2:V$50200,13,0)","v":1},{"$f":"VLOOKUP(B238,[1]销控总表!E$2:V$50200,14,0)","v":17},{"$f":"VLOOKUP(B238,[1]销控总表!E$2:V$50200,15,0)","v":"02"},{"v":56.1,"d":"56.10"}]
[238,"凤凰城A组团三期/住宅-35-1-1703","凤凰城A组团三期","西安区",{"$f":"VLOOKUP(B239,[1]销控总表!E$2:V$50200,10,0)","v":"顶层"},{"$f":"VLOOKUP(B239,[1]销控总表!E$2:V$50200,12,0)","v":35},{"$f":"VLOOKUP(B239,[1]销控总表!E$2:V$50200,13,0)","v":1},{"$f":"VLOOKUP(B239,[1]销控总表!E$2:V$50200,14,0)","v":17},{"$f":"VLOOKUP(B239,[1]销控总表!E$2:V$50200,15,0)","v":"03"},58.62]
[239,"凤凰城A组团三期/住宅-35-1-1704","凤凰城A组团三期","西安区",{"$f":"VLOOKUP(B240,[1]销控总表!E$2:V$50200,10,0)","v":"顶层"},{"$f":"VLOOKUP(B240,[1]销控总表!E$2:V$50200,12,0)","v":35},{"$f":"VLOOKUP(B240,[1]销控总表!E$2:V$50200,13,0)","v":1},{"$f":"VLOOKUP(B240,[1]销控总表!E$2:V$50200,14,0)","v":17},{"$f":"VLOOKUP(B240,[1]销控总表!E$2:V$50200,15,0)","v":"04"},55.91]
[240,"凤凰城A组团三期/住宅-35-1-1705","凤凰城A组团三期","西安区",{"$f":"VLOOKUP(B241,[1]销控总表!E$2:V$50200,10,0)","v":"顶层"},{"$f":"VLOOKUP(B241,[1]销控总表!E$2:V$50200,12,0)","v":35},{"$f":"VLOOKUP(B241,[1]销控总表!E$2:V$50200,13,0)","v":1},{"$f":"VLOOKUP(B241,[1]销控总表!E$2:V$50200,14,0)","v":17},{"$f":"VLOOKUP(B241,[1]销控总表!E$2:V$50200,15,0)","v":"05"},76.49]
[241,"凤凰城A组团三期/住宅-35-2-1701","凤凰城A组团三期","西安区",{"$f":"VLOOKUP(B242,[1]销控总表!E$2:V$50200,10,0)","v":"顶层"},{"$f":"VLOOKUP(B242,[1]销控总表!E$2:V$50200,12,0)","v":35},{"$f":"VLOOKUP(B242,[1]销控总表!E$2:V$50200,13,0)","v":2},{"$f":"VLOOKUP(B242,[1]销控总表!E$2:V$50200,14,0)","v":17},{"$f":"VLOOKUP(B242,[1]销控总表!E$2:V$50200,15,0)","v":"01"},76.49]
[242,"凤凰城A组团三期/住宅-35-2-1702","凤凰城A组团三期","西安区",{"$f":"VLOOKUP(B243,[1]销控总表!E$2:V$50200,10,0)","v":"顶层"},{"$f":"VLOOKUP(B243,[1]销控总表!E$2:V$50200,12,0)","v":35},{"$f":"VLOOKUP(B243,[1]销控总表!E$2:V$50200,13,0)","v":2},{"$f":"VLOOKUP(B243,[1]销控总表!E$2:V$50200,14,0)","v":17},{"$f":"VLOOKUP(B243,[1]销控总表!E$2:V$50200,15,0)","v":"02"},55.91]
[243,"凤凰城A组团三期/住宅-35-2-1703","凤凰城A组团三期","西安区",{"$f":"VLOOKUP(B244,[1]销控总表!E$2:V$50200,10,0)","v":"顶层"},{"$f":"VLOOKUP(B244,[1]销控总表!E$2:V$50200,12,0)","v":35},{"$f":"VLOOKUP(B244,[1]销控总表!E$2:V$50200,13,0)","v":2},{"$f":"VLOOKUP(B244,[1]销控总表!E$2:V$50200,14,0)","v":17},{"$f":"VLOOKUP(B244,[1]销控总表!E$2:V$50200,15,0)","v":"03"},58.62]
[244,"凤凰城A组团三期/住宅-35-2-1704","凤凰城A组团三期","西安区",{"$f":"VLOOKUP(B245,[1]销控总表!E$2:V$50200,10,0)","v":"顶层"},{"$f":"VLOOKUP(B245,[1]销控总表!E$2:V$50200,12,0)","v":35},{"$f":"VLOOKUP(B245,[1]销控总表!E$2:V$50200,13,0)","v":2},{"$f":"VLOOKUP(B245,[1]销控总表!E$2:V$50200,14,0)","v":17},{"$f":"VLOOKUP(B245,[1]销控总表!E$2:V$50200,15,0)","v":"04"},{"v":56.1,"d":"56.10"}]
[245,"凤凰城A组团三期/住宅-35-2-1705","凤凰城A组团三期","西安区",{"$f":"VLOOKUP(B246,[1]销控总表!E$2:V$50200,10,0)","v":"顶层"},{"$f":"VLOOKUP(B246,[1]销控总表!E$2:V$50200,12,0)","v":35},{"$f":"VLOOKUP(B246,[1]销控总表!E$2:V$50200,13,0)","v":2},{"$f":"VLOOKUP(B246,[1]销控总表!E$2:V$50200,14,0)","v":17},{"$f":"VLOOKUP(B246,[1]销控总表!E$2:V$50200,15,0)","v":"05"},54.54]
[246,"凤凰城A组团三期/住宅-35-2-1505","凤凰城A组团三期","西安区",null,{"$f":"VLOOKUP(B247,[1]销控总表!E$2:V$50200,12,0)","v":35},{"$f":"VLOOKUP(B247,[1]销控总表!E$2:V$50200,13,0)","v":2},{"$f":"VLOOKUP(B247,[1]销控总表!E$2:V$50200,14,0)","v":15},{"$f":"VLOOKUP(B247,[1]销控总表!E$2:V$50200,15,0)","v":"05"},54.54]
[247,"凤凰城A组团三期/住宅-35-2-1305","凤凰城A组团三期","西安区",null,{"$f":"VLOOKUP(B248,[1]销控总表!E$2:V$50200,12,0)","v":35},{"$f":"VLOOKUP(B248,[1]销控总表!E$2:V$50200,13,0)","v":2},{"$f":"VLOOKUP(B248,[1]销控总表!E$2:V$50200,14,0)","v":13},{"$f":"VLOOKUP(B248,[1]销控总表!E$2:V$50200,15,0)","v":"05"},54.54]
[248,"凤凰城A组团三期/住宅-35-2-1005","凤凰城A组团三期","西安区",null,{"$f":"VLOOKUP(B249,[1]销控总表!E$2:V$50200,12,0)","v":35},{"$f":"VLOOKUP(B249,[1]销控总表!E$2:V$50200,13,0)","v":2},{"$f":"VLOOKUP(B249,[1]销控总表!E$2:V$50200,14,0)","v":10},{"$f":"VLOOKUP(B249,[1]销控总表!E$2:V$50200,15,0)","v":"05"},54.54]
[249,"凤凰城A组团三期/住宅-35-2-905","凤凰城A组团三期","西安区",null,{"$f":"VLOOKUP(B250,[1]销控总表!E$2:V$50200,12,0)","v":35},{"$f":"VLOOKUP(B250,[1]销控总表!E$2:V$50200,13,0)","v":2},{"$f":"VLOOKUP(B250,[1]销控总表!E$2:V$50200,14,0)","v":9},{"$f":"VLOOKUP(B250,[1]销控总表!E$2:V$50200,15,0)","v":"05"},54.54]
[250,"凤凰城A组团三期/住宅-35-2-805","凤凰城A组团三期","西安区",null,{"$f":"VLOOKUP(B251,[1]销控总表!E$2:V$50200,12,0)","v":35},{"$f":"VLOOKUP(B251,[1]销控总表!E$2:V$50200,13,0)","v":2},{"$f":"VLOOKUP(B251,[1]销控总表!E$2:V$50200,14,0)","v":8},{"$f":"VLOOKUP(B251,[1]销控总表!E$2:V$50200,15,0)","v":"05"},54.54]
[251,"凤凰城A组团三期/住宅-35-2-705","凤凰城A组团三期","西安区",null,{"$f":"VLOOKUP(B252,[1]销控总表!E$2:V$50200,12,0)","v":35},{"$f":"VLOOKUP(B252,[1]销控总表!E$2:V$50200,13,0)","v":2},{"$f":"VLOOKUP(B252,[1]销控总表!E$2:V$50200,14,0)","v":7},{"$f":"VLOOKUP(B252,[1]销控总表!E$2:V$50200,15,0)","v":"05"},54.54]
[252,"凤凰城A组团三期/住宅-35-2-605","凤凰城A组团三期","西安区",null,{"$f":"VLOOKUP(B253,[1]销控总表!E$2:V$50200,12,0)","v":35},{"$f":"VLOOKUP(B253,[1]销控总表!E$2:V$50200,13,0)","v":2},{"$f":"VLOOKUP(B253,[1]销控总表!E$2:V$50200,14,0)","v":6},{"$f":"VLOOKUP(B253,[1]销控总表!E$2:V$50200,15,0)","v":"05"},54.54]
[253,"凤凰城A组团三期/住宅-35-2-505","凤凰城A组团三期","西安区",null,{"$f":"VLOOKUP(B254,[1]销控总表!E$2:V$50200,12,0)","v":35},{"$f":"VLOOKUP(B254,[1]销控总表!E$2:V$50200,13,0)","v":2},{"$f":"VLOOKUP(B254,[1]销控总表!E$2:V$50200,14,0)","v":5},{"$f":"VLOOKUP(B254,[1]销控总表!E$2:V$50200,15,0)","v":"05"},54.54]
[254,"凤凰城A组团三期/住宅-35-2-405","凤凰城A组团三期","西安区",null,{"$f":"VLOOKUP(B255,[1]销控总表!E$2:V$50200,12,0)","v":35},{"$f":"VLOOKUP(B255,[1]销控总表!E$2:V$50200,13,0)","v":2},{"$f":"VLOOKUP(B255,[1]销控总表!E$2:V$50200,14,0)","v":4},{"$f":"VLOOKUP(B255,[1]销控总表!E$2:V$50200,15,0)","v":"05"},54.54]
[255,"凤凰城A组团三期/住宅-35-2-305","凤凰城A组团三期","西安区",null,{"$f":"VLOOKUP(B256,[1]销控总表!E$2:V$50200,12,0)","v":35},{"$f":"VLOOKUP(B256,[1]销控总表!E$2:V$50200,13,0)","v":2},{"$f":"VLOOKUP(B256,[1]销控总表!E$2:V$50200,14,0)","v":3},{"$f":"VLOOKUP(B256,[1]销控总表!E$2:V$50200,15,0)","v":"05"},54.54]
[256,"凤凰城A组团三期/住宅-35-2-205","凤凰城A组团三期","西安区",{"$f":"VLOOKUP(B257,[1]销控总表!E$2:V$50200,10,0)","v":"商底层"},{"$f":"VLOOKUP(B257,[1]销控总表!E$2:V$50200,12,0)","v":35},{"$f":"VLOOKUP(B257,[1]销控总表!E$2:V$50200,13,0)","v":2},{"$f":"VLOOKUP(B257,[1]销控总表!E$2:V$50200,14,0)","v":2},{"$f":"VLOOKUP(B257,[1]销控总表!E$2:V$50200,15,0)","v":"05"},54.54]
[257,"凤凰城A组团三期/住宅-21-1-1101","凤凰城A组团三期","西安区",null,{"$f":"VLOOKUP(B258,[1]销控总表!E$2:V$50200,12,0)","v":21},{"$f":"VLOOKUP(B258,[1]销控总表!E$2:V$50200,13,0)","v":1},{"$f":"VLOOKUP(B258,[1]销控总表!E$2:V$50200,14,0)","v":11},{"$f":"VLOOKUP(B258,[1]销控总表!E$2:V$50200,15,0)","v":"01"},54.73]
[258,"凤凰城A组团三期/住宅-21-1-201","凤凰城A组团三期","西安区",{"$f":"VLOOKUP(B259,[1]销控总表!E$2:V$50200,10,0)","v":"商底层"},{"$f":"VLOOKUP(B259,[1]销控总表!E$2:V$50200,12,0)","v":21},{"$f":"VLOOKUP(B259,[1]销控总表!E$2:V$50200,13,0)","v":1},{"$f":"VLOOKUP(B259,[1]销控总表!E$2:V$50200,14,0)","v":2},{"$f":"VLOOKUP(B259,[1]销控总表!E$2:V$50200,15,0)","v":"01"},54.73]
[259,"凤凰城A组团三期/住宅-21-2-202","凤凰城A组团三期","西安区",{"$f":"VLOOKUP(B260,[1]销控总表!E$2:V$50200,10,0)","v":"商底层"},{"$f":"VLOOKUP(B260,[1]销控总表!E$2:V$50200,12,0)","v":21},{"$f":"VLOOKUP(B260,[1]销控总表!E$2:V$50200,13,0)","v":2},{"$f":"VLOOKUP(B260,[1]销控总表!E$2:V$50200,14,0)","v":2},{"$f":"VLOOKUP(B260,[1]销控总表!E$2:V$50200,15,0)","v":"02"},56.12]
[260,"凤凰城A组团三期/住宅-21-2-1501","凤凰城A组团三期","西安区",{"$f":"VLOOKUP(B261,[1]销控总表!E$2:V$50200,10,0)","v":"顶层"},{"$f":"VLOOKUP(B261,[1]销控总表!E$2:V$50200,12,0)","v":21},{"$f":"VLOOKUP(B261,[1]销控总表!E$2:V$50200,13,0)","v":2},{"$f":"VLOOKUP(B261,[1]销控总表!E$2:V$50200,14,0)","v":15},{"$f":"VLOOKUP(B261,[1]销控总表!E$2:V$50200,15,0)","v":"01"},76.76]
[261,"凤凰城A组团三期/住宅-21-2-1502","凤凰城A组团三期","西安区",{"$f":"VLOOKUP(B262,[1]销控总表!E$2:V$50200,10,0)","v":"顶层"},{"$f":"VLOOKUP(B262,[1]销控总表!E$2:V$50200,12,0)","v":21},{"$f":"VLOOKUP(B262,[1]销控总表!E$2:V$50200,13,0)","v":2},{"$f":"VLOOKUP(B262,[1]销控总表!E$2:V$50200,14,0)","v":15},{"$f":"VLOOKUP(B262,[1]销控总表!E$2:V$50200,15,0)","v":"02"},56.12]
[262,"凤凰城A组团三期/住宅-21-2-1503","凤凰城A组团三期","西安区",{"$f":"VLOOKUP(B263,[1]销控总表!E$2:V$50200,10,0)","v":"顶层"},{"$f":"VLOOKUP(B263,[1]销控总表!E$2:V$50200,12,0)","v":21},{"$f":"VLOOKUP(B263,[1]销控总表!E$2:V$50200,13,0)","v":2},{"$f":"VLOOKUP(B263,[1]销控总表!E$2:V$50200,14,0)","v":15},{"$f":"VLOOKUP(B263,[1]销控总表!E$2:V$50200,15,0)","v":"03"},58.83]
[263,"凤凰城A组团三期/住宅-21-2-1504","凤凰城A组团三期","西安区",{"$f":"VLOOKUP(B264,[1]销控总表!E$2:V$50200,10,0)","v":"顶层"},{"$f":"VLOOKUP(B264,[1]销控总表!E$2:V$50200,12,0)","v":21},{"$f":"VLOOKUP(B264,[1]销控总表!E$2:V$50200,13,0)","v":2},{"$f":"VLOOKUP(B264,[1]销控总表!E$2:V$50200,14,0)","v":15},{"$f":"VLOOKUP(B264,[1]销控总表!E$2:V$50200,15,0)","v":"04"},{"v":56.3,"d":"56.30"}]
[264,"凤凰城A组团三期/住宅-21-2-1505","凤凰城A组团三期","西安区",{"$f":"VLOOKUP(B265,[1]销控总表!E$2:V$50200,10,0)","v":"顶层"},{"$f":"VLOOKUP(B265,[1]销控总表!E$2:V$50200,12,0)","v":21},{"$f":"VLOOKUP(B265,[1]销控总表!E$2:V$50200,13,0)","v":2},{"$f":"VLOOKUP(B265,[1]销控总表!E$2:V$50200,14,0)","v":15},{"$f":"VLOOKUP(B265,[1]销控总表!E$2:V$50200,15,0)","v":"05"},54.73]
[265,"凤凰城A组团三期/住宅-21-2-1405","凤凰城A组团三期","西安区",null,{"$f":"VLOOKUP(B266,[1]销控总表!E$2:V$50200,12,0)","v":21},{"$f":"VLOOKUP(B266,[1]销控总表!E$2:V$50200,13,0)","v":2},{"$f":"VLOOKUP(B266,[1]销控总表!E$2:V$50200,14,0)","v":14},{"$f":"VLOOKUP(B266,[1]销控总表!E$2:V$50200,15,0)","v":"05"},54.73]
[266,"凤凰城A组团三期/住宅-21-2-1205","凤凰城A组团三期","西安区",null,{"$f":"VLOOKUP(B267,[1]销控总表!E$2:V$50200,12,0)","v":21},{"$f":"VLOOKUP(B267,[1]销控总表!E$2:V$50200,13,0)","v":2},{"$f":"VLOOKUP(B267,[1]销控总表!E$2:V$50200,14,0)","v":12},{"$f":"VLOOKUP(B267,[1]销控总表!E$2:V$50200,15,0)","v":"05"},54.73]
[267,"凤凰城A组团三期/住宅-21-2-1105","凤凰城A组团三期","西安区",null,{"$f":"VLOOKUP(B268,[1]销控总表!E$2:V$50200,12,0)","v":21},{"$f":"VLOOKUP(B268,[1]销控总表!E$2:V$50200,13,0)","v":2},{"$f":"VLOOKUP(B268,[1]销控总表!E$2:V$50200,14,0)","v":11},{"$f":"VLOOKUP(B268,[1]销控总表!E$2:V$50200,15,0)","v":"05"},54.73]
[268,"凤凰城A组团三期/住宅-21-2-405","凤凰城A组团三期","西安区",null,{"$f":"VLOOKUP(B269,[1]销控总表!E$2:V$50200,12,0)","v":21},{"$f":"VLOOKUP(B269,[1]销控总表!E$2:V$50200,13,0)","v":2},{"$f":"VLOOKUP(B269,[1]销控总表!E$2:V$50200,14,0)","v":4},{"$f":"VLOOKUP(B269,[1]销控总表!E$2:V$50200,15,0)","v":"05"},54.73]
[269,"凤凰城A组团三期/住宅-21-2-305","凤凰城A组团三期","西安区",null,{"$f":"VLOOKUP(B270,[1]销控总表!E$2:V$50200,12,0)","v":21},{"$f":"VLOOKUP(B270,[1]销控总表!E$2:V$50200,13,0)","v":2},{"$f":"VLOOKUP(B270,[1]销控总表!E$2:V$50200,14,0)","v":3},{"$f":"VLOOKUP(B270,[1]销控总表!E$2:V$50200,15,0)","v":"05"},54.73]
[270,"凤凰城A组团三期/住宅-21-2-205","凤凰城A组团三期","西安区",{"$f":"VLOOKUP(B271,[1]销控总表!E$2:V$50200,10,0)","v":"商底层"},{"$f":"VLOOKUP(B271,[1]销控总表!E$2:V$50200,12,0)","v":21},{"$f":"VLOOKUP(B271,[1]销控总表!E$2:V$50200,13,0)","v":2},{"$f":"VLOOKUP(B271,[1]销控总表!E$2:V$50200,14,0)","v":2},{"$f":"VLOOKUP(B271,[1]销控总表!E$2:V$50200,15,0)","v":"05"},54.73]
[271,"逸品尚城/住宅-13-2-1703","逸品尚城","爱民区","顶层",13,2,17,"03",80.82]
[272,"逸品尚城/住宅-16-1-1701","逸品尚城","爱民区","顶层",16,1,17,"01",80.82]
[273,"逸品尚城/住宅-16-2-1703","逸品尚城","爱民区","顶层",16,2,17,"03",80.82]
[274,"逸品尚城/住宅-17-1-1701","逸品尚城","爱民区","顶层",17,1,17,"01",80.82]
[275,"逸品尚城/住宅-17-2-1703","逸品尚城","爱民区","顶层",17,2,17,"03",80.82]
[276,"逸品尚城/住宅-18-2-1703","逸品尚城","爱民区","顶层",18,2,17,"03",80.82]
[277,"逸品尚城/住宅-22-1-601","逸品尚城","爱民区","顶层",22,1,6,"01",110.01]
[278,"逸品尚城/住宅-22-1-603","逸品尚城","爱民区","顶层",22,1,6,"03",66.57]
[279,"逸品尚城/住宅-22-1-501","逸品尚城","爱民区",null,22,1,5,"01",110.01]
[280,"逸品尚城/住宅-22-2-603","逸品尚城","爱民区","顶层",22,2,6,"03",110.01]
[281,"逸品尚城/住宅-25-1-601","逸品尚城","爱民区","顶层",25,1,6,"01",128.58]
[282,"逸品尚城/住宅-25-1-602","逸品尚城","爱民区","顶层",25,1,6,"02",118.7]
[283,"逸品尚城/住宅-25-2-601","逸品尚城","爱民区","顶层",25,2,6,"01",118.7]
[284,"逸品尚城/住宅-25-2-602","逸品尚城","爱民区","顶层",25,2,6,"02",128.58]
[285,"逸品尚城/住宅-25-2-501","逸品尚城","爱民区",null,25,2,5,"01",118.7]
[286,"逸品尚城/住宅-25-2-502","逸品尚城","爱民区",null,25,2,5,"02",128.58]
[287,"逸品尚城/住宅-26-1-601","逸品尚城","爱民区","顶层",26,1,6,"01",118.69]
[288,"逸品尚城/住宅-26-1-602","逸品尚城","爱民区","顶层",26,1,6,"02",99.83]
[289,"逸品尚城/住宅-26-2-601","逸品尚城","爱民区","顶层",26,2,6,"01",99.83]
[290,"曙光新城二期/住宅-(87)-16-2-703","曙光新城二期","爱民区","顶层",16,2,7,"03",70.11]
[291,"曙光新城二期/住宅-(87)-16-3-703","曙光新城二期","爱民区","顶层",16,3,7,"03",74.14]
[292,"江南明珠/住宅-15-1-101","江南明珠","东安区","底层",15,1,1,"01",78.97]
[293,"江南明珠/住宅-15-1-103","江南明珠","东安区","底层",15,1,1,"03",59.4]
[294,"江南明珠/住宅-15-2-1801","江南明珠","东安区","顶层",15,2,18,"01",78.01]
[295,"江南明珠/住宅-15-2-101","江南明珠","东安区","底层",15,2,1,"01",65.73]
[296,"江南明珠/住宅-16-1-203","江南明珠","东安区","商底层",16,1,2,"03",60.01]
[297,"江南明珠/住宅-17-2-603","江南明珠","东安区","顶层",17,2,6,"03",43.97]
[298,"江南明珠/住宅-17-1-602","江南明珠","东安区","顶层",17,1,6,"02",43.97]
[299,"江南明珠/住宅-17-1-603","江南明珠","东安区","顶层",17,1,6,"03",43.97]
[300,"江南明珠/住宅-17-1-604","江南明珠","东安区","顶层",17,1,6,"04",78.94]
[301,"江南明珠/住宅-18-3-602","江南明珠","东安区","顶层",18,3,6,"02",43.84]
[302,"江南明珠/住宅-18-3-603","江南明珠","东安区","顶层",18,3,6,"03",43.84]
[303,"江南明珠/住宅-18-2-601","江南明珠","东安区","顶层",18,2,6,"01",78.27]
[304,"江南明珠/住宅-18-2-602","江南明珠","东安区","顶层",18,2,6,"02",43.84]
[305,"江南明珠/住宅-18-2-603","江南明珠","东安区","顶层",18,2,6,"03",43.84]
[306,"江南明珠/住宅-18-2-604","江南明珠","东安区","顶层",18,2,6,"04",78.27]
[307,"江南明珠/住宅-18-1-602","江南明珠","东安区","顶层",18,1,6,"02",43.84]
[308,"江南明珠/住宅-18-1-603","江南明珠","东安区","顶层",18,1,6,"03",43.84]
[309,"江南明珠/住宅-19-3-602","江南明珠","东安区","顶层",19,3,6,"02",43.84]
[310,"江南明珠/住宅-19-3-603","江南明珠","东安区","顶层",19,3,6,"03",43.84]
[311,"江南明珠/住宅-19-2-601","江南明珠","东安区","顶层",19,2,6,"01",78.27]
[312,"江南明珠/住宅-19-2-602","江南明珠","东安区","顶层",19,2,6,"02",43.84]
[313,"江南明珠/住宅-19-2-603","江南明珠","东安区","顶层",19,2,6,"03",43.84]
[314,"江南明珠/住宅-19-2-604","江南明珠","东安区","顶层",19,2,6,"04",78.27]
[315,"江南明珠/住宅-19-1-602","江南明珠","东安区","顶层",19,1,6,"02",43.84]
[316,"江南明珠/住宅-19-1-603","江南明珠","东安区","顶层",19,1,6,"03",43.84]
[317,"江南明珠/住宅-20-3-601","江南明珠","东安区","顶层",20,3,6,"01",78.7]
[318,"江南明珠/住宅-20-3-602","江南明珠","东安区","顶层",20,3,6,"02",43.84]
[319,"江南明珠/住宅-20-3-603","江南明珠","东安区","顶层",20,3,6,"03",43.84]
[320,"江南明珠/住宅-20-2-602","江南明珠","东安区","顶层",20,2,6,"02",43.84]
[321,"江南明珠/住宅-20-2-603","江南明珠","东安区","顶层",20,2,6,"03",43.84]
[322,"江南明珠/住宅-20-1-601","江南明珠","东安区","顶层",20,1,6,"01",78.27]
[323,"江南明珠/住宅-20-1-602","江南明珠","东安区","顶层",20,1,6,"02",43.84]
[324,"江南明珠/住宅-20-1-603","江南明珠","东安区","顶层",20,1,6,"03",43.84]
[325,"江南明珠/住宅-20-1-604","江南明珠","东安区","顶层",20,1,6,"04",78.7]
[326,"北悦城/住宅-22-1-602","北悦城","爱民区","顶层",22,1,6,"02",96.88]
[327,"北悦城/住宅-22-2-601","北悦城","爱民区","顶层",22,2,6,"01",99.03]
[328,"北悦城/住宅-22-2-602","北悦城","爱民区","顶层",22,2,6,"02",99.03]
[329,"北悦城/住宅-22-3-201","北悦城","爱民区","商底层",22,3,2,"01",99.03]
[330,"北悦城/住宅-22-3-601","北悦城","爱民区","顶层",22,3,6,"01",99.03]
[331,"北悦城/住宅-22-3-602","北悦城","爱民区","顶层",22,3,6,"02",99.03]
[332,"北悦城/住宅-22-4-601","北悦城","爱民区","顶层",22,4,6,"01",96.88]
[333,"北悦城/住宅-23-1-301","北悦城","爱民区",null,23,1,3,"01",104.01]
[334,"北悦城/住宅-23-1-401","北悦城","爱民区",null,23,1,4,"01",104.01]
[335,"北悦城/住宅-23-1-601","北悦城","爱民区",null,23,1,6,"01",104.01]
[336,"北悦城/住宅-23-1-701","北悦城","爱民区",null,23,1,7,"01",104.01]
[337,"北悦城/住宅-23-1-1101","北悦城","爱民区","顶层",23,1,11,"01",104.01]
[338,"北悦城/住宅-23-1-202","北悦城","爱民区","商底层",23,1,2,"02",102.61]
[339,"北悦城/住宅-23-1-302","北悦城","爱民区",null,23,1,3,"02",102.61]
[340,"北悦城/住宅-23-1-1102","北悦城","爱民区","顶层",23,1,11,"02",102.61]
[341,"北悦城/住宅-23-2-201","北悦城","爱民区","商底层",23,2,2,"01",102.61]
[342,"北悦城/住宅-23-2-301","北悦城","爱民区",null,23,2,3,"01",102.61]
[343,"北悦城/住宅-23-2-401","北悦城","爱民区",null,23,2,4,"01",102.61]
[344,"北悦城/住宅-23-2-1101","北悦城","爱民区","顶层",23,2,11,"01",102.61]
[345,"北悦城/住宅-23-2-202","北悦城","爱民区","商底层",23,2,2,"02",102.61]
[346,"北悦城/住宅-23-2-1102","北悦城","爱民区","顶层",23,2,11,"02",102.61]
[347,"北悦城/住宅-23-3-201","北悦城","爱民区","商底层",23,3,2,"01",102.61]
[348,"北悦城/住宅-23-3-401","北悦城","爱民区",null,23,3,4,"01",102.61]
[349,"北悦城/住宅-23-3-1101","北悦城","爱民区","顶层",23,3,11,"01",102.61]
[350,"北悦城/住宅-23-3-202","北悦城","爱民区","商底层",23,3,2,"02",104.01]
[351,"北悦城/住宅-23-3-302","北悦城","爱民区",null,23,3,3,"02",104.01]
[352,"北悦城/住宅-23-3-402","北悦城","爱民区",null,23,3,4,"02",104.01]
[353,"北悦城/住宅-23-3-602","北悦城","爱民区",null,23,3,6,"02",104.01]
[354,"北悦城/住宅-23-3-1102","北悦城","爱民区","顶层",23,3,11,"02",104.01]
[355,"北悦城/住宅-24-1-601","北悦城","爱民区","顶层",24,1,6,"01",124.87]
[356,"北悦城/住宅-24-1-202","北悦城","爱民区","商底层",24,1,2,"02",101.7]
[357,"北悦城/住宅-24-1-602","北悦城","爱民区","顶层",24,1,6,"02",101.7]
[358,"北悦城/住宅-24-2-201","北悦城","爱民区","商底层",24,2,2,"01",100.13]
[359,"北悦城/住宅-24-2-601","北悦城","爱民区","顶层",24,2,6,"01",100.13]
[360,"北悦城/住宅-24-2-202","北悦城","爱民区","商底层",24,2,2,"02",100.13]
[361,"北悦城/住宅-24-2-302","北悦城","爱民区",null,24,2,3,"02",100.13]
[362,"北悦城/住宅-24-2-602","北悦城","爱民区","顶层",24,2,6,"02",100.13]
[363,"北悦城/住宅-24-3-201","北悦城","爱民区","商底层",24,3,2,"01",101.7]
[364,"北悦城/住宅-24-3-601","北悦城","爱民区","顶层",24,3,6,"01",101.7]
[365,"北悦城/住宅-24-3-202","北悦城","爱民区","商底层",24,3,2,"02",124.55]
[366,"北悦城/住宅-24-3-602","北悦城","爱民区","顶层",24,3,6,"02",124.55]
[367,"北悦城/住宅-25-1-201","北悦城","爱民区","商底层",25,1,2,"01",104.01]
[368,"北悦城/住宅-25-1-301","北悦城","爱民区",null,25,1,3,"01",104.01]
[369,"北悦城/住宅-25-1-401","北悦城","爱民区",null,25,1,4,"01",104.01]
[370,"北悦城/住宅-25-1-501","北悦城","爱民区",null,25,1,5,"01",104.01]
[371,"北悦城/住宅-25-1-601","北悦城","爱民区",null,25,1,6,"01",104.01]
[372,"北悦城/住宅-25-1-801","北悦城","爱民区",null,25,1,8,"01",104.01]
[373,"北悦城/住宅-25-1-901","北悦城","爱民区",null,25,1,9,"01",104.01]
[374,"北悦城/住宅-25-1-1101","北悦城","爱民区","顶层",25,1,11,"01",104.01]
[375,"北悦城/住宅-25-1-202","北悦城","爱民区","商底层",25,1,2,"02",102.61]
[376,"北悦城/住宅-25-1-402","北悦城","爱民区",null,25,1,4,"02",102.61]
[377,"北悦城/住宅-25-1-902","北悦城","爱民区",null,25,1,9,"02",102.61]
[378,"北悦城/住宅-25-1-1102","北悦城","爱民区","顶层",25,1,11,"02",102.61]
[379,"北悦城/住宅-25-2-201","北悦城","爱民区","商底层",25,2,2,"01",102.61]
[380,"北悦城/住宅-25-2-301","北悦城","爱民区",null,25,2,3,"01",102.61]
[381,"北悦城/住宅-25-2-401","北悦城","爱民区",null,25,2,4,"01",102.61]
[382,"北悦城/住宅-25-2-501","北悦城","爱民区",null,25,2,5,"01",102.61]
[383,"北悦城/住宅-25-2-701","北悦城","爱民区",null,25,2,7,"01",102.61]
[384,"北悦城/住宅-25-2-1101","北悦城","爱民区","顶层",25,2,11,"01",102.61]
[385,"北悦城/住宅-25-2-202","北悦城","爱民区","商底层",25,2,2,"02",102.61]
[386,"北悦城/住宅-25-2-402","北悦城","爱民区",null,25,2,4,"02",102.61]
[387,"北悦城/住宅-25-2-502","北悦城","爱民区",null,25,2,5,"02",102.61]
[388,"北悦城/住宅-25-2-1102","北悦城","爱民区","顶层",25,2,11,"02",102.61]
[389,"北悦城/住宅-25-3-201","北悦城","爱民区","商底层",25,3,2,"01",102.61]
[390,"北悦城/住宅-25-3-301","北悦城","爱民区",null,25,3,3,"01",102.61]
[391,"北悦城/住宅-25-3-401","北悦城","爱民区",null,25,3,4,"01",102.61]
[392,"北悦城/住宅-25-3-601","北悦城","爱民区",null,25,3,6,"01",102.61]
[393,"北悦城/住宅-25-3-1101","北悦城","爱民区","顶层",25,3,11,"01",102.61]
[394,"北悦城/住宅-25-3-202","北悦城","爱民区","商底层",25,3,2,"02",104.01]
[395,"北悦城/住宅-25-3-302","北悦城","爱民区",null,25,3,3,"02",104.01]
[396,"北悦城/住宅-25-3-402","北悦城","爱民区",null,25,3,4,"02",104.01]
[397,"北悦城/住宅-25-3-1102","北悦城","爱民区","顶层",25,3,11,"02",104.01]
[398,"北悦城/住宅-26-1-601","北悦城","爱民区","顶层",26,1,6,"01",124.87]
[399,"北悦城/住宅-26-1-202","北悦城","爱民区","商底层",26,1,2,"02",101.7]
[400,"北悦城/住宅-26-1-602","北悦城","爱民区","顶层",26,1,6,"02",101.7]
[401,"北悦城/住宅-26-2-201","北悦城","爱民区","商底层",26,2,2,"01",99.96]
[402,"北悦城/住宅-26-2-601","北悦城","爱民区","顶层",26,2,6,"01",99.96]
[403,"北悦城/住宅-26-2-602","北悦城","爱民区","顶层",26,2,6,"02",99.96]
[404,"北悦城/住宅-26-3-601","北悦城","爱民区","顶层",26,3,6,"01",101.7]
[405,"北悦城/住宅-27-1-201","北悦城","爱民区","商底层",27,1,2,"01",104.01]
[406,"北悦城/住宅-27-1-301","北悦城","爱民区",null,27,1,3,"01",104.01]
[407,"北悦城/住宅-27-1-701","北悦城","爱民区",null,27,1,7,"01",104.01]
[408,"北悦城/住宅-27-1-801","北悦城","爱民区",null,27,1,8,"01",104.01]
[409,"北悦城/住宅-27-1-901","北悦城","爱民区",null,27,1,9,"01",104.01]
[410,"北悦城/住宅-27-1-1001","北悦城","爱民区",null,27,1,10,"01",104.01]
[411,"北悦城/住宅-27-1-1101","北悦城","爱民区","顶层",27,1,11,"01",104.01]
[412,"北悦城/住宅-27-1-202","北悦城","爱民区","商底层",27,1,2,"02",102.61]
[413,"北悦城/住宅-27-1-302","北悦城","爱民区",null,27,1,3,"02",102.61]
[414,"北悦城/住宅-27-1-402","北悦城","爱民区",null,27,1,4,"02",102.61]
[415,"北悦城/住宅-27-1-502","北悦城","爱民区",null,27,1,5,"02",102.61]
[416,"北悦城/住宅-27-1-1102","北悦城","爱民区","顶层",27,1,11,"02",102.61]
[417,"北悦城/住宅-27-2-201","北悦城","爱民区","商底层",27,2,2,"01",102.61]
[418,"北悦城/住宅-27-2-301","北悦城","爱民区",null,27,2,3,"01",102.61]
[419,"北悦城/住宅-27-2-401","北悦城","爱民区",null,27,2,4,"01",102.61]
[420,"北悦城/住宅-27-2-501","北悦城","爱民区",null,27,2,5,"01",102.61]
[421,"北悦城/住宅-27-2-601","北悦城","爱民区",null,27,2,6,"01",102.61]
[422,"北悦城/住宅-27-2-1101","北悦城","爱民区","顶层",27,2,11,"01",102.61]
[423,"北悦城/住宅-27-2-202","北悦城","爱民区","商底层",27,2,2,"02",102.61]
[424,"北悦城/住宅-27-2-302","北悦城","爱民区",null,27,2,3,"02",102.61]
[425,"北悦城/住宅-27-2-402","北悦城","爱民区",null,27,2,4,"02",102.61]
[426,"北悦城/住宅-27-2-502","北悦城","爱民区",null,27,2,5,"02",102.61]
[427,"北悦城/住宅-27-2-602","北悦城","爱民区",null,27,2,6,"02",102.61]
[428,"北悦城/住宅-27-2-1102","北悦城","爱民区","顶层",27,2,11,"02",102.61]
[429,"北悦城/住宅-27-3-201","北悦城","爱民区","商底层",27,3,2,"01",102.61]
[430,"北悦城/住宅-27-3-301","北悦城","爱民区",null,27,3,3,"01",102.61]
[431,"北悦城/住宅-27-3-401","北悦城","爱民区",null,27,3,4,"01",102.61]
[432,"北悦城/住宅-27-3-501","北悦城","爱民区",null,27,3,5,"01",102.61]
[433,"北悦城/住宅-27-3-701","北悦城","爱民区",null,27,3,7,"01",102.61]
[434,"北悦城/住宅-27-3-1101","北悦城","爱民区","顶层",27,3,11,"01",102.61]
[435,"北悦城/住宅-27-3-202","北悦城","爱民区","商底层",27,3,2,"02",104.01]
[436,"北悦城/住宅-27-3-302","北悦城","爱民区",null,27,3,3,"02",104.01]
[437,"北悦城/住宅-27-3-402","北悦城","爱民区",null,27,3,4,"02",104.01]
[438,"北悦城/住宅-27-3-502","北悦城","爱民区",null,27,3,5,"02",104.01]
[439,"北悦城/住宅-27-3-702","北悦城","爱民区",null,27,3,7,"02",104.01]
[440,"北悦城/住宅-27-3-1102","北悦城","爱民区","顶层",27,3,11,"02",104.01]
[441,"北悦城/住宅-28-1-202","北悦城","爱民区","商底层",28,1,2,"02",96.91]
[442,"北悦城/住宅-28-1-502","北悦城","爱民区",null,28,1,5,"02",96.91]
[443,"北悦城/住宅-28-1-602","北悦城","爱民区","顶层",28,1,6,"02",96.91]
[444,"北悦城/住宅-28-2-201","北悦城","爱民区","商底层",28,2,2,"01",99.06]
[445,"北悦城/住宅-28-2-301","北悦城","爱民区",null,28,2,3,"01",99.06]
[446,"北悦城/住宅-28-2-401","北悦城","爱民区",null,28,2,4,"01",99.06]
[447,"北悦城/住宅-28-2-601","北悦城","爱民区","顶层",28,2,6,"01",99.06]
[448,"北悦城/住宅-28-2-202","北悦城","爱民区","商底层",28,2,2,"02",99.06]
[449,"北悦城/住宅-28-2-602","北悦城","爱民区","顶层",28,2,6,"02",99.06]
[450,"北悦城/住宅-28-3-201","北悦城","爱民区","商底层",28,3,2,"01",99.06]
[451,"北悦城/住宅-28-3-301","北悦城","爱民区",null,28,3,3,"01",99.06]
[452,"北悦城/住宅-28-3-401","北悦城","爱民区",null,28,3,4,"01",99.06]
[453,"北悦城/住宅-28-3-501","北悦城","爱民区",null,28,3,5,"01",99.06]
[454,"北悦城/住宅-28-3-601","北悦城","爱民区","顶层",28,3,6,"01",99.06]
[455,"北悦城/住宅-28-3-202","北悦城","爱民区","商底层",28,3,2,"02",99.06]
[456,"北悦城/住宅-28-3-302","北悦城","爱民区",null,28,3,3,"02",99.06]
[457,"北悦城/住宅-28-3-402","北悦城","爱民区",null,28,3,4,"02",99.06]
[458,"北悦城/住宅-28-3-502","北悦城","爱民区",null,28,3,5,"02",99.06]
[459,"北悦城/住宅-28-3-602","北悦城","爱民区","顶层",28,3,6,"02",99.06]
[460,"北悦城/住宅-28-4-201","北悦城","爱民区","商底层",28,4,2,"01",96.91]
[461,"北悦城/住宅-28-4-401","北悦城","爱民区",null,28,4,4,"01",96.91]
[462,"北悦城/住宅-28-4-601","北悦城","爱民区","顶层",28,4,6,"01",96.91]
[463,"北悦城/住宅-29-1-202","北悦城","爱民区","商底层",29,1,2,"02",96.42]
[464,"北悦城/住宅-29-1-302","北悦城","爱民区",null,29,1,3,"02",96.42]
[465,"北悦城/住宅-29-1-402","北悦城","爱民区",null,29,1,4,"02",96.42]
[466,"北悦城/住宅-29-1-602","北悦城","爱民区","顶层",29,1,6,"02",96.42]
[467,"北悦城/住宅-29-2-201","北悦城","爱民区","商底层",29,2,2,"01",96.42]
[468,"北悦城/住宅-29-2-301","北悦城","爱民区",null,29,2,3,"01",96.42]
[469,"北悦城/住宅-29-2-401","北悦城","爱民区",null,29,2,4,"01",96.42]
[470,"北悦城/住宅-29-2-601","北悦城","爱民区","顶层",29,2,6,"01",96.42]
[471,"北悦城/住宅-29-2-202","北悦城","爱民区","商底层",29,2,2,"02",96.42]
[472,"北悦城/住宅-29-2-602","北悦城","爱民区","顶层",29,2,6,"02",96.42]
[473,"北悦城/住宅-29-3-301","北悦城","爱民区",null,29,3,3,"01",96.42]
[474,"北悦城/住宅-29-3-401","北悦城","爱民区",null,29,3,4,"01",96.42]
[475,"北悦城/住宅-29-3-501","北悦城","爱民区",null,29,3,5,"01",96.42]
[476,"北悦城/住宅-29-3-601","北悦城","爱民区","顶层",29,3,6,"01",96.42]
[477,"北悦城/住宅-29-3-202","北悦城","爱民区","商底层",29,3,2,"02",96.42]
[478,"北悦城/住宅-29-3-402","北悦城","爱民区",null,29,3,4,"02",96.42]
[479,"北悦城/住宅-29-3-502","北悦城","爱民区",null,29,3,5,"02",96.42]
[480,"北悦城/住宅-29-3-602","北悦城","爱民区","顶层",29,3,6,"02",96.42]
[481,"北悦城/住宅-29-4-201","北悦城","爱民区","商底层",29,4,2,"01",96.42]
[482,"北悦城/住宅-29-4-301","北悦城","爱民区",null,29,4,3,"01",96.42]
[483,"北悦城/住宅-29-4-601","北悦城","爱民区","顶层",29,4,6,"01",96.42]
[484,"北悦城/住宅-30-3-202","北悦城","爱民区","商底层",30,3,2,"02",96.51]
[485,"北悦城/住宅-30-3-602","北悦城","爱民区","顶层",30,3,6,"02",96.51]
[486,"北悦城/住宅-30-4-201","北悦城","爱民区","商底层",30,4,2,"01",96.51]
[487,"北悦城/住宅-30-4-601","北悦城","爱民区","顶层",30,4,6,"01",96.51]
[488,"北悦城/住宅-31-1-601","北悦城","爱民区","顶层",31,1,6,"01",90.73]
[489,"北悦城/住宅-31-1-603","北悦城","爱民区","顶层",31,1,6,"03",91.74]
[490,"北悦城/住宅-31-2-201","北悦城","爱民区","商底层",31,2,2,"01",110.39]
[491,"北悦城/住宅-31-2-301","北悦城","爱民区",null,31,2,3,"01",110.39]
[492,"北悦城/住宅-31-2-401","北悦城","爱民区",null,31,2,4,"01",110.39]
[493,"北悦城/住宅-31-2-601","北悦城","爱民区","顶层",31,2,6,"01",110.39]
[494,"北悦城/住宅-31-2-602","北悦城","爱民区","顶层",31,2,6,"02",110.39]
[495,"北悦城/住宅-31-3-603","北悦城","爱民区","顶层",31,3,6,"03",90.73]
[496,"北悦城/住宅-32-1-201","北悦城","爱民区","商底层",32,1,2,"01",107.48]
[497,"北悦城/住宅-32-1-301","北悦城","爱民区",null,32,1,3,"01",107.48]
[498,"北悦城/住宅-32-1-401","北悦城","爱民区",null,32,1,4,"01",107.48]
[499,"北悦城/住宅-32-1-601","北悦城","爱民区","顶层",32,1,6,"01",107.48]
[500,"北悦城/住宅-32-1-202","北悦城","爱民区","商底层",32,1,2,"02",107.48]
[501,"北悦城/住宅-32-1-302","北悦城","爱民区",null,32,1,3,"02",107.48]
[502,"北悦城/住宅-32-1-402","北悦城","爱民区",null,32,1,4,"02",107.48]
[503,"北悦城/住宅-32-1-602","北悦城","爱民区","顶层",32,1,6,"02",107.48]
[504,"北悦城/住宅-32-2-201","北悦城","爱民区","商底层",32,2,2,"01",105.98]
[505,"北悦城/住宅-32-2-601","北悦城","爱民区","顶层",32,2,6,"01",105.98]
[506,"北悦城/住宅-32-2-202","北悦城","爱民区","商底层",32,2,2,"02",105.98]
[507,"北悦城/住宅-32-2-602","北悦城","爱民区","顶层",32,2,6,"02",105.98]
[508,"北悦城/住宅-32-3-201","北悦城","爱民区","商底层",32,3,2,"01",107.48]
[509,"北悦城/住宅-32-3-401","北悦城","爱民区",null,32,3,4,"01",107.48]
[510,"北悦城/住宅-32-3-501","北悦城","爱民区",null,32,3,5,"01",107.48]
[511,"北悦城/住宅-32-3-601","北悦城","爱民区","顶层",32,3,6,"01",107.48]
[512,"北悦城/住宅-32-3-602","北悦城","爱民区","顶层",32,3,6,"02",107.48]
[513,"北悦城/住宅-33-2-201","北悦城","爱民区","商底层",33,2,2,"01",102.22]
[514,"北悦城/住宅-33-2-601","北悦城","爱民区","顶层",33,2,6,"01",102.22]
[515,"北悦城/住宅-33-3-601","北悦城","爱民区","顶层",33,3,6,"01",108.61]
[516,"北悦城/住宅-33-3-602","北悦城","爱民区","顶层",33,3,6,"02",129.24]
[517,"北悦城/住宅-34-1-601","北悦城","爱民区","顶层",34,1,6,"01",129.24]
[518,"北悦城/住宅-34-2-402","北悦城","爱民区",null,34,2,4,"02",102.22]
[519,"北悦城/住宅-34-2-502","北悦城","爱民区",null,34,2,5,"02",102.22]
[520,"北悦城/住宅-34-2-602","北悦城","爱民区","顶层",34,2,6,"02",102.22]
[521,"北悦城/住宅-34-3-601","北悦城","爱民区","顶层",34,3,6,"01",91.07]
[522,"北悦城/住宅-34-3-603","北悦城","爱民区","顶层",34,3,6,"03",89.32]
[523,"北悦城/住宅-35-1-201","北悦城","爱民区","商底层",35,1,2,"01",107.47]
[524,"北悦城/住宅-35-1-301","北悦城","爱民区",null,35,1,3,"01",107.47]
[525,"北悦城/住宅-35-1-501","北悦城","爱民区",null,35,1,5,"01",107.47]
[526,"北悦城/住宅-35-1-601","北悦城","爱民区","顶层",35,1,6,"01",107.47]
[527,"北悦城/住宅-35-1-202","北悦城","爱民区","商底层",35,1,2,"02",107.47]
[528,"北悦城/住宅-35-1-302","北悦城","爱民区",null,35,1,3,"02",107.47]
[529,"北悦城/住宅-35-1-402","北悦城","爱民区",null,35,1,4,"02",107.47]
[530,"北悦城/住宅-35-1-502","北悦城","爱民区",null,35,1,5,"02",107.47]
[531,"北悦城/住宅-35-1-602","北悦城","爱民区","顶层",35,1,6,"02",107.47]
[532,"北悦城/住宅-35-2-201","北悦城","爱民区","商底层",35,2,2,"01",105.98]
[533,"北悦城/住宅-35-2-301","北悦城","爱民区",null,35,2,3,"01",105.98]
[534,"北悦城/住宅-35-2-401","北悦城","爱民区",null,35,2,4,"01",105.98]
[535,"北悦城/住宅-35-2-601","北悦城","爱民区","顶层",35,2,6,"01",105.98]
[536,"北悦城/住宅-35-2-202","北悦城","爱民区","商底层",35,2,2,"02",105.98]
[537,"北悦城/住宅-35-2-302","北悦城","爱民区",null,35,2,3,"02",105.98]
[538,"北悦城/住宅-35-2-502","北悦城","爱民区",null,35,2,5,"02",105.98]
[539,"北悦城/住宅-35-2-602","北悦城","爱民区","顶层",35,2,6,"02",105.98]
[540,"北悦城/住宅-35-3-201","北悦城","爱民区","商底层",35,3,2,"01",107.47]
[541,"北悦城/住宅-35-3-301","北悦城","爱民区",null,35,3,3,"01",107.47]
[542,"北悦城/住宅-35-3-401","北悦城","爱民区",null,35,3,4,"01",107.47]
[543,"北悦城/住宅-35-3-601","北悦城","爱民区","顶层",35,3,6,"01",107.47]
[544,"北悦城/住宅-35-3-202","北悦城","爱民区","商底层",35,3,2,"02",107.47]
[545,"北悦城/住宅-35-3-302","北悦城","爱民区",null,35,3,3,"02",107.47]
[546,"北悦城/住宅-35-3-402","北悦城","爱民区",null,35,3,4,"02",107.47]
[547,"北悦城/住宅-35-3-602","北悦城","爱民区","顶层",35,3,6,"02",107.47]
[548,"北悦城/住宅-36-1-601","北悦城","爱民区","顶层",36,1,6,"01",90.73]
[549,"北悦城/住宅-36-2-201","北悦城","爱民区","商底层",36,2,2,"01",110.39]
[550,"北悦城/住宅-36-2-601","北悦城","爱民区","顶层",36,2,6,"01",110.39]
[551,"北悦城/住宅-36-2-202","北悦城","爱民区","商底层",36,2,2,"02",110.39]
[552,"北悦城/住宅-36-2-302","北悦城","爱民区",null,36,2,3,"02",110.39]
[553,"北悦城/住宅-36-2-402","北悦城","爱民区",null,36,2,4,"02",110.39]
[554,"北悦城/住宅-36-2-502","北悦城","爱民区",null,36,2,5,"02",110.39]
[555,"北悦城/住宅-36-2-602","北悦城","爱民区","顶层",36,2,6,"02",110.39]
[556,"北悦城/住宅-21-1-202","北悦城","爱民区","商底层",21,1,2,"02",102.61]
[557,"北悦城/住宅-21-3-701","北悦城","爱民区",null,21,3,7,"01",102.61]
[558,"银龙湾/住宅-1-4-601","银龙湾","爱民区","顶层",1,4,6,"01",67.59]
[559,"阅江城/住宅-10-1-1102","阅江城","西安区","顶层",10,1,11,"02",105.72]
[560,"阅江城/住宅-10-2-1101","阅江城","西安区","顶层",10,2,11,"01",107.45]
[561,"阅江城/住宅-10-2-1102","阅江城","西安区","顶层",10,2,11,"02",107.45]
[562,"阅江城/住宅-11-2-1101","阅江城","西安区","顶层",11,2,11,"01",107.45]
[563,"阅江城/住宅-11-2-1102","阅江城","西安区","顶层",11,2,11,"02",107.45]
[564,"阅江城/住宅-11-3-1101","阅江城","西安区","顶层",11,3,11,"01",105.72]
[565,"阅江城/住宅-12-2-1101","阅江城","西安区","顶层",12,2,11,"01",107.45]
[566,"阅江城/住宅-12-2-1102","阅江城","西安区","顶层",12,2,11,"02",107.45]
[567,"阅江城/住宅-12-3-1102","阅江城","西安区","顶层",12,3,11,"02",118.75]
[568,"月星环球港H地块二期/住宅-8-1-201","月星环球港H地块二期","爱民区","商底层",8,1,2,"01",96.43]
[569,"月星环球港H地块二期/住宅-8-1-203","月星环球港H地块二期","爱民区","商底层",8,1,2,"03",104.09]
[570,"月星环球港H地块二期/住宅-8-1-903","月星环球港H地块二期","爱民区","顶层",8,1,9,"03",104.09]
[571,"月星环球港H地块二期/住宅-8-2-201","月星环球港H地块二期","爱民区","商底层",8,2,2,"01",103.57]
[572,"月星环球港H地块二期/住宅-8-2-202","月星环球港H地块二期","爱民区","商底层",8,2,2,"02",103.57]
[573,"月星环球港H地块二期/住宅-8-2-901","月星环球港H地块二期","爱民区","顶层",8,2,9,"01",103.57]
[574,"月星环球港H地块二期/住宅-8-2-902","月星环球港H地块二期","爱民区","顶层",8,2,9,"02",103.57]
[575,"月星环球港H地块二期/住宅-8-3-901","月星环球港H地块二期","爱民区","顶层",8,3,9,"01",81.39]
[576,"月星环球港H地块二期/住宅-8-3-902","月星环球港H地块二期","爱民区","顶层",8,3,9,"02",88.94]
[577,"月星环球港H地块二期/住宅-9-1-201","月星环球港H地块二期","爱民区","商底层",9,1,2,"01",96.02]
[578,"月星环球港H地块二期/住宅-9-1-202","月星环球港H地块二期","爱民区","商底层",9,1,2,"02",60.55]
[579,"月星环球港H地块二期/住宅-9-1-203","月星环球港H地块二期","爱民区","商底层",9,1,2,"03",111.7]
[580,"月星环球港H地块二期/住宅-9-2-202","月星环球港H地块二期","爱民区","商底层",9,2,2,"02",66.7]
[581,"月星环球港H地块二期/住宅-9-2-203","月星环球港H地块二期","爱民区","商底层",9,2,2,"03",71.74]
[582,"月星环球港H地块二期/住宅-9-2-302","月星环球港H地块二期","爱民区",null,9,2,3,"02",66.7]
[583,"月星环球港H地块二期/住宅-9-2-402","月星环球港H地块二期","爱民区",null,9,2,4,"02",66.7]
[584,"月星环球港H地块二期/住宅-9-2-502","月星环球港H地块二期","爱民区",null,9,2,5,"02",66.7]
[585,"月星环球港H地块二期/住宅-9-2-1402","月星环球港H地块二期","爱民区",null,9,2,14,"02",66.7]
[586,"月星环球港H地块二期/住宅-9-2-1502","月星环球港H地块二期","爱民区",null,9,2,15,"02",66.7]
[587,"月星环球港H地块二期/住宅-9-2-1602","月星环球港H地块二期","爱民区",null,9,2,16,"02",66.7]
[588,"月星环球港H地块二期/住宅-9-2-1701","月星环球港H地块二期","爱民区","顶层",9,2,17,"01",71.78]
[589,"月星环球港H地块二期/住宅-9-2-1702","月星环球港H地块二期","爱民区","顶层",9,2,17,"02",66.7]
[590,"月星环球港H地块二期/住宅-9-2-1703","月星环球港H地块二期","爱民区","顶层",9,2,17,"03",71.74]
[591,"月星环球港H地块二期/住宅-9-3-201","月星环球港H地块二期","爱民区","商底层",9,3,2,"01",78.19]
[592,"月星环球港H地块二期/住宅-9-3-202","月星环球港H地块二期","爱民区","商底层",9,3,2,"02",94.57]
[593,"月星环球港H地块二期/住宅-9-3-301","月星环球港H地块二期","爱民区",null,9,3,3,"01",78.19]
[594,"月星环球港H地块二期/住宅-9-3-401","月星环球港H地块二期","爱民区",null,9,3,4,"01",78.19]
[595,"月星环球港H地块二期/住宅-9-3-1601","月星环球港H地块二期","爱民区",null,9,3,16,"01",78.19]
[596,"月星环球港H地块二期/住宅-9-3-1701","月星环球港H地块二期","爱民区","顶层",9,3,17,"01",78.19]
[597,"月星环球港H地块二期/住宅-9-3-1702","月星环球港H地块二期","爱民区","顶层",9,3,17,"02",94.57]
[598,"月星环球港H地块二期/住宅-10-1-201","月星环球港H地块二期","爱民区","商底层",10,1,2,"01",85.94]
[599,"月星环球港H地块二期/住宅-10-1-202","月星环球港H地块二期","爱民区","商底层",10,1,2,"02",88.7]
[600,"月星环球港H地块二期/住宅-10-1-1801","月星环球港H地块二期","爱民区","顶层",10,1,18,"01",85.94]
[601,"月星环球港H地块二期/住宅-10-1-1802","月星环球港H地块二期","爱民区","顶层",10,1,18,"02",88.7]
[602,"月星环球港H地块二期/住宅-10-2-201","月星环球港H地块二期","爱民区","商底层",10,2,2,"01",76.34]
[603,"月星环球港H地块二期/住宅-10-2-202","月星环球港H地块二期","爱民区","商底层",10,2,2,"02",67.14]
[604,"月星环球港H地块二期/住宅-10-2-203","月星环球港H地块二期","爱民区","商底层",10,2,2,"03",70.42]
[605,"月星环球港H地块二期/住宅-10-2-302","月星环球港H地块二期","爱民区",null,10,2,3,"02",67.14]
[606,"月星环球港H地块二期/住宅-10-2-502","月星环球港H地块二期","爱民区",null,10,2,5,"02",67.14]
[607,"月星环球港H地块二期/住宅-10-2-1102","月星环球港H地块二期","爱民区",null,10,2,11,"02",67.14]
[608,"月星环球港H地块二期/住宅-10-2-1302","月星环球港H地块二期","爱民区",null,10,2,13,"02",67.14]
[609,"月星环球港H地块二期/住宅-10-2-1402","月星环球港H地块二期","爱民区",null,10,2,14,"02",67.14]
[610,"月星环球港H地块二期/住宅-10-2-1502","月星环球港H地块二期","爱民区",null,10,2,15,"02",67.14]
[611,"月星环球港H地块二期/住宅-10-2-1702","月星环球港H地块二期","爱民区",null,10,2,17,"02",67.14]
[612,"月星环球港H地块二期/住宅-10-2-1801","月星环球港H地块二期","爱民区","顶层",10,2,18,"01",76.34]
[613,"月星环球港H地块二期/住宅-10-2-1802","月星环球港H地块二期","爱民区","顶层",10,2,18,"02",67.14]
[614,"月星环球港H地块二期/住宅-10-2-1803","月星环球港H地块二期","爱民区","顶层",10,2,18,"03",70.42]
[615,"月星环球港H地块二期/住宅-10-3-201","月星环球港H地块二期","爱民区","商底层",10,3,2,"01",124.47]
[616,"月星环球港H地块二期/住宅-10-3-202","月星环球港H地块二期","爱民区","商底层",10,3,2,"02",120.94]
[617,"月星环球港H地块二期/住宅-10-3-301","月星环球港H地块二期","爱民区",null,10,3,3,"01",124.47]
[618,"月星环球港H地块二期/住宅-10-3-302","月星环球港H地块二期","爱民区",null,10,3,3,"02",120.94]
[619,"月星环球港H地块二期/住宅-10-3-1801","月星环球港H地块二期","爱民区","顶层",10,3,18,"01",124.47]
[620,"月星环球港H地块二期/住宅-10-3-1802","月星环球港H地块二期","爱民区","顶层",10,3,18,"02",120.94]
[621,"绿地凯旋城/住宅-15-3-602","绿地凯旋城","爱民区","顶层",15,3,6,"02",131.75]
[622,"绿地凯旋城/住宅-23-1-602","绿地凯旋城","爱民区","顶层",23,1,6,"02",135.72]
[623,"绿地凯旋城/住宅-22-1-601","绿地凯旋城","爱民区","顶层",22,1,6,"01",164.94]
[624,"绿地凯旋城/住宅-22-2-601","绿地凯旋城","爱民区","顶层",22,2,6,"01",164.94]
[625,"绿地凯旋城/住宅-22-2-602","绿地凯旋城","爱民区","顶层",22,2,6,"02",164.94]
[626,"绿地凯旋城/住宅-26-1-601","绿地凯旋城","爱民区","顶层",26,1,6,"01",137.09]
[627,"绿地凯旋城/住宅-26-1-602","绿地凯旋城","爱民区","顶层",26,1,6,"02",154.94]
[628,"绿地凯旋城/住宅-26-2-601","绿地凯旋城","爱民区","顶层",26,2,6,"01",132.73]
[629,"绿地凯旋城/住宅-29-1-602","绿地凯旋城","爱民区","顶层",29,1,6,"02",139.24]
[630,"绿地凯旋城/住宅-29-3-601","绿地凯旋城","爱民区","顶层",29,3,6,"01",139.24]
[631,"绿地凯旋城/住宅-21-2-601","绿地凯旋城","爱民区","顶层",21,2,6,"01",153.77]
[632,"绿地凯旋城/住宅-21-2-602","绿地凯旋城","爱民区","顶层",21,2,6,"02",166.44]
[633,"绿地凯旋城/住宅-24-1-601","绿地凯旋城","爱民区","顶层",24,1,6,"01",153.3]
[634,"绿地凯旋城/住宅-24-3-601","绿地凯旋城","爱民区","顶层",24,3,6,"01",164.48]
[635,"绿地凯旋城/住宅-24-3-602","绿地凯旋城","爱民区","顶层",24,3,6,"02",153.3]
[636,"绿地凯旋城/住宅-27-3-601","绿地凯旋城","爱民区","顶层",27,3,6,"01",153.72]
[637,"绿地凯旋城/住宅-33-1-601","绿地凯旋城","爱民区","顶层",33,1,6,"01",136.94]
[638,"绿地凯旋城/住宅-27-3-602","绿地凯旋城","爱民区","顶层",27,3,6,"02",164.94]
[639,"绿地凯旋城/住宅-15-1-601","绿地凯旋城","爱民区","顶层",15,1,6,"01",131.75]
[640,"绿地凯旋城/住宅-15-2-601","绿地凯旋城","爱民区","顶层",15,2,6,"01",131.75]
[641,"绿地凯旋城/住宅-15-2-602","绿地凯旋城","爱民区","顶层",15,2,6,"02",131.75]
[642,"绿地凯旋城/住宅-33-3-602","绿地凯旋城","爱民区","顶层",33,3,6,"02",136.94]
[643,"瑞景花园（10号南棚户区）/住宅-2-1-402","瑞景花园","爱民区",null,2,1,4,402,59.89]
[644,"瑞景花园（10号南棚户区）/住宅-2-3-601","瑞景花园","爱民区","顶层",2,3,6,601,55.29]
[645,"瑞景花园（10号南棚户区）/住宅-2-3-602","瑞景花园","爱民区","顶层",2,3,6,602,49.23]
[646,"瑞景花园（10号南棚户区）/住宅-2-3-603","瑞景花园","爱民区","顶层",2,3,6,603,61.66]
[647,"瑞景花园（10号南棚户区）/住宅-5-1-601","瑞景花园","爱民区","顶层",5,1,6,601,{"v":55.1,"d":"55.10"}]
[648,"瑞景花园（10号南棚户区）/住宅-5-1-603","瑞景花园","爱民区","顶层",5,1,6,603,63.11]
[649,"瑞景花园（10号南棚户区）/住宅-5-2-601","瑞景花园","爱民区","顶层",5,2,6,601,{"v":55.1,"d":"55.10"}]
[650,"瑞景花园（10号南棚户区）/住宅-5-2-602","瑞景花园","爱民区","顶层",5,2,6,602,51.35]
[651,"瑞景花园（10号南棚户区）/住宅-5-3-402","瑞景花园","爱民区",null,5,3,4,402,51.35]
[652,"瑞景花园（10号南棚户区）/住宅-5-3-602","瑞景花园","爱民区","顶层",5,3,6,602,51.35]
[653,"瑞景花园（10号南棚户区）/住宅-5-3-603","瑞景花园","爱民区","顶层",5,3,6,603,63.11]
[654,"瑞景花园（10号南棚户区）/住宅-5-4-202","瑞景花园","爱民区",null,5,4,2,202,{"v":67.8,"d":"67.80"}]
[655,"瑞景花园（10号南棚户区）/住宅-5-4-402","瑞景花园","爱民区",null,5,4,4,402,{"v":67.8,"d":"67.80"}]
[656,"瑞景花园（10号南棚户区）/住宅-5-4-403","瑞景花园","爱民区",null,5,4,4,403,79.94]
[657,"瑞景花园（10号南棚户区）/住宅-5-4-502","瑞景花园","爱民区",null,5,4,5,502,{"v":67.8,"d":"67.80"}]
[658,"瑞景花园（10号南棚户区）/住宅-5-4-503","瑞景花园","爱民区",null,5,4,5,503,79.94]
[659,"瑞景花园（10号南棚户区）/住宅-5-4-601","瑞景花园","爱民区","顶层",5,4,6,601,69.26]
[660,"瑞景花园（10号南棚户区）/住宅-5-4-602","瑞景花园","爱民区","顶层",5,4,6,602,{"v":67.8,"d":"67.80"}]
[661,"瑞景花园（10号南棚户区）/住宅-5-4-603","瑞景花园","爱民区","顶层",5,4,6,603,79.94]
[662,"瑞景花园（10号南棚户区）/住宅-6-1-201","瑞景花园","爱民区",null,6,1,2,201,92.32]
[663,"瑞景花园（10号南棚户区）/住宅-6-1-204","瑞景花园","爱民区",null,6,1,2,204,98.48]
[664,"瑞景花园（10号南棚户区）/住宅-6-1-301","瑞景花园","爱民区",null,6,1,3,301,92.32]
[665,"瑞景花园（10号南棚户区）/住宅-6-1-304","瑞景花园","爱民区",null,6,1,3,304,98.48]
[666,"瑞景花园（10号南棚户区）/住宅-6-1-401","瑞景花园","爱民区",null,6,1,4,401,92.32]
[667,"瑞景花园（10号南棚户区）/住宅-6-1-404","瑞景花园","爱民区",null,6,1,4,404,98.48]
[668,"瑞景花园（10号南棚户区）/住宅-6-1-501","瑞景花园","爱民区",null,6,1,5,501,92.32]
[669,"瑞景花园（10号南棚户区）/住宅-6-1-504","瑞景花园","爱民区",null,6,1,5,504,98.48]
[670,"瑞景花园（10号南棚户区）/住宅-6-1-601","瑞景花园","爱民区",null,6,1,6,601,92.32]
[671,"瑞景花园（10号南棚户区）/住宅-6-1-604","瑞景花园","爱民区",null,6,1,6,604,98.48]
[672,"瑞景花园（10号南棚户区）/住宅-6-1-701","瑞景花园","爱民区",null,6,1,7,701,92.32]
[673,"瑞景花园（10号南棚户区）/住宅-6-1-704","瑞景花园","爱民区",null,6,1,7,704,98.48]
[674,"瑞景花园（10号南棚户区）/住宅-6-1-801","瑞景花园","爱民区",null,6,1,8,801,92.32]
[675,"瑞景花园（10号南棚户区）/住宅-6-1-804","瑞景花园","爱民区",null,6,1,8,804,98.48]
[676,"瑞景花园（10号南棚户区）/住宅-6-1-901","瑞景花园","爱民区",null,6,1,9,901,92.32]
[677,"瑞景花园（10号南棚户区）/住宅-6-1-904","瑞景花园","爱民区",null,6,1,9,904,98.48]
[678,"瑞景花园（10号南棚户区）/住宅-6-1-1001","瑞景花园","爱民区",null,6,1,10,1001,92.32]
[679,"瑞景花园（10号南棚户区）/住宅-6-1-1004","瑞景花园","爱民区",null,6,1,10,1004,98.48]
[680,"瑞景花园（10号南棚户区）/住宅-6-1-1101","瑞景花园","爱民区",null,6,1,11,1101,92.32]
[681,"瑞景花园（10号南棚户区）/住宅-6-1-1104","瑞景花园","爱民区",null,6,1,11,1104,98.48]
[682,"瑞景花园（10号南棚户区）/住宅-6-1-1201","瑞景花园","爱民区",null,6,1,12,1201,92.32]
[683,"瑞景花园（10号南棚户区）/住宅-6-1-1204","瑞景花园","爱民区",null,6,1,12,1204,98.48]
[684,"瑞景花园（10号南棚户区）/住宅-6-1-1301","瑞景花园","爱民区",null,6,1,13,1301,92.32]
[685,"瑞景花园（10号南棚户区）/住宅-6-1-1304","瑞景花园","爱民区",null,6,1,13,1304,98.48]
[686,"瑞景花园（10号南棚户区）/住宅-6-1-1401","瑞景花园","爱民区",null,6,1,14,1401,92.32]
[687,"瑞景花园（10号南棚户区）/住宅-6-1-1403","瑞景花园","爱民区",null,6,1,14,1403,65.02]
[688,"瑞景花园（10号南棚户区）/住宅-6-1-1404","瑞景花园","爱民区",null,6,1,14,1404,98.48]
[689,"瑞景花园（10号南棚户区）/住宅-6-1-1501","瑞景花园","爱民区",null,6,1,15,1501,92.32]
[690,"瑞景花园（10号南棚户区）/住宅-6-1-1504","瑞景花园","爱民区",null,6,1,15,1504,98.48]
[691,"瑞景花园（10号南棚户区）/住宅-6-1-1601","瑞景花园","爱民区",null,6,1,16,1601,92.32]
[692,"瑞景花园（10号南棚户区）/住宅-6-1-1602","瑞景花园","爱民区",null,6,1,16,1602,65.02]
[693,"瑞景花园（10号南棚户区）/住宅-6-1-1604","瑞景花园","爱民区",null,6,1,16,1604,98.48]
[694,"瑞景花园（10号南棚户区）/住宅-6-1-1701","瑞景花园","爱民区",null,6,1,17,1701,92.32]
[695,"瑞景花园（10号南棚户区）/住宅-6-1-1702","瑞景花园","爱民区",null,6,1,17,1702,65.02]
[696,"瑞景花园（10号南棚户区）/住宅-6-1-1703","瑞景花园","爱民区",null,6,1,17,1703,65.02]
[697,"瑞景花园（10号南棚户区）/住宅-6-1-1704","瑞景花园","爱民区",null,6,1,17,1704,98.48]
[698,"瑞景花园（10号南棚户区）/住宅-6-1-1801","瑞景花园","爱民区","顶层",6,1,18,1801,92.32]
[699,"瑞景花园（10号南棚户区）/住宅-6-1-1802","瑞景花园","爱民区","顶层",6,1,18,1802,65.02]
[700,"瑞景花园（10号南棚户区）/住宅-6-1-1803","瑞景花园","爱民区","顶层",6,1,18,1803,65.02]
[701,"瑞景花园（10号南棚户区）/住宅-6-1-1804","瑞景花园","爱民区","顶层",6,1,18,1804,98.48]
[702,"瑞景花园（10号南棚户区）/住宅-6-2-201","瑞景花园","爱民区",null,6,2,2,201,98.48]
[703,"瑞景花园（10号南棚户区）/住宅-6-2-204","瑞景花园","爱民区",null,6,2,2,204,92.32]
[704,"瑞景花园（10号南棚户区）/住宅-6-2-301","瑞景花园","爱民区",null,6,2,3,301,98.48]
[705,"瑞景花园（10号南棚户区）/住宅-6-2-401","瑞景花园","爱民区",null,6,2,4,401,98.48]
[706,"瑞景花园（10号南棚户区）/住宅-6-2-404","瑞景花园","爱民区",null,6,2,4,404,92.32]
[707,"瑞景花园（10号南棚户区）/住宅-6-2-501","瑞景花园","爱民区",null,6,2,5,501,98.48]
[708,"瑞景花园（10号南棚户区）/住宅-6-2-701","瑞景花园","爱民区",null,6,2,7,701,98.48]
[709,"瑞景花园（10号南棚户区）/住宅-6-2-801","瑞景花园","爱民区",null,6,2,8,801,98.48]
[710,"瑞景花园（10号南棚户区）/住宅-6-2-804","瑞景花园","爱民区",null,6,2,8,804,92.32]
[711,"瑞景花园（10号南棚户区）/住宅-6-2-1001","瑞景花园","爱民区",null,6,2,10,1001,98.48]
[712,"瑞景花园（10号南棚户区）/住宅-6-2-1004","瑞景花园","爱民区",null,6,2,10,1004,92.32]
[713,"瑞景花园（10号南棚户区）/住宅-6-2-1101","瑞景花园","爱民区",null,6,2,11,1101,98.48]
[714,"瑞景花园（10号南棚户区）/住宅-6-2-1104","瑞景花园","爱民区",null,6,2,11,1104,92.32]
[715,"瑞景花园（10号南棚户区）/住宅-6-2-1201","瑞景花园","爱民区",null,6,2,12,1201,98.48]
[716,"瑞景花园（10号南棚户区）/住宅-6-2-1301","瑞景花园","爱民区",null,6,2,13,1301,98.48]
[717,"瑞景花园（10号南棚户区）/住宅-6-2-1304","瑞景花园","爱民区",null,6,2,13,1304,92.32]
[718,"瑞景花园（10号南棚户区）/住宅-6-2-1401","瑞景花园","爱民区",null,6,2,14,1401,98.48]
[719,"瑞景花园（10号南棚户区）/住宅-6-2-1402","瑞景花园","爱民区",null,6,2,14,1402,65.02]
[720,"瑞景花园（10号南棚户区）/住宅-6-2-1404","瑞景花园","爱民区",null,6,2,14,1404,92.32]
[721,"瑞景花园（10号南棚户区）/住宅-6-2-1501","瑞景花园","爱民区",null,6,2,15,1501,98.48]
[722,"瑞景花园（10号南棚户区）/住宅-6-2-1504","瑞景花园","爱民区",null,6,2,15,1504,92.32]
[723,"瑞景花园（10号南棚户区）/住宅-6-2-1601","瑞景花园","爱民区",null,6,2,16,1601,98.48]
[724,"瑞景花园（10号南棚户区）/住宅-6-2-1604","瑞景花园","爱民区",null,6,2,16,1604,92.32]
[725,"瑞景花园（10号南棚户区）/住宅-6-2-1701","瑞景花园","爱民区",null,6,2,17,1701,98.48]
[726,"瑞景花园（10号南棚户区）/住宅-6-2-1703","瑞景花园","爱民区",null,6,2,17,1703,65.02]
[727,"瑞景花园（10号南棚户区）/住宅-6-2-1704","瑞景花园","爱民区",null,6,2,17,1704,92.32]
[728,"瑞景花园（10号南棚户区）/住宅-6-2-1801","瑞景花园","爱民区","顶层",6,2,18,1801,98.48]
[729,"瑞景花园（10号南棚户区）/住宅-6-2-1802","瑞景花园","爱民区","顶层",6,2,18,1802,65.02]
[730,"瑞景花园（10号南棚户区）/住宅-6-2-1803","瑞景花园","爱民区","顶层",6,2,18,1803,65.02]
[731,"瑞景花园（10号南棚户区）/住宅-6-2-1804","瑞景花园","爱民区","顶层",6,2,18,1804,92.32]
[732,"瑞景花园（10号南棚户区）/住宅-7-1-1802","瑞景花园","爱民区","顶层",7,1,18,1802,76.52]
[733,"瑞景花园（10号南棚户区）/住宅-7-1-203","瑞景花园","爱民区",null,7,1,2,203,92.56]
[734,"瑞景花园（10号南棚户区）/住宅-7-1-303","瑞景花园","爱民区",null,7,1,3,303,92.56]
[735,"瑞景花园（10号南棚户区）/住宅-7-1-803","瑞景花园","爱民区",null,7,1,8,803,92.56]
[736,"瑞景花园（10号南棚户区）/住宅-7-1-903","瑞景花园","爱民区",null,7,1,9,903,92.56]
[737,"瑞景花园（10号南棚户区）/住宅-7-1-1003","瑞景花园","爱民区",null,7,1,10,1003,92.56]
[738,"瑞景花园（10号南棚户区）/住宅-7-1-1103","瑞景花园","爱民区",null,7,1,11,1103,92.56]
[739,"瑞景花园（10号南棚户区）/住宅-7-1-1203","瑞景花园","爱民区",null,7,1,12,1203,92.56]
[740,"瑞景花园（10号南棚户区）/住宅-7-1-1303","瑞景花园","爱民区",null,7,1,13,1303,92.56]
[741,"瑞景花园（10号南棚户区）/住宅-7-1-1403","瑞景花园","爱民区",null,7,1,14,1403,92.56]
[742,"瑞景花园（10号南棚户区）/住宅-7-1-1503","瑞景花园","爱民区",null,7,1,15,1503,92.56]
[743,"瑞景花园（10号南棚户区）/住宅-7-1-1603","瑞景花园","爱民区",null,7,1,16,1603,92.56]
[744,"瑞景花园（10号南棚户区）/住宅-7-1-1703","瑞景花园","爱民区",null,7,1,17,1703,92.56]
[745,"瑞景花园（10号南棚户区）/住宅-7-1-1801","瑞景花园","爱民区","顶层",7,1,18,1801,83.63]
[746,"瑞景花园（10号南棚户区）/住宅-7-1-1803","瑞景花园","爱民区","顶层",7,1,18,1803,92.56]
[747,"瑞景花园（10号南棚户区）/住宅-7-2-201","瑞景花园","爱民区",null,7,2,2,201,99.46]
[748,"瑞景花园（10号南棚户区）/住宅-7-2-301","瑞景花园","爱民区",null,7,2,3,301,99.46]
[749,"瑞景花园（10号南棚户区）/住宅-7-2-401","瑞景花园","爱民区",null,7,2,4,401,99.46]
[750,"瑞景花园（10号南棚户区）/住宅-7-2-501","瑞景花园","爱民区",null,7,2,5,501,99.46]
[751,"瑞景花园（10号南棚户区）/住宅-7-2-601","瑞景花园","爱民区",null,7,2,6,601,99.46]
[752,"瑞景花园（10号南棚户区）/住宅-7-2-701","瑞景花园","爱民区",null,7,2,7,701,99.46]
[753,"瑞景花园（10号南棚户区）/住宅-7-2-801","瑞景花园","爱民区",null,7,2,8,801,99.46]
[754,"瑞景花园（10号南棚户区）/住宅-7-2-901","瑞景花园","爱民区",null,7,2,9,901,99.46]
[755,"瑞景花园（10号南棚户区）/住宅-7-2-1101","瑞景花园","爱民区",null,7,2,11,1101,99.46]
[756,"瑞景花园（10号南棚户区）/住宅-7-2-1201","瑞景花园","爱民区",null,7,2,12,1201,99.46]
[757,"瑞景花园（10号南棚户区）/住宅-7-2-1401","瑞景花园","爱民区",null,7,2,14,1401,99.46]
[758,"瑞景花园（10号南棚户区）/住宅-7-2-1501","瑞景花园","爱民区",null,7,2,15,1501,99.46]
[759,"瑞景花园（10号南棚户区）/住宅-7-2-1601","瑞景花园","爱民区",null,7,2,16,1601,99.46]
[760,"瑞景花园（10号南棚户区）/住宅-7-2-1701","瑞景花园","爱民区",null,7,2,17,1701,99.46]
[761,"瑞景花园（10号南棚户区）/住宅-7-2-1801","瑞景花园","爱民区","顶层",7,2,18,1801,99.46]
[762,"瑞景花园（10号南棚户区）/住宅-7-2-1702","瑞景花园","爱民区",null,7,2,17,1702,65.67]
[763,"瑞景花园（10号南棚户区）/住宅-7-2-1802","瑞景花园","爱民区","顶层",7,2,18,1802,65.67]
[764,"瑞景花园（10号南棚户区）/住宅-7-2-1803","瑞景花园","爱民区","顶层",7,2,18,1803,65.67]
[765,"瑞景花园（10号南棚户区）/住宅-7-2-204","瑞景花园","爱民区",null,7,2,2,204,93.24]
[766,"瑞景花园（10号南棚户区）/住宅-7-2-304","瑞景花园","爱民区",null,7,2,3,304,93.24]
[767,"瑞景花园（10号南棚户区）/住宅-7-2-404","瑞景花园","爱民区",null,7,2,4,404,93.24]
[768,"瑞景花园（10号南棚户区）/住宅-7-2-504","瑞景花园","爱民区",null,7,2,5,504,93.24]
[769,"瑞景花园（10号南棚户区）/住宅-7-2-604","瑞景花园","爱民区",null,7,2,6,604,93.24]
[770,"瑞景花园（10号南棚户区）/住宅-7-2-704","瑞景花园","爱民区",null,7,2,7,704,93.24]
[771,"瑞景花园（10号南棚户区）/住宅-7-2-804","瑞景花园","爱民区",null,7,2,8,804,93.24]
[772,"瑞景花园（10号南棚户区）/住宅-7-2-904","瑞景花园","爱民区",null,7,2,9,904,93.24]
[773,"瑞景花园（10号南棚户区）/住宅-7-2-1004","瑞景花园","爱民区",null,7,2,10,1004,93.24]
[774,"瑞景花园（10号南棚户区）/住宅-7-2-1104","瑞景花园","爱民区",null,7,2,11,1104,93.24]
[775,"瑞景花园（10号南棚户区）/住宅-7-2-1304","瑞景花园","爱民区",null,7,2,13,1304,93.24]
[776,"瑞景花园（10号南棚户区）/住宅-7-2-1404","瑞景花园","爱民区",null,7,2,14,1404,93.24]
[777,"瑞景花园（10号南棚户区）/住宅-7-2-1504","瑞景花园","爱民区",null,7,2,15,1504,93.24]
[778,"瑞景花园（10号南棚户区）/住宅-7-2-1604","瑞景花园","爱民区",null,7,2,16,1604,93.24]
[779,"瑞景花园（10号南棚户区）/住宅-7-2-1704","瑞景花园","爱民区",null,7,2,17,1704,93.24]
[780,"瑞景花园（10号南棚户区）/住宅-7-2-1804","瑞景花园","爱民区","顶层",7,2,18,1804,93.24]
[781,"瑞景花园（10号南棚户区）/住宅-8-1-201","瑞景花园","爱民区",null,8,1,2,201,94.32]
[782,"瑞景花园（10号南棚户区）/住宅-8-1-301","瑞景花园","爱民区",null,8,1,3,301,94.32]
[783,"瑞景花园（10号南棚户区）/住宅-8-1-401","瑞景花园","爱民区",null,8,1,4,401,94.32]
[784,"瑞景花园（10号南棚户区）/住宅-8-1-601","瑞景花园","爱民区",null,8,1,6,601,94.32]
[785,"瑞景花园（10号南棚户区）/住宅-8-1-1001","瑞景花园","爱民区",null,8,1,10,1001,94.32]
[786,"瑞景花园（10号南棚户区）/住宅-8-1-1401","瑞景花园","爱民区",null,8,1,14,1401,94.32]
[787,"瑞景花园（10号南棚户区）/住宅-8-1-1501","瑞景花园","爱民区",null,8,1,15,1501,94.32]
[788,"瑞景花园（10号南棚户区）/住宅-8-1-1801","瑞景花园","爱民区","顶层",8,1,18,1801,94.32]
[789,"瑞景花园（10号南棚户区）/住宅-8-1-202","瑞景花园","爱民区",null,8,1,2,202,75.61]
[790,"瑞景花园（10号南棚户区）/住宅-8-1-1802","瑞景花园","爱民区","顶层",8,1,18,1802,75.61]
[791,"瑞景花园（10号南棚户区）/住宅-8-1-203","瑞景花园","爱民区",null,8,1,2,203,114.49]
[792,"瑞景花园（10号南棚户区）/住宅-8-1-303","瑞景花园","爱民区",null,8,1,3,303,114.49]
[793,"瑞景花园（10号南棚户区）/住宅-8-1-403","瑞景花园","爱民区",null,8,1,4,403,114.49]
[794,"瑞景花园（10号南棚户区）/住宅-8-1-1103","瑞景花园","爱民区",null,8,1,11,1103,114.49]
[795,"瑞景花园（10号南棚户区）/住宅-8-1-1303","瑞景花园","爱民区",null,8,1,13,1303,114.49]
[796,"瑞景花园（10号南棚户区）/住宅-8-1-1403","瑞景花园","爱民区",null,8,1,14,1403,114.49]
[797,"瑞景花园（10号南棚户区）/住宅-8-1-1603","瑞景花园","爱民区",null,8,1,16,1603,114.49]
[798,"瑞景花园（10号南棚户区）/住宅-8-1-1703","瑞景花园","爱民区",null,8,1,17,1703,114.49]
[799,"瑞景花园（10号南棚户区）/住宅-8-1-1803","瑞景花园","爱民区","顶层",8,1,18,1803,114.49]
[800,"瑞景花园（10号南棚户区）/住宅-8-2-201","瑞景花园","爱民区",null,8,2,2,201,114.49]
[801,"瑞景花园（10号南棚户区）/住宅-8-2-301","瑞景花园","爱民区",null,8,2,3,301,114.49]
[802,"瑞景花园（10号南棚户区）/住宅-8-2-401","瑞景花园","爱民区",null,8,2,4,401,114.49]
[803,"瑞景花园（10号南棚户区）/住宅-8-2-801","瑞景花园","爱民区",null,8,2,8,801,114.49]
[804,"瑞景花园（10号南棚户区）/住宅-8-2-1601","瑞景花园","爱民区",null,8,2,16,1601,114.49]
[805,"瑞景花园（10号南棚户区）/住宅-8-2-1801","瑞景花园","爱民区","顶层",8,2,18,1801,114.49]
[806,"瑞景花园（10号南棚户区）/住宅-8-2-1802","瑞景花园","爱民区","顶层",8,2,18,1802,75.61]
[807,"瑞景花园（10号南棚户区）/住宅-8-2-203","瑞景花园","爱民区",null,8,2,2,203,94.32]
[808,"瑞景花园（10号南棚户区）/住宅-8-2-303","瑞景花园","爱民区",null,8,2,3,303,94.32]
[809,"瑞景花园（10号南棚户区）/住宅-8-2-403","瑞景花园","爱民区",null,8,2,4,403,94.32]
[810,"瑞景花园（10号南棚户区）/住宅-8-2-503","瑞景花园","爱民区",null,8,2,5,503,94.32]
[811,"瑞景花园（10号南棚户区）/住宅-8-2-703","瑞景花园","爱民区",null,8,2,7,703,94.32]
[812,"瑞景花园（10号南棚户区）/住宅-8-2-1003","瑞景花园","爱民区",null,8,2,10,1003,94.32]
[813,"瑞景花园（10号南棚户区）/住宅-8-2-1303","瑞景花园","爱民区",null,8,2,13,1303,94.32]
[814,"瑞景花园（10号南棚户区）/住宅-8-2-1403","瑞景花园","爱民区",null,8,2,14,1403,94.32]
[815,"瑞景花园（10号南棚户区）/住宅-8-2-1503","瑞景花园","爱民区",null,8,2,15,1503,94.32]
[816,"瑞景花园（10号南棚户区）/住宅-8-2-1703","瑞景花园","爱民区",null,8,2,17,1703,94.32]
[817,"瑞景花园（10号南棚户区）/住宅-8-2-1803","瑞景花园","爱民区","顶层",8,2,18,1803,94.32]
[818,"瑞景花园（10号南棚户区）/住宅-11-1-201","瑞景花园","爱民区",null,11,1,2,201,92.53]
[819,"瑞景花园（10号南棚户区）/住宅-11-1-301","瑞景花园","爱民区",null,11,1,3,301,92.53]
[820,"瑞景花园（10号南棚户区）/住宅-11-1-401","瑞景花园","爱民区",null,11,1,4,401,92.53]
[821,"瑞景花园（10号南棚户区）/住宅-11-1-501","瑞景花园","爱民区",null,11,1,5,501,92.53]
[822,"瑞景花园（10号南棚户区）/住宅-11-1-601","瑞景花园","爱民区",null,11,1,6,601,92.53]
[823,"瑞景花园（10号南棚户区）/住宅-11-1-1101","瑞景花园","爱民区",null,11,1,11,1101,92.53]
[824,"瑞景花园（10号南棚户区）/住宅-11-1-1501","瑞景花园","爱民区",null,11,1,15,1501,92.53]
[825,"瑞景花园（10号南棚户区）/住宅-11-1-1601","瑞景花园","爱民区",null,11,1,16,1601,92.53]
[826,"瑞景花园（10号南棚户区）/住宅-11-1-1801","瑞景花园","爱民区","顶层",11,1,18,1801,92.53]
[827,"瑞景花园（10号南棚户区）/住宅-11-1-1002","瑞景花园","爱民区",null,11,1,10,1002,76.76]
[828,"瑞景花园（10号南棚户区）/住宅-11-1-1102","瑞景花园","爱民区",null,11,1,11,1102,76.76]
[829,"瑞景花园（10号南棚户区）/住宅-11-1-1202","瑞景花园","爱民区",null,11,1,12,1202,76.76]
[830,"瑞景花园（10号南棚户区）/住宅-11-1-1302","瑞景花园","爱民区",null,11,1,13,1302,76.76]
[831,"瑞景花园（10号南棚户区）/住宅-11-1-1502","瑞景花园","爱民区",null,11,1,15,1502,76.76]
[832,"瑞景花园（10号南棚户区）/住宅-11-1-1602","瑞景花园","爱民区",null,11,1,16,1602,76.76]
[833,"瑞景花园（10号南棚户区）/住宅-11-1-1702","瑞景花园","爱民区",null,11,1,17,1702,76.76]
[834,"瑞景花园（10号南棚户区）/住宅-11-1-1802","瑞景花园","爱民区","顶层",11,1,18,1802,76.76]
[835,"瑞景花园（10号南棚户区）/住宅-11-1-203","瑞景花园","爱民区",null,11,1,2,203,92.85]
[836,"瑞景花园（10号南棚户区）/住宅-11-1-503","瑞景花园","爱民区",null,11,1,5,503,92.85]
[837,"瑞景花园（10号南棚户区）/住宅-11-1-603","瑞景花园","爱民区",null,11,1,6,603,92.85]
[838,"瑞景花园（10号南棚户区）/住宅-11-1-1003","瑞景花园","爱民区",null,11,1,10,1003,92.85]
[839,"瑞景花园（10号南棚户区）/住宅-11-1-1103","瑞景花园","爱民区",null,11,1,11,1103,92.85]
[840,"瑞景花园（10号南棚户区）/住宅-11-1-1203","瑞景花园","爱民区",null,11,1,12,1203,92.85]
[841,"瑞景花园（10号南棚户区）/住宅-11-1-1603","瑞景花园","爱民区",null,11,1,16,1603,92.85]
[842,"瑞景花园（10号南棚户区）/住宅-11-1-1703","瑞景花园","爱民区",null,11,1,17,1703,92.85]
[843,"瑞景花园（10号南棚户区）/住宅-11-1-1803","瑞景花园","爱民区","顶层",11,1,18,1803,92.85]
[844,"瑞景花园（10号南棚户区）/住宅-11-2-201","瑞景花园","爱民区",null,11,2,2,201,97.49]
[845,"瑞景花园（10号南棚户区）/住宅-11-2-301","瑞景花园","爱民区",null,11,2,3,301,97.49]
[846,"瑞景花园（10号南棚户区）/住宅-11-2-401","瑞景花园","爱民区",null,11,2,4,401,97.49]
[847,"瑞景花园（10号南棚户区）/住宅-11-2-501","瑞景花园","爱民区",null,11,2,5,501,97.49]
[848,"瑞景花园（10号南棚户区）/住宅-11-2-701","瑞景花园","爱民区",null,11,2,7,701,97.49]
[849,"瑞景花园（10号南棚户区）/住宅-11-2-901","瑞景花园","爱民区",null,11,2,9,901,97.49]
[850,"瑞景花园（10号南棚户区）/住宅-11-2-1001","瑞景花园","爱民区",null,11,2,10,1001,97.49]
[851,"瑞景花园（10号南棚户区）/住宅-11-2-1101","瑞景花园","爱民区",null,11,2,11,1101,97.49]
[852,"瑞景花园（10号南棚户区）/住宅-11-2-1201","瑞景花园","爱民区",null,11,2,12,1201,97.49]
[853,"瑞景花园（10号南棚户区）/住宅-11-2-1301","瑞景花园","爱民区",null,11,2,13,1301,97.49]
[854,"瑞景花园（10号南棚户区）/住宅-11-2-1401","瑞景花园","爱民区",null,11,2,14,1401,97.49]
[855,"瑞景花园（10号南棚户区）/住宅-11-2-1501","瑞景花园","爱民区",null,11,2,15,1501,97.49]
[856,"瑞景花园（10号南棚户区）/住宅-11-2-1601","瑞景花园","爱民区",null,11,2,16,1601,97.49]
[857,"瑞景花园（10号南棚户区）/住宅-11-2-1701","瑞景花园","爱民区",null,11,2,17,1701,97.49]
[858,"瑞景花园（10号南棚户区）/住宅-11-2-1801","瑞景花园","爱民区","顶层",11,2,18,1801,97.49]
[859,"瑞景花园（10号南棚户区）/住宅-11-2-202","瑞景花园","爱民区",null,11,2,2,202,63.39]
[860,"瑞景花园（10号南棚户区）/住宅-11-2-1602","瑞景花园","爱民区",null,11,2,16,1602,63.39]
[861,"瑞景花园（10号南棚户区）/住宅-11-2-1702","瑞景花园","爱民区",null,11,2,17,1702,63.39]
[862,"瑞景花园（10号南棚户区）/住宅-11-2-203","瑞景花园","爱民区",null,11,2,2,203,92.92]
[863,"瑞景花园（10号南棚户区）/住宅-11-2-303","瑞景花园","爱民区",null,11,2,3,303,92.92]
[864,"瑞景花园（10号南棚户区）/住宅-11-2-403","瑞景花园","爱民区",null,11,2,4,403,92.92]
[865,"瑞景花园（10号南棚户区）/住宅-11-2-503","瑞景花园","爱民区",null,11,2,5,503,92.92]
[866,"瑞景花园（10号南棚户区）/住宅-11-2-603","瑞景花园","爱民区",null,11,2,6,603,92.92]
[867,"瑞景花园（10号南棚户区）/住宅-11-2-703","瑞景花园","爱民区",null,11,2,7,703,92.92]
[868,"瑞景花园（10号南棚户区）/住宅-11-2-803","瑞景花园","爱民区",null,11,2,8,803,92.92]
[869,"瑞景花园（10号南棚户区）/住宅-11-2-1003","瑞景花园","爱民区",null,11,2,10,1003,92.92]
[870,"瑞景花园（10号南棚户区）/住宅-11-2-1103","瑞景花园","爱民区",null,11,2,11,1103,92.92]
[871,"瑞景花园（10号南棚户区）/住宅-11-2-1203","瑞景花园","爱民区",null,11,2,12,1203,92.92]
[872,"瑞景花园（10号南棚户区）/住宅-11-2-1303","瑞景花园","爱民区",null,11,2,13,1303,92.92]
[873,"瑞景花园（10号南棚户区）/住宅-11-2-1403","瑞景花园","爱民区",null,11,2,14,1403,92.92]
[874,"瑞景花园（10号南棚户区）/住宅-11-2-1503","瑞景花园","爱民区",null,11,2,15,1503,92.92]
[875,"瑞景花园（10号南棚户区）/住宅-11-2-1603","瑞景花园","爱民区",null,11,2,16,1603,92.92]
[876,"瑞景花园（10号南棚户区）/住宅-11-2-1703","瑞景花园","爱民区",null,11,2,17,1703,92.92]
[877,"瑞景花园（10号南棚户区）/住宅-11-2-1803","瑞景花园","爱民区","顶层",11,2,18,1803,92.92]
[878,"瑞景花园（10号南棚户区）/住宅-11-3-201","瑞景花园","爱民区",null,11,3,2,201,92.85]
[879,"瑞景花园（10号南棚户区）/住宅-11-3-301","瑞景花园","爱民区",null,11,3,3,301,92.85]
[880,"瑞景花园（10号南棚户区）/住宅-11-3-401","瑞景花园","爱民区",null,11,3,4,401,92.85]
[881,"瑞景花园（10号南棚户区）/住宅-11-3-501","瑞景花园","爱民区",null,11,3,5,501,92.85]
[882,"瑞景花园（10号南棚户区）/住宅-11-3-601","瑞景花园","爱民区",null,11,3,6,601,92.85]
[883,"瑞景花园（10号南棚户区）/住宅-11-3-701","瑞景花园","爱民区",null,11,3,7,701,92.85]
[884,"瑞景花园（10号南棚户区）/住宅-11-3-801","瑞景花园","爱民区",null,11,3,8,801,92.85]
[885,"瑞景花园（10号南棚户区）/住宅-11-3-901","瑞景花园","爱民区",null,11,3,9,901,92.85]
[886,"瑞景花园（10号南棚户区）/住宅-11-3-1001","瑞景花园","爱民区",null,11,3,10,1001,92.85]
[887,"瑞景花园（10号南棚户区）/住宅-11-3-1101","瑞景花园","爱民区",null,11,3,11,1101,92.85]
[888,"瑞景花园（10号南棚户区）/住宅-11-3-1201","瑞景花园","爱民区",null,11,3,12,1201,92.85]
[889,"瑞景花园（10号南棚户区）/住宅-11-3-1301","瑞景花园","爱民区",null,11,3,13,1301,92.85]
[890,"瑞景花园（10号南棚户区）/住宅-11-3-1401","瑞景花园","爱民区",null,11,3,14,1401,92.85]
[891,"瑞景花园（10号南棚户区）/住宅-11-3-1501","瑞景花园","爱民区",null,11,3,15,1501,92.85]
[892,"瑞景花园（10号南棚户区）/住宅-11-3-1601","瑞景花园","爱民区",null,11,3,16,1601,92.85]
[893,"瑞景花园（10号南棚户区）/住宅-11-3-1701","瑞景花园","爱民区",null,11,3,17,1701,92.85]
[894,"瑞景花园（10号南棚户区）/住宅-11-3-1801","瑞景花园","爱民区","顶层",11,3,18,1801,92.85]
[895,"瑞景花园（10号南棚户区）/住宅-11-3-202","瑞景花园","爱民区",null,11,3,2,202,76.76]
[896,"瑞景花园（10号南棚户区）/住宅-11-3-302","瑞景花园","爱民区",null,11,3,3,302,76.76]
[897,"瑞景花园（10号南棚户区）/住宅-11-3-702","瑞景花园","爱民区",null,11,3,7,702,76.76]
[898,"瑞景花园（10号南棚户区）/住宅-11-3-802","瑞景花园","爱民区",null,11,3,8,802,76.76]
[899,"瑞景花园（10号南棚户区）/住宅-11-3-1002","瑞景花园","爱民区",null,11,3,10,1002,76.76]
[900,"瑞景花园（10号南棚户区）/住宅-11-3-1102","瑞景花园","爱民区",null,11,3,11,1102,76.76]
[901,"瑞景花园（10号南棚户区）/住宅-11-3-1202","瑞景花园","爱民区",null,11,3,12,1202,76.76]
[902,"瑞景花园（10号南棚户区）/住宅-11-3-1402","瑞景花园","爱民区",null,11,3,14,1402,76.76]
[903,"瑞景花园（10号南棚户区）/住宅-11-3-1702","瑞景花园","爱民区",null,11,3,17,1702,76.76]
[904,"瑞景花园（10号南棚户区）/住宅-11-3-1802","瑞景花园","爱民区","顶层",11,3,18,1802,76.76]
[905,"瑞景花园（10号南棚户区）/住宅-11-3-203","瑞景花园","爱民区",null,11,3,2,203,92.53]
[906,"瑞景花园（10号南棚户区）/住宅-11-3-403","瑞景花园","爱民区",null,11,3,4,403,92.53]
[907,"瑞景花园（10号南棚户区）/住宅-11-3-1403","瑞景花园","爱民区",null,11,3,14,1403,92.53]
[908,"瑞景花园（10号南棚户区）/住宅-11-3-1703","瑞景花园","爱民区",null,11,3,17,1703,92.53]
[909,"瑞景花园（10号南棚户区）/住宅-11-3-1803","瑞景花园","爱民区","顶层",11,3,18,1803,92.53]
[910,"凤凰城C区/住宅-11-1-201","凤凰城C区","爱民区","商底层",11,1,2,"01",82.09]
[911,"北悦城/住宅-8-3-602","北悦城","爱民区","顶层",8,3,6,"02",52.59]
[912,"北悦城/住宅-8-4-602","北悦城","爱民区","顶层",8,4,6,"02",52.59]
[913,"北悦城/住宅-13-4-603","北悦城","爱民区","顶层",13,4,6,"03",70.84]
[914,"北悦城/住宅-30-4-301","北悦城","爱民区",null,30,4,3,"01",96.59]
[915,"北悦城/住宅-30-4-501","北悦城","爱民区",null,30,4,5,"01",96.59]
[916,"北悦城/住宅-36-2-301","北悦城","爱民区",null,36,2,3,"01",110.49]
[917,"银龙湾/住宅-1-1-603","银龙湾","爱民区","顶层",1,1,6,"03",62.23]
[918,"银龙湾/住宅-1-2-601","银龙湾","爱民区","顶层",1,2,6,"01",62.23]
[919,"银龙湾/住宅-1-3-601","银龙湾","爱民区","顶层",1,3,6,"01",60.38]
[920,"银龙湾/住宅-1-4-602","银龙湾","爱民区","顶层",1,4,6,"02",79.59]
[921,"银龙湾/住宅-2-1-601","银龙湾","爱民区","顶层",2,1,6,"01",64.37]
[922,"银龙湾/住宅-2-1-602","银龙湾","爱民区","顶层",2,1,6,"02",76.22]
[923,"银龙湾/住宅-2-3-601","银龙湾","爱民区","顶层",2,3,6,"01",61.47]
[924,"银龙湾/住宅-2-3-603","银龙湾","爱民区","顶层",2,3,6,"03",55.69]
[925,"银龙湾/住宅-3-1-601","银龙湾","爱民区","顶层",3,1,6,"01",72.24]
[926,"银龙湾/住宅-3-2-603","银龙湾","爱民区","顶层",3,2,6,"03",71.29]
[927,"银龙湾/住宅-3-3-601","银龙湾","爱民区","顶层",3,3,6,"01",72.24]
[928,"银龙湾/住宅-3-3-603","银龙湾","爱民区","顶层",3,3,6,"03",68.97]
[929,"银龙湾/住宅-3-4-601","银龙湾","爱民区","顶层",3,4,6,"01",68.53]
[930,"银龙湾/住宅-3-4-603","银龙湾","爱民区","顶层",3,4,6,"03",71.29]
[931,"银龙湾/住宅-4-1-601","银龙湾","爱民区","顶层",4,1,6,"01",73.9]
[932,"银龙湾/住宅-4-1-603","银龙湾","爱民区","顶层",4,1,6,"03",74.98]
[933,"银龙湾/住宅-4-2-601","银龙湾","爱民区","顶层",4,2,6,"01",74.98]
[934,"银龙湾/住宅-4-2-602","银龙湾","爱民区","顶层",4,2,6,"02",57.81]
[935,"银龙湾/住宅-5-1-601","银龙湾","爱民区","顶层",5,1,6,"01",74.41]
[936,"银龙湾/住宅-5-1-602","银龙湾","爱民区","顶层",5,1,6,"02",58.2]
[937,"银龙湾/住宅-5-1-603","银龙湾","爱民区","顶层",5,1,6,"03",75.49]
[938,"银龙湾/住宅-5-2-601","银龙湾","爱民区","顶层",5,2,6,"01",75.49]
[939,"银龙湾/住宅-6-1-601","银龙湾","爱民区","顶层",6,1,6,"01",71.08]
[940,"银龙湾/住宅-6-1-603","银龙湾","爱民区","顶层",6,1,6,"03",72.45]
[941,"银龙湾/住宅-6-3-603","银龙湾","爱民区","顶层",6,3,6,"03",72.45]
[942,"银龙湾/住宅-7-3-601","银龙湾","爱民区","顶层",7,3,6,"01",68.68]
[943,"银龙湾/住宅-8-1-601","银龙湾","爱民区","顶层",8,1,6,"01",60.33]
[944,"银龙湾/住宅-8-3-602","银龙湾","爱民区","顶层",8,3,6,"02",50.33]
[945,"银龙湾/住宅-8-4-603","银龙湾","爱民区","顶层",8,4,6,"03",60.33]
[946,"银龙湾/住宅-9-1-601","银龙湾","爱民区","顶层",9,1,6,"01",71.66]
[947,"银龙湾/住宅-9-1-602","银龙湾","爱民区","顶层",9,1,6,"02",56.28]
[948,"银龙湾/住宅-9-2-603","银龙湾","爱民区","顶层",9,2,6,"03",70.36]
[949,"银龙湾/住宅-9-3-602","银龙湾","爱民区","顶层",9,3,6,"02",56.28]
[950,"银龙湾/住宅-9-3-603","银龙湾","爱民区","顶层",9,3,6,"03",70.36]
[951,"银龙湾/住宅-10-1-601","银龙湾","爱民区","顶层",10,1,6,"01",67.13]
[952,"银龙湾/住宅-10-1-602","银龙湾","爱民区","顶层",10,1,6,"02",50.53]
[953,"银龙湾/住宅-10-2-602","银龙湾","爱民区","顶层",10,2,6,"02",50.53]
[954,"银龙湾/住宅-10-3-601","银龙湾","爱民区","顶层",10,3,6,"01",67.13]
[955,"银龙湾/住宅-10-3-602","银龙湾","爱民区","顶层",10,3,6,"02",50.53]
[956,"银龙湾/住宅-10-4-602","银龙湾","爱民区","顶层",10,4,6,"02",50.53]
[957,"银龙湾/住宅-10-4-603","银龙湾","爱民区","顶层",10,4,6,"03",66.17]
[958,"银龙湾/住宅-11-1-601","银龙湾","爱民区","顶层",11,1,6,"01",65.72]
[959,"银龙湾/住宅-11-2-502","银龙湾","爱民区",null,11,2,5,"02",50.73]
[960,"银龙湾/住宅-11-2-602","银龙湾","爱民区","顶层",11,2,6,"02",50.73]
[961,"银龙湾/住宅-11-3-602","银龙湾","爱民区","顶层",11,3,6,"02",50.73]
[962,"银龙湾/住宅-12-1-602","银龙湾","爱民区","顶层",12,1,6,"02",50.53]
[963,"银龙湾/住宅-12-2-602","银龙湾","爱民区","顶层",12,2,6,"02",50.53]
[964,"银龙湾/住宅-12-3-601","银龙湾","爱民区","顶层",12,3,6,"01",67.13]
[965,"银龙湾/住宅-12-3-602","银龙湾","爱民区","顶层",12,3,6,"02",50.53]
[966,"银龙湾/住宅-12-4-602","银龙湾","爱民区","顶层",12,4,6,"02",50.53]
[967,"银龙湾/住宅-14-1-601","银龙湾","爱民区","顶层",14,1,6,"01",70.16]
[968,"银龙湾/住宅-14-1-602","银龙湾","爱民区","顶层",14,1,6,"02",56.22]
[969,"银龙湾/住宅-14-1-603","银龙湾","爱民区","顶层",14,1,6,"03",65.9]
[970,"银龙湾/住宅-14-2-603","银龙湾","爱民区","顶层",14,2,6,"03",70.16]
[971,"银龙湾/住宅-14-3-601","银龙湾","爱民区","顶层",14,3,6,"01",70.16]
[972,"银龙湾/住宅-14-4-603","银龙湾","爱民区","顶层",14,4,6,"03",70.31]
[973,"春晖园西苑/住宅-A1-1-1101","春晖园西苑","爱民区",null,"A1",1,11,"01",73.21]
[974,"春晖园西苑/住宅-A1-1-1103","春晖园西苑","爱民区",null,"A1",1,11,"03",72.6]
[975,"春晖园西苑/住宅-A1-2-1701","春晖园西苑","爱民区","顶层","A1",2,17,"01",76.37]
[976,"春晖园西苑/住宅-A1-2-1703","春晖园西苑","爱民区","顶层","A1",2,17,"03",76.61]
[977,"春晖园西苑/住宅-A1-3-1701","春晖园西苑","爱民区","顶层","A1",3,17,"01",76.61]
[978,"春晖园西苑/住宅-A1-3-1702","春晖园西苑","爱民区","顶层","A1",3,17,"02",62.55]
[979,"春晖园西苑/住宅-A1-3-1703","春晖园西苑","爱民区","顶层","A1",3,17,"03",76.37]
[980,"春晖园西苑/住宅-A2-1-1701","春晖园西苑","爱民区","顶层","A2",1,17,"01",76.37]
[981,"春晖园西苑/住宅-A2-1-1702","春晖园西苑","爱民区","顶层","A2",1,17,"02",62.55]
[982,"春晖园西苑/住宅-A4-1-1701","春晖园西苑","爱民区","顶层","A4",1,17,"01",76.37]
[983,"春晖园西苑/住宅-A4-1-1703","春晖园西苑","爱民区","顶层","A4",1,17,"03",76.61]
[984,"春晖园西苑/住宅-A4-2-1701","春晖园西苑","爱民区","顶层","A4",2,17,"01",76.61]
[985,"春晖园西苑/住宅-A4-2-1703","春晖园西苑","爱民区","顶层","A4",2,17,"03",76.37]
[986,"春晖园西苑/住宅-A8-2-703","春晖园西苑","爱民区","顶层","A8",2,7,"03",64.9]
[987,"春晖园西苑/住宅-A8-3-701","春晖园西苑","爱民区","顶层","A8",3,7,"01",64.7]
[988,"春晖园西苑/住宅-A9-1-702","春晖园西苑","爱民区","顶层","A9",1,7,"02",98.3]
[989,"春晖园西苑/住宅-A9-2-703","春晖园西苑","爱民区","顶层","A9",2,7,"03",64.9]
[990,"春晖园西苑/住宅-A9-3-702","春晖园西苑","爱民区","顶层","A9",3,7,"02",81.09]
[991,"春晖园西苑/住宅-A9-3-602","春晖园西苑","爱民区",0,"A9",3,6,"02",81.09]
[992,"春晖园西苑/住宅-A9-4-701","春晖园西苑","爱民区","顶层","A9",4,7,"01",66.4]
[993,"春晖园西苑/住宅-A11-1-1101","春晖园西苑","爱民区","顶层","A11",1,11,"01",75.5]
[994,"春晖园西苑/住宅-A11-1-1103","春晖园西苑","爱民区","顶层","A11",1,11,"03",75.5]
[995,"春晖园西苑/住宅-A11-2-1101","春晖园西苑","爱民区","顶层","A11",2,11,"01",75.5]
[996,"春晖园西苑/住宅-A11-2-1103","春晖园西苑","爱民区","顶层","A11",2,11,"03",75.5]
[997,"春晖园西苑/住宅-A12-1-1701","春晖园西苑","爱民区","顶层","A12",1,17,"01",75.3]
[998,"春晖园西苑/住宅-A12-1-1702","春晖园西苑","爱民区","顶层","A12",1,17,"02",74.6]
[999,"春晖园西苑/住宅-A12-2-1701","春晖园西苑","爱民区","顶层","A12",2,17,"01",78]
[1000,"春晖园西苑/住宅-A12-2-1702","春晖园西苑","爱民区","顶层","A12",2,17,"02",74.6]
[1001,"春晖园西苑/住宅-A12-2-1703","春晖园西苑","爱民区","顶层","A12",2,17,"03",75.3]
[1002,"春晖园西苑/住宅-A13-1-1702","春晖园西苑","爱民区","顶层","A13",1,17,"02",74.6]
[1003,"春晖园西苑/住宅-A13-1-1703","春晖园西苑","爱民区","顶层","A13",1,17,"03",78]
[1004,"春晖园西苑/住宅-A13-2-1701","春晖园西苑","爱民区","顶层","A13",2,17,"01",78]
[1005,"春晖园西苑/住宅-A13-2-1702","春晖园西苑","爱民区","顶层","A13",2,17,"02",74.6]
[1006,"春晖园西苑/住宅-A14-1-1701","春晖园西苑","爱民区","顶层","A14",1,17,"01",76.61]
[1007,"春晖园西苑/住宅-A14-1-1703","春晖园西苑","爱民区","顶层","A14",1,17,"03",76.37]
[1008,"春晖园西苑/住宅-A14-2-1701","春晖园西苑","爱民区","顶层","A14",2,17,"01",76.37]
[1009,"春晖园西苑/住宅-A14-2-1703","春晖园西苑","爱民区","顶层","A14",2,17,"03",76.61]
[1010,"春晖园西苑/住宅-A15-1-701","春晖园西苑","爱民区","顶层","A15",1,7,"01",64.9]
[1011,"春晖园西苑/住宅-A15-1-703","春晖园西苑","爱民区","顶层","A15",1,7,"03",56.9]
[1012,"春晖园西苑/住宅-A15-2-701","春晖园西苑","爱民区","顶层","A15",2,7,"01",56.9]
[1013,"春晖园西苑/住宅-A15-2-702","春晖园西苑","爱民区","顶层","A15",2,7,"02",50.7]
[1014,"春晖园西苑/住宅-A15-2-703","春晖园西苑","爱民区","顶层","A15",2,7,"03",64.9]
[1015,"春晖园西苑/住宅-A15-3-702","春晖园西苑","爱民区","顶层","A15",3,7,"02",50.7]
[1016,"春晖园西苑/住宅-A15-3-703","春晖园西苑","爱民区","顶层","A15",3,7,"03",64.9]
[1017,"春晖园西苑/住宅-A15-4-702","春晖园西苑","爱民区","顶层","A15",4,7,"02",51.1]
[1018,"春晖园西苑/住宅-A15-4-703","春晖园西苑","爱民区","顶层","A15",4,7,"03",74.8]
[1019,"春晖园西苑/住宅-A15-4-704","春晖园西苑","爱民区","顶层","A15",4,7,"04",61.78]
[1020,"春晖园西苑/住宅-A15-4-604","春晖园西苑","爱民区",0,"A15",4,6,"04",62.97]
[1021,"春晖园西苑/住宅-A16-1-701","春晖园西苑","爱民区","顶层","A16",1,7,"01",73.3]
[1022,"春晖园西苑/住宅-A16-1-702","春晖园西苑","爱民区","顶层","A16",1,7,"02",71.5]
[1023,"春晖园西苑/住宅-A16-1-601","春晖园西苑","爱民区",0,"A16",1,6,"01",73.3]
[1024,"春晖园西苑/住宅-A16-2-701","春晖园西苑","爱民区","顶层","A16",2,7,"01",73.3]
[1025,"春晖园西苑/住宅-A16-2-702","春晖园西苑","爱民区","顶层","A16",2,7,"02",71.5]
[1026,"春晖园西苑/住宅-A16-2-601","春晖园西苑","爱民区",0,"A16",2,6,"01",73.3]
[1027,"春晖园西苑/住宅-A16-3-701","春晖园西苑","爱民区","顶层","A16",3,7,"01",71.5]
[1028,"春晖园西苑/住宅-A16-3-702","春晖园西苑","爱民区","顶层","A16",3,7,"02",73.3]
[1029,"春晖园西苑/住宅-A16-3-602","春晖园西苑","爱民区",0,"A16",3,6,"02",73.3]
[1030,"春晖园西苑/住宅-A16-4-701","春晖园西苑","爱民区","顶层","A16",4,7,"01",71.5]
[1031,"春晖园西苑/住宅-A16-4-702","春晖园西苑","爱民区","顶层","A16",4,7,"02",73.3]
[1032,"春晖园西苑/住宅-A16-4-601","春晖园西苑","爱民区",0,"A16",4,6,"01",71.5]
[1033,"春晖园西苑/住宅-A16-4-602","春晖园西苑","爱民区",0,"A16",4,6,"02",73.3]
[1034,"春晖园西苑/住宅-A17-1-701","春晖园西苑","爱民区","顶层","A17",1,7,"01",66.78]
[1035,"春晖园西苑/住宅-A17-1-702","春晖园西苑","爱民区","顶层","A17",1,7,"02",69.2]
[1036,"春晖园西苑/住宅-A17-1-601","春晖园西苑","爱民区",0,"A17",1,6,"01",66.78]
[1037,"春晖园西苑/住宅-A17-1-602","春晖园西苑","爱民区",0,"A17",1,6,"02",69.2]
[1038,"春晖园西苑/住宅-A17-2-701","春晖园西苑","爱民区","顶层","A17",2,7,"01",66.78]
[1039,"春晖园西苑/住宅-A17-2-702","春晖园西苑","爱民区","顶层","A17",2,7,"02",69.2]
[1040,"春晖园西苑/住宅-A17-3-701","春晖园西苑","爱民区","顶层","A17",3,7,"01",69.2]
[1041,"春晖园西苑/住宅-A17-3-702","春晖园西苑","爱民区","顶层","A17",3,7,"02",66.78]
[1042,"春晖园西苑/住宅-A17-3-601","春晖园西苑","爱民区",0,"A17",3,6,"01",69.2]
[1043,"春晖园西苑/住宅-A17-4-701","春晖园西苑","爱民区","顶层","A17",4,7,"01",69.2]
[1044,"春晖园西苑/住宅-A17-4-702","春晖园西苑","爱民区","顶层","A17",4,7,"02",66.78]